BEGIN:VCALENDAR
VERSION:2.0
PRODID:-//Austin AI Alliance - ECPv6.15.20//NONSGML v1.0//EN
CALSCALE:GREGORIAN
METHOD:PUBLISH
X-ORIGINAL-URL:https://austin-ai.org
X-WR-CALDESC:Events for Austin AI Alliance
REFRESH-INTERVAL;VALUE=DURATION:PT1H
X-Robots-Tag:noindex
X-PUBLISHED-TTL:PT1H
BEGIN:VTIMEZONE
TZID:America/Chicago
BEGIN:DAYLIGHT
TZOFFSETFROM:-0600
TZOFFSETTO:-0500
TZNAME:CDT
DTSTART:20240310T080000
END:DAYLIGHT
BEGIN:STANDARD
TZOFFSETFROM:-0500
TZOFFSETTO:-0600
TZNAME:CST
DTSTART:20241103T070000
END:STANDARD
BEGIN:DAYLIGHT
TZOFFSETFROM:-0600
TZOFFSETTO:-0500
TZNAME:CDT
DTSTART:20250309T080000
END:DAYLIGHT
BEGIN:STANDARD
TZOFFSETFROM:-0500
TZOFFSETTO:-0600
TZNAME:CST
DTSTART:20251102T070000
END:STANDARD
BEGIN:DAYLIGHT
TZOFFSETFROM:-0600
TZOFFSETTO:-0500
TZNAME:CDT
DTSTART:20260308T080000
END:DAYLIGHT
BEGIN:STANDARD
TZOFFSETFROM:-0500
TZOFFSETTO:-0600
TZNAME:CST
DTSTART:20261101T070000
END:STANDARD
END:VTIMEZONE
BEGIN:VEVENT
DTSTART;TZID=America/Chicago:20251206T100000
DTEND;TZID=America/Chicago:20251206T170000
DTSTAMP:20260422T111745
CREATED:20251113T003800Z
LAST-MODIFIED:20251113T003800Z
UID:10000549-1765015200-1765040400@austin-ai.org
SUMMARY:Supercharge Your Storytelling: Elite AI Content Workshop
DESCRIPTION:Learn how to turn your ideas into cinematic content – FAST – using the power of AI. \nStep directly into the creative revolution where your wildest ideas move from spark to screen in a single day. Whether you’re a filmmaker\, brand\, coach\, designer\, or digital creator\, this hands-on workshop will transform how you make content forever. \nSkip the YouTube rabbit hole and endless trial-and-error. Instead\, join a guided\, hands-on intensive\, in which Helix will share the exact tools\, workflows\, and techniques powering the world’s most eye-catching content\, so you can unlock cinematic potential with AI\, no matter your skill level or background.​ \nYou’ll learn how to:\n– Craft compelling scripts and stories designed to captivate\n– Design unique characters\, visuals\, and scenes\n– Generate pro-grade voiceovers and music\n– Seamlessly edit and assemble full videos\, end-to-end\n– Master the creative pipeline\, discover the best AI tools for on the market and learn how to connect them for maximum impact \nYou’ll walk away with a creative roadmap\, prompt frameworks\, and the confidence to bring your own ideas to life. \nYou’ll Receive: \nFull-day immersive workshop with live demos and Q&A\nAI Creator Starter Kit (tool list\, templates\, and prompt guide)\nAccess to an online community of Austin AI content creators\nEarly entry to follow-up materials and future labs before they go public \nWho It’s For:\nFilmmakers\, educators\, coaches\, companies\, content creators\, entrepreneurs and anyone ready to push the boundaries of storytelling and stay ahead in the age of AI.
URL:https://austin-ai.org/event/supercharge-your-storytelling-elite-ai-content-workshop/
LOCATION:TBD
ATTACH;FMTTYPE=image/png:https://austin-ai.org/wp-content/uploads/2025/11/Content-Creation-Banner-scaled.png
ORGANIZER;CN="Helix Wolfson":MAILTO:helixew@gmail.com
END:VEVENT
END:VCALENDAR