BEGIN:VCALENDAR
VERSION:2.0
PRODID:-//Austin AI Alliance - ECPv6.15.20//NONSGML v1.0//EN
CALSCALE:GREGORIAN
METHOD:PUBLISH
X-ORIGINAL-URL:https://austin-ai.org
X-WR-CALDESC:Events for Austin AI Alliance
REFRESH-INTERVAL;VALUE=DURATION:PT1H
X-Robots-Tag:noindex
X-PUBLISHED-TTL:PT1H
BEGIN:VTIMEZONE
TZID:America/Chicago
BEGIN:DAYLIGHT
TZOFFSETFROM:-0600
TZOFFSETTO:-0500
TZNAME:CDT
DTSTART:20240310T080000
END:DAYLIGHT
BEGIN:STANDARD
TZOFFSETFROM:-0500
TZOFFSETTO:-0600
TZNAME:CST
DTSTART:20241103T070000
END:STANDARD
BEGIN:DAYLIGHT
TZOFFSETFROM:-0600
TZOFFSETTO:-0500
TZNAME:CDT
DTSTART:20250309T080000
END:DAYLIGHT
BEGIN:STANDARD
TZOFFSETFROM:-0500
TZOFFSETTO:-0600
TZNAME:CST
DTSTART:20251102T070000
END:STANDARD
BEGIN:DAYLIGHT
TZOFFSETFROM:-0600
TZOFFSETTO:-0500
TZNAME:CDT
DTSTART:20260308T080000
END:DAYLIGHT
BEGIN:STANDARD
TZOFFSETFROM:-0500
TZOFFSETTO:-0600
TZNAME:CST
DTSTART:20261101T070000
END:STANDARD
END:VTIMEZONE
BEGIN:VEVENT
DTSTART;TZID=America/Chicago:20250827T180000
DTEND;TZID=America/Chicago:20250827T200000
DTSTAMP:20260419T162509
CREATED:20250825T162730Z
LAST-MODIFIED:20250825T162730Z
UID:10000073-1756317600-1756324800@austin-ai.org
SUMMARY:Femme Founder Bootcamp S2 - Info Session!
DESCRIPTION:Join us for an IRL preview of Season 2 of the Femme Founder Bootcamp\, a virtual cohort-based program designed to equip femme-identifying entrepreneurs with the tools\, insights\, and network to thrive in Web3\, AI\, and emerging tech. \n​This info session\, co-hosted by ATX Women in Web3 and Austin Women in Technology\, will highlight what to expect from both the Bootcamp\, including new content\, forum-based workshops\, and top-notch instructors (as always!). Whether you’re a first-time founder just getting started or a seasoned pro seeking a strategic reboot and sense of community\, the Bootcamp offers something for everyone. \n​Hear from program organizers and special guests as we share details on the fall schedule\, how to get involved as a founder or mentor\, and the mission behind the program. \n​✨Special Guest: Sandy Carter is the author of AI First\, Human Always and a leading voice in AI\, blockchain\, and emerging tech. She has held senior leadership roles at IBM and AWS\, is the Chief Business Officer of Unstoppable Domains (valued at unicorn status after a $73M raise)\, and chairs Applied AI for The Digital Economist. Sandy serves on the public board of Altair\, acquired by Siemens for $11B\, and has been recognized as Microsoft MSN Top 10 AI Entrepreneur\, AI Executive of the Year by the World Leaders of Data and AI\, and Executive Woman of the Year by Gen AI Women. A sought-after keynote speaker\, she is known for blending innovation\, strategy\, and real-world impact to shape the future of technology. \nThank you to our partners!\n​Silicon Valley Bank is the bank of the world’s most innovative companies and investors\, serving the unique needs of clients in technology\, life science\, healthcare\, and venture capital industries. A division of First Citizens Bank (NASDAQ: FCNCA)\, a top 20 U.S. financial institution with over $200 billion in assets. \nStand With Crypto is a grassroots movement advocating for clear\, thoughtful\, and innovation-forward crypto legislation in the United States. Backed by millions of advocates and builders across the country\, Stand With Crypto believes that good policy unlocks economic opportunity\, protects consumers\, and encourages responsible innovation. We’re proud to partner on this initiative to empower the next generation of founders building in blockchain\, AI\, and beyond. \nSKG is a woman-owned tech-enabled workspace design and commercial furniture dealership in central Texas. SKG creates high-functioning\, beautifully furnished environments for their clients that maximize space\, enhance performance\, and transform how organizations work. With decades of expertise\, top-tier product offerings\, and a full-service approach\, SKG turns everyday spaces into destinations where people want to be.
URL:https://austin-ai.org/event/femme-founder-bootcamp/
LOCATION:SKG\, 2010 S Lamar Blvd Suite 125\, Austin\, Tx\, 78704
ATTACH;FMTTYPE=image/avif:https://austin-ai.org/wp-content/uploads/2025/08/femmefounder.avif
END:VEVENT
END:VCALENDAR