BEGIN:VCALENDAR
VERSION:2.0
PRODID:-//Austin AI Alliance - ECPv6.15.20//NONSGML v1.0//EN
CALSCALE:GREGORIAN
METHOD:PUBLISH
X-ORIGINAL-URL:https://austin-ai.org
X-WR-CALDESC:Events for Austin AI Alliance
REFRESH-INTERVAL;VALUE=DURATION:PT1H
X-Robots-Tag:noindex
X-PUBLISHED-TTL:PT1H
BEGIN:VTIMEZONE
TZID:UTC
BEGIN:STANDARD
TZOFFSETFROM:+0000
TZOFFSETTO:+0000
TZNAME:UTC
DTSTART:20240101T000000
END:STANDARD
END:VTIMEZONE
BEGIN:VEVENT
DTSTART;TZID=UTC:20251026T170000
DTEND;TZID=UTC:20251026T210000
DTSTAMP:20260419T125410
CREATED:20250925T211746Z
LAST-MODIFIED:20251023T213625Z
UID:10000132-1761498000-1761512400@austin-ai.org
SUMMARY:Hack Fair at Austin Tech Week
DESCRIPTION:Get up-to-date information at: https://luma.com/fall-hack-fair\nAddress:\nCheck event page for more details.\nHosted by Jake O’Shea
URL:https://austin-ai.org/event/hack-fair-at-austin-tech-week/
LOCATION:https://luma.com/event/evt-g4Z4YljgtD72f97
ORGANIZER;CN="Jake O'Shea":MAILTO:calendar-invite@lu.ma
END:VEVENT
END:VCALENDAR