BEGIN:VCALENDAR
VERSION:2.0
PRODID:-//Austin AI Alliance - ECPv6.15.20//NONSGML v1.0//EN
CALSCALE:GREGORIAN
METHOD:PUBLISH
X-ORIGINAL-URL:https://austin-ai.org
X-WR-CALDESC:Events for Austin AI Alliance
REFRESH-INTERVAL;VALUE=DURATION:PT1H
X-Robots-Tag:noindex
X-PUBLISHED-TTL:PT1H
BEGIN:VTIMEZONE
TZID:UTC
BEGIN:STANDARD
TZOFFSETFROM:+0000
TZOFFSETTO:+0000
TZNAME:UTC
DTSTART:20250101T000000
END:STANDARD
END:VTIMEZONE
BEGIN:VEVENT
DTSTART;TZID=UTC:20260405T180000
DTEND;TZID=UTC:20260405T203000
DTSTAMP:20260420T113400
CREATED:20260403T011016Z
LAST-MODIFIED:20260403T011016Z
UID:10000656-1775412000-1775421000@austin-ai.org
SUMMARY:The Ai Implementation Club
DESCRIPTION:Get up-to-date information at: https://luma.com/bdlligqy  Address: Check event page for more details.  Hosted by Chrissy McDannell\, Jake O’Shea & Gary Sheng
URL:https://austin-ai.org/event/the-ai-implementation-club/
LOCATION:https://luma.com/event/evt-fk6O5fFBQvafvb1
ORGANIZER;CN="Chrissy McDannell":MAILTO:calendar-invite@lu.ma
END:VEVENT
END:VCALENDAR