BEGIN:VCALENDAR
VERSION:2.0
PRODID:-//Austin AI Alliance - ECPv6.15.20//NONSGML v1.0//EN
CALSCALE:GREGORIAN
METHOD:PUBLISH
X-WR-CALNAME:Austin AI Alliance
X-ORIGINAL-URL:https://austin-ai.org
X-WR-CALDESC:Events for Austin AI Alliance
REFRESH-INTERVAL;VALUE=DURATION:PT1H
X-Robots-Tag:noindex
X-PUBLISHED-TTL:PT1H
BEGIN:VTIMEZONE
TZID:UTC
BEGIN:STANDARD
TZOFFSETFROM:+0000
TZOFFSETTO:+0000
TZNAME:UTC
DTSTART:20240101T000000
END:STANDARD
END:VTIMEZONE
BEGIN:VEVENT
DTSTART;TZID=UTC:20251214T180000
DTEND;TZID=UTC:20251214T220000
DTSTAMP:20260420T170317
CREATED:20251127T215428Z
LAST-MODIFIED:20251211T215940Z
UID:10000556-1765735200-1765749600@austin-ai.org
SUMMARY:Hack Fair - DGX Spark Frontier Hackathon
DESCRIPTION:Get up-to-date information at: https://luma.com/dgx-hackfair\nAddress:\nCheck event page for more details.\nHosted by Jake O’Shea
URL:https://austin-ai.org/event/hack-fair-dgx-spark-frontier-hackathon/
LOCATION:https://luma.com/event/evt-9SrOfB2Hh7mF3jE
ORGANIZER;CN="Jake O'Shea":MAILTO:calendar-invite@lu.ma
END:VEVENT
END:VCALENDAR