BEGIN:VCALENDAR
VERSION:2.0
PRODID:-//Austin AI Alliance - ECPv6.15.20//NONSGML v1.0//EN
CALSCALE:GREGORIAN
METHOD:PUBLISH
X-WR-CALNAME:Austin AI Alliance
X-ORIGINAL-URL:https://austin-ai.org
X-WR-CALDESC:Events for Austin AI Alliance
REFRESH-INTERVAL;VALUE=DURATION:PT1H
X-Robots-Tag:noindex
X-PUBLISHED-TTL:PT1H
BEGIN:VTIMEZONE
TZID:America/Chicago
BEGIN:DAYLIGHT
TZOFFSETFROM:-0600
TZOFFSETTO:-0500
TZNAME:CDT
DTSTART:20240310T080000
END:DAYLIGHT
BEGIN:STANDARD
TZOFFSETFROM:-0500
TZOFFSETTO:-0600
TZNAME:CST
DTSTART:20241103T070000
END:STANDARD
BEGIN:DAYLIGHT
TZOFFSETFROM:-0600
TZOFFSETTO:-0500
TZNAME:CDT
DTSTART:20250309T080000
END:DAYLIGHT
BEGIN:STANDARD
TZOFFSETFROM:-0500
TZOFFSETTO:-0600
TZNAME:CST
DTSTART:20251102T070000
END:STANDARD
BEGIN:DAYLIGHT
TZOFFSETFROM:-0600
TZOFFSETTO:-0500
TZNAME:CDT
DTSTART:20260308T080000
END:DAYLIGHT
BEGIN:STANDARD
TZOFFSETFROM:-0500
TZOFFSETTO:-0600
TZNAME:CST
DTSTART:20261101T070000
END:STANDARD
END:VTIMEZONE
BEGIN:VEVENT
DTSTART;TZID=America/Chicago:20250621T160000
DTEND;TZID=America/Chicago:20250621T173000
DTSTAMP:20260421T032935
CREATED:20250619T162657Z
LAST-MODIFIED:20250619T162657Z
UID:10000021-1750521600-1750527000@austin-ai.org
SUMMARY:Mastering Entrepreneurship: Beyond AI
DESCRIPTION:Welcome to Mastering Entrepreneurship: Beyond AI! \nJoin us at the GreenSprout Hub Office for an exciting event where we delve into the world of entrepreneurship and the impact of artificial intelligence. \nDiscover how AI is revolutionizing the business landscape and learn how to leverage this technology to propel your entrepreneurial ventures to new heights. \nNetwork with like-minded individuals\, gain valuable insights from industry experts\, and master the skills needed to succeed in today’s competitive market. \nDon’t miss out on this opportunity to take your entrepreneurship journey to the next level!
URL:https://austin-ai.org/event/mastering-entrepreneurship-beyond-ai/
LOCATION:GreenSprout Hub Office\, 14735 Fitzhugh Road\, Austin\, 78736\, United States
ATTACH;FMTTYPE=image/png:https://austin-ai.org/wp-content/uploads/2025/06/Screenshot-2025-06-19-at-11.21.48-AM.png
END:VEVENT
END:VCALENDAR