BEGIN:VCALENDAR
VERSION:2.0
PRODID:-//Austin AI Alliance - ECPv6.15.20//NONSGML v1.0//EN
CALSCALE:GREGORIAN
METHOD:PUBLISH
X-WR-CALNAME:Austin AI Alliance
X-ORIGINAL-URL:https://austin-ai.org
X-WR-CALDESC:Events for Austin AI Alliance
REFRESH-INTERVAL;VALUE=DURATION:PT1H
X-Robots-Tag:noindex
X-PUBLISHED-TTL:PT1H
BEGIN:VTIMEZONE
TZID:America/Chicago
BEGIN:DAYLIGHT
TZOFFSETFROM:-0600
TZOFFSETTO:-0500
TZNAME:CDT
DTSTART:20240310T080000
END:DAYLIGHT
BEGIN:STANDARD
TZOFFSETFROM:-0500
TZOFFSETTO:-0600
TZNAME:CST
DTSTART:20241103T070000
END:STANDARD
BEGIN:DAYLIGHT
TZOFFSETFROM:-0600
TZOFFSETTO:-0500
TZNAME:CDT
DTSTART:20250309T080000
END:DAYLIGHT
BEGIN:STANDARD
TZOFFSETFROM:-0500
TZOFFSETTO:-0600
TZNAME:CST
DTSTART:20251102T070000
END:STANDARD
BEGIN:DAYLIGHT
TZOFFSETFROM:-0600
TZOFFSETTO:-0500
TZNAME:CDT
DTSTART:20260308T080000
END:DAYLIGHT
BEGIN:STANDARD
TZOFFSETFROM:-0500
TZOFFSETTO:-0600
TZNAME:CST
DTSTART:20261101T070000
END:STANDARD
END:VTIMEZONE
BEGIN:VEVENT
DTSTART;TZID=America/Chicago:20251110T173000
DTEND;TZID=America/Chicago:20251110T193000
DTSTAMP:20260420T095519
CREATED:20251012T151912Z
LAST-MODIFIED:20251110T225653Z
UID:10000143-1762795800-1762803000@austin-ai.org
SUMMARY:Level Up: An AI-Assisted Coding Workshop & Showdown
DESCRIPTION:Join us for an in-person workshop on Monday\, November 10 at Capital Factory!\n\n\nReady to move beyond the hype and see what AI coding assistants can really do? The tools are getting smarter\, and it’s time to sharpen your skills. \nFollowing up on our ‘Software September’ series\, the Austin Forum is hosting a fun\, hands-on event to explore the world of AI-assisted coding. This isn’t a lecture—it’s an interactive night to see live demos\, share your favorite tips and tricks\, and put your skills to the test. \nJoin your fellow developers and tech enthusiasts to: \n\nSee Demos: Discover the latest features in tools like GitHub Copilot\, Tabnine\, and more.\nShare Tips: Learn pro-level prompts and workflows from your peers.\nCompete! Enter our friendly coding contest for bragging rights and cool prizes. \n\nWhether you’re an expert looking to optimize your workflow or a newcomer curious about these powerful tools\, this event will help you become a more effective and efficient developer. \n \nAttendance Instructions\nAll participants must register for this event via Eventbrite. This will be an in-person event held at Capital Factory in the Captain America Room. \nParking information can be found here.
URL:https://austin-ai.org/event/level-up-an-ai-assisted-coding-workshop-showdown/
LOCATION:Capital Factory\, Captain America room\, 701 Brazos St\, Austin\, TX\, 78701\, United States
ATTACH;FMTTYPE=image/jpeg:https://austin-ai.org/wp-content/uploads/2025/10/dc3c505ad733eef040a7d5de65ba5338.jpg
END:VEVENT
END:VCALENDAR