BEGIN:VCALENDAR
VERSION:2.0
PRODID:-//Austin AI Alliance - ECPv6.15.20//NONSGML v1.0//EN
CALSCALE:GREGORIAN
METHOD:PUBLISH
X-ORIGINAL-URL:https://austin-ai.org
X-WR-CALDESC:Events for Austin AI Alliance
REFRESH-INTERVAL;VALUE=DURATION:PT1H
X-Robots-Tag:noindex
X-PUBLISHED-TTL:PT1H
BEGIN:VTIMEZONE
TZID:America/Chicago
BEGIN:DAYLIGHT
TZOFFSETFROM:-0600
TZOFFSETTO:-0500
TZNAME:CDT
DTSTART:20240310T080000
END:DAYLIGHT
BEGIN:STANDARD
TZOFFSETFROM:-0500
TZOFFSETTO:-0600
TZNAME:CST
DTSTART:20241103T070000
END:STANDARD
BEGIN:DAYLIGHT
TZOFFSETFROM:-0600
TZOFFSETTO:-0500
TZNAME:CDT
DTSTART:20250309T080000
END:DAYLIGHT
BEGIN:STANDARD
TZOFFSETFROM:-0500
TZOFFSETTO:-0600
TZNAME:CST
DTSTART:20251102T070000
END:STANDARD
BEGIN:DAYLIGHT
TZOFFSETFROM:-0600
TZOFFSETTO:-0500
TZNAME:CDT
DTSTART:20260308T080000
END:DAYLIGHT
BEGIN:STANDARD
TZOFFSETFROM:-0500
TZOFFSETTO:-0600
TZNAME:CST
DTSTART:20261101T070000
END:STANDARD
END:VTIMEZONE
BEGIN:VEVENT
DTSTART;TZID=America/Chicago:20250719T160000
DTEND;TZID=America/Chicago:20250719T180000
DTSTAMP:20260422T090256
CREATED:20250718T143919Z
LAST-MODIFIED:20250718T143919Z
UID:10000042-1752940800-1752948000@austin-ai.org
SUMMARY:GenAI Training Workshop
DESCRIPTION:Explore the practical power of GenAI at our hands-on Austin workshop\, hosted at The Brewtorium on July 19th confirmed at 4PM-6PM is a placeholder. Alex Kalish\, a senior manager at Amazon\, views are my own\, has guided multiple executives and personally trained more than 2\,000 professionals in the past three months; he will share a clear adoption playbook plus personal and professional generative AI workflows you can start using that night. Bring your laptop for live walkthroughs. Space is limited\, so reserve your seat now. Free parking is available in the Brewtorium lot and adjacent garage. \nSchedule of Events\n4:00PM – 4:30PM Mingle\, chat\n4:30PM – 5:30PM Workshop (BYO Laptop)\n5:30PM – 6:00PM Mingle\, chat
URL:https://austin-ai.org/event/genai-training-workshop/
LOCATION:Brewtorium Austin\, 6015 Dillard Cir A\, Austin\, TX\, 78752\, United States
ATTACH;FMTTYPE=image/avif:https://austin-ai.org/wp-content/uploads/2025/07/GenAI-Training-Workshop.avif
END:VEVENT
END:VCALENDAR