BEGIN:VCALENDAR
VERSION:2.0
PRODID:-//Austin AI Alliance - ECPv6.15.20//NONSGML v1.0//EN
CALSCALE:GREGORIAN
METHOD:PUBLISH
X-WR-CALNAME:Austin AI Alliance
X-ORIGINAL-URL:https://austin-ai.org
X-WR-CALDESC:Events for Austin AI Alliance
REFRESH-INTERVAL;VALUE=DURATION:PT1H
X-Robots-Tag:noindex
X-PUBLISHED-TTL:PT1H
BEGIN:VTIMEZONE
TZID:America/Chicago
BEGIN:DAYLIGHT
TZOFFSETFROM:-0600
TZOFFSETTO:-0500
TZNAME:CDT
DTSTART:20240310T080000
END:DAYLIGHT
BEGIN:STANDARD
TZOFFSETFROM:-0500
TZOFFSETTO:-0600
TZNAME:CST
DTSTART:20241103T070000
END:STANDARD
BEGIN:DAYLIGHT
TZOFFSETFROM:-0600
TZOFFSETTO:-0500
TZNAME:CDT
DTSTART:20250309T080000
END:DAYLIGHT
BEGIN:STANDARD
TZOFFSETFROM:-0500
TZOFFSETTO:-0600
TZNAME:CST
DTSTART:20251102T070000
END:STANDARD
BEGIN:DAYLIGHT
TZOFFSETFROM:-0600
TZOFFSETTO:-0500
TZNAME:CDT
DTSTART:20260308T080000
END:DAYLIGHT
BEGIN:STANDARD
TZOFFSETFROM:-0500
TZOFFSETTO:-0600
TZNAME:CST
DTSTART:20261101T070000
END:STANDARD
END:VTIMEZONE
BEGIN:VEVENT
DTSTART;TZID=America/Chicago:20250626T180000
DTEND;TZID=America/Chicago:20250626T200000
DTSTAMP:20260421T032738
CREATED:20250626T173027Z
LAST-MODIFIED:20250626T173027Z
UID:10000033-1750960800-1750968000@austin-ai.org
SUMMARY:ACM Austin x Kubernetes Austin Meetup – June 26th!
DESCRIPTION:Details\nWe’re excited to invite you to a collaborative evening of cutting-edge cloud-native talks\, networking\, and community building! Join us for our next in-person meetup on Wednesday\, June 26th\, at 6:00 PM at the WSO2 office in North Austin.\n\n\n📍 Location:\nWSO2 Office\n10900 Stonelake Blvd\, Building 2\, Suite 100\nAustin\, TX 78759 \n🎟️ RSVP & Full Details:\nhttps://community.cncf.io/events/details/cncf-kubernetes-austin-presents-apache-iceberg-and-privacy-enhanced-technologies-on-k8s/ \n🗓️ Agenda: \n\n6:00 – 6:30 PM: Food + Socializing (network with fellow devs and cloud enthusiasts!)\n6:30 – 7:15 PM: Deploying an Apache Iceberg Data Lakehouse With Kubernetes\n🎙️ Alex Mercer (Dremio)\n7:20 – 8:00 PM: Distributed Cloud Computing: Enhancing Privacy with AI-Driven Solutions\n🎙️ Rohit Garg (Meta)\n\n✨ This meetup is proudly sponsored by Dynatrace\, Devtron\, and **SafeDep.io** – thank you for supporting the community! \n🔗 Stay Connected:\nFollow us for updates and future events \n💡 Whether you’re an engineer\, researcher\, student\, or cloud enthusiast\, everyone is welcome. Come learn\, share\, and connect with the Austin cloud-native community!
URL:https://austin-ai.org/event/acm-austin-x-kubernetes-austin-meetup-june-26th/
LOCATION:ACM Austin\, 10900 Stonelake Blvd\, Austin\, TX\, 78759\, United States
ATTACH;FMTTYPE=image/avif:https://austin-ai.org/wp-content/uploads/2025/06/kubernates.avif
END:VEVENT
END:VCALENDAR