BEGIN:VCALENDAR
VERSION:2.0
PRODID:-//Austin AI Alliance - ECPv6.15.20//NONSGML v1.0//EN
CALSCALE:GREGORIAN
METHOD:PUBLISH
X-ORIGINAL-URL:https://austin-ai.org
X-WR-CALDESC:Events for Austin AI Alliance
REFRESH-INTERVAL;VALUE=DURATION:PT1H
X-Robots-Tag:noindex
X-PUBLISHED-TTL:PT1H
BEGIN:VTIMEZONE
TZID:America/Chicago
BEGIN:DAYLIGHT
TZOFFSETFROM:-0600
TZOFFSETTO:-0500
TZNAME:CDT
DTSTART:20240310T080000
END:DAYLIGHT
BEGIN:STANDARD
TZOFFSETFROM:-0500
TZOFFSETTO:-0600
TZNAME:CST
DTSTART:20241103T070000
END:STANDARD
BEGIN:DAYLIGHT
TZOFFSETFROM:-0600
TZOFFSETTO:-0500
TZNAME:CDT
DTSTART:20250309T080000
END:DAYLIGHT
BEGIN:STANDARD
TZOFFSETFROM:-0500
TZOFFSETTO:-0600
TZNAME:CST
DTSTART:20251102T070000
END:STANDARD
BEGIN:DAYLIGHT
TZOFFSETFROM:-0600
TZOFFSETTO:-0500
TZNAME:CDT
DTSTART:20260308T080000
END:DAYLIGHT
BEGIN:STANDARD
TZOFFSETFROM:-0500
TZOFFSETTO:-0600
TZNAME:CST
DTSTART:20261101T070000
END:STANDARD
END:VTIMEZONE
BEGIN:VEVENT
DTSTART;TZID=America/Chicago:20250918T173000
DTEND;TZID=America/Chicago:20250918T193000
DTSTAMP:20260422T053622
CREATED:20250906T174038Z
LAST-MODIFIED:20250906T174038Z
UID:10000078-1758216600-1758223800@austin-ai.org
SUMMARY:North Austin AI Meetup (NAAIM)
DESCRIPTION:NOTE THE NEW LOCATION FOR THIS EDITION \nWHO IS THIS MEETUP FOR?: …AI-curious professionals\, tech enthusiasts\, and anyone exploring the real-world impact of artificial intelligence — whether you code or not. \nWHY THIS MEETUP? I launched this because I’m on the same journey — trying to stay ahead\, stay curious\, and stay connected to others learning about AI. You don’t have to know everything — just be willing to show up and share. \nWELCOME AND DETAILS:Welcome to the North Austin AI Meetup (NAAIM)! Join us for exciting discussions and networking opportunities with fellow AI enthusiasts. This in-person event is at the Austin Community College (ACC) Highland Campus. 6101 Highland Campus Dr.\, Austin\, TX 78752. Bldg. 1000\, Rm 2207 (2nd floor). Don’t miss out on this chance to connect with like-minded individuals and stay updated on the latest trends in artificial intelligence. See you there! \nGETTING HERE:>IMPORTANT: \nACC Highland Campus\n6101 Highland Campus Dr.\nAustin\, TX 78752 \nBldg. 1000\, Rm 2207 (2nd floor). Park in lot off Highland Mall Blvd (free)\nEnter Building 1000 (you will be entering the 2nd floor from the parking lot) \nLINK to interior map to the room: map too room 2207. \nAnd….a big thank you to Courtney Mlinar for finding a room at a fantastic campus! \n\n\n5:30 PM – 6:00 PM – Arrive – Networking \n\n\n\n\n6:00 PM – 7:00 PM – Meeting Start: Main AI Discussion / Event \n\n\n\n\n7:00 PM – 7:30 PM – Post Meeting Networking \n\n\n\n\nOptional post-meetup: we’ll head to Easy Tiger at The Linc
URL:https://austin-ai.org/event/north-austin-ai-meetup-naaim/
LOCATION:ACC Highland Campus\, 6101 Highland Campus Dr. Bldg. 1000\, Rm 2207 (2nd floor)\, Austin\, TX\, 78752\, United States
ATTACH;FMTTYPE=image/png:https://austin-ai.org/wp-content/uploads/2025/09/Screenshot-2025-09-06-at-12.39.14-PM.png
END:VEVENT
END:VCALENDAR