BEGIN:VCALENDAR
VERSION:2.0
PRODID:-//Austin AI Alliance - ECPv6.15.20//NONSGML v1.0//EN
CALSCALE:GREGORIAN
METHOD:PUBLISH
X-WR-CALNAME:Austin AI Alliance
X-ORIGINAL-URL:https://austin-ai.org
X-WR-CALDESC:Events for Austin AI Alliance
REFRESH-INTERVAL;VALUE=DURATION:PT1H
X-Robots-Tag:noindex
X-PUBLISHED-TTL:PT1H
BEGIN:VTIMEZONE
TZID:America/Chicago
BEGIN:DAYLIGHT
TZOFFSETFROM:-0600
TZOFFSETTO:-0500
TZNAME:CDT
DTSTART:20240310T080000
END:DAYLIGHT
BEGIN:STANDARD
TZOFFSETFROM:-0500
TZOFFSETTO:-0600
TZNAME:CST
DTSTART:20241103T070000
END:STANDARD
BEGIN:DAYLIGHT
TZOFFSETFROM:-0600
TZOFFSETTO:-0500
TZNAME:CDT
DTSTART:20250309T080000
END:DAYLIGHT
BEGIN:STANDARD
TZOFFSETFROM:-0500
TZOFFSETTO:-0600
TZNAME:CST
DTSTART:20251102T070000
END:STANDARD
BEGIN:DAYLIGHT
TZOFFSETFROM:-0600
TZOFFSETTO:-0500
TZNAME:CDT
DTSTART:20260308T080000
END:DAYLIGHT
BEGIN:STANDARD
TZOFFSETFROM:-0500
TZOFFSETTO:-0600
TZNAME:CST
DTSTART:20261101T070000
END:STANDARD
END:VTIMEZONE
BEGIN:VEVENT
DTSTART;TZID=America/Chicago:20250624T183000
DTEND;TZID=America/Chicago:20250624T200000
DTSTAMP:20260421T033044
CREATED:20250621T151259Z
LAST-MODIFIED:20250621T151259Z
UID:10000025-1750789800-1750795200@austin-ai.org
SUMMARY:AI & Go
DESCRIPTION:Join Women Who Go Austin for an insightful event on exploring AI & Go. Whether you are a seasoned Go developer or just starting out\, this event will provide valuable knowledge and informal discussion on how Go can become a player in the AI space. Connect with like-minded women in tech\, network with industry professionals\, and dive deep into the world of open source software development. Don’t miss this opportunity to enhance your skills and expand your knowledge in Golang and AI.
URL:https://austin-ai.org/event/ai-go/
LOCATION:Radio Coffee\, 4208 Manchaca\, Austin\, TX\, 78704\, United States
ATTACH;FMTTYPE=image/png:https://austin-ai.org/wp-content/uploads/2025/06/Screenshot-2025-06-21-at-10.09.57 AM.jpeg.png
END:VEVENT
END:VCALENDAR