BEGIN:VCALENDAR
VERSION:2.0
PRODID:-//Austin AI Alliance - ECPv6.15.20//NONSGML v1.0//EN
CALSCALE:GREGORIAN
METHOD:PUBLISH
X-ORIGINAL-URL:https://austin-ai.org
X-WR-CALDESC:Events for Austin AI Alliance
REFRESH-INTERVAL;VALUE=DURATION:PT1H
X-Robots-Tag:noindex
X-PUBLISHED-TTL:PT1H
BEGIN:VTIMEZONE
TZID:America/Chicago
BEGIN:DAYLIGHT
TZOFFSETFROM:-0600
TZOFFSETTO:-0500
TZNAME:CDT
DTSTART:20240310T080000
END:DAYLIGHT
BEGIN:STANDARD
TZOFFSETFROM:-0500
TZOFFSETTO:-0600
TZNAME:CST
DTSTART:20241103T070000
END:STANDARD
BEGIN:DAYLIGHT
TZOFFSETFROM:-0600
TZOFFSETTO:-0500
TZNAME:CDT
DTSTART:20250309T080000
END:DAYLIGHT
BEGIN:STANDARD
TZOFFSETFROM:-0500
TZOFFSETTO:-0600
TZNAME:CST
DTSTART:20251102T070000
END:STANDARD
BEGIN:DAYLIGHT
TZOFFSETFROM:-0600
TZOFFSETTO:-0500
TZNAME:CDT
DTSTART:20260308T080000
END:DAYLIGHT
BEGIN:STANDARD
TZOFFSETFROM:-0500
TZOFFSETTO:-0600
TZNAME:CST
DTSTART:20261101T070000
END:STANDARD
END:VTIMEZONE
BEGIN:VEVENT
DTSTART;TZID=America/Chicago:20250710T190000
DTEND;TZID=America/Chicago:20250710T210000
DTSTAMP:20260421T031419
CREATED:20250701T211515Z
LAST-MODIFIED:20250701T211515Z
UID:10000035-1752174000-1752181200@austin-ai.org
SUMMARY:Women in Data Science: Summer Meetup Hosted by Atlassian
DESCRIPTION:Details\n\n\nJoin us on Thursday\, July 10th at 7:00 PM for a relaxed evening of connection and conversation with fellow women working in data science and analytics. \nAtlassian is generously hosting this low-key gathering where we’ll create space to share experiences\, talk through career challenges\, and support one another in navigating the unique dynamics of our field. \nThere’s no formal agenda—just real conversation\, thoughtful insights\, and a chance to build community with others who get it. Whether you’re exploring new opportunities\, managing tough situations\, or just looking to connect\, you’re welcome here. \nOpen to all women in data at any career stage. We hope to see you there! \nPARKING INFORMATION: \nThere is a parking garage on the bottom floor where you’ll be able to park\, free of charge. Instructions to enter the building are detailed below.******** Instructions to enter building: ********\nFrom parking garage:\n* Take elevator to floor R1\n* Exit hallway to the right\n* Walk around to Atlassian’s front door\, ring the doorbell\, instruct that you are attending for the “Women in AI and Data Science” and they will let you in.\n* Check in at the front desk and text hosts Patrick: (210) 502-9459 or Denise: 512-461-7586\n* We will let you up to the meeting space on the 2nd floor\nFrom front door:\n* Ring the doorbell\, instruct that you are attending for the “Women in AI and Data Science” and they will let you in.\n* Check in at the front desk and text hosts Patrick: (210) 502-9459 or Denise: 512-461-7586\n* We will let you up to the meeting space on the 2nd floor\n***** Other *****\n* We are going to be meeting on the 2nd floor lobby.\n* We will have screens/HDMI ready for casting/presenting.\n* Atlassian will be providing pizza and beverages
URL:https://austin-ai.org/event/women-in-data-science-summer-meetup-hosted-by-atlassian/
LOCATION:Atlassian\, 1401 E 5th St. building 2\, Austin\, TX\, 78702\, United States
ATTACH;FMTTYPE=image/png:https://austin-ai.org/wp-content/uploads/2025/07/Screenshot-2025-07-01-at-4.06.11 PM.png
END:VEVENT
END:VCALENDAR