BEGIN:VCALENDAR
VERSION:2.0
PRODID:-//Austin AI Alliance - ECPv6.15.20//NONSGML v1.0//EN
CALSCALE:GREGORIAN
METHOD:PUBLISH
X-ORIGINAL-URL:https://austin-ai.org
X-WR-CALDESC:Events for Austin AI Alliance
REFRESH-INTERVAL;VALUE=DURATION:PT1H
X-Robots-Tag:noindex
X-PUBLISHED-TTL:PT1H
BEGIN:VTIMEZONE
TZID:America/Chicago
BEGIN:DAYLIGHT
TZOFFSETFROM:-0600
TZOFFSETTO:-0500
TZNAME:CDT
DTSTART:20240310T080000
END:DAYLIGHT
BEGIN:STANDARD
TZOFFSETFROM:-0500
TZOFFSETTO:-0600
TZNAME:CST
DTSTART:20241103T070000
END:STANDARD
BEGIN:DAYLIGHT
TZOFFSETFROM:-0600
TZOFFSETTO:-0500
TZNAME:CDT
DTSTART:20250309T080000
END:DAYLIGHT
BEGIN:STANDARD
TZOFFSETFROM:-0500
TZOFFSETTO:-0600
TZNAME:CST
DTSTART:20251102T070000
END:STANDARD
BEGIN:DAYLIGHT
TZOFFSETFROM:-0600
TZOFFSETTO:-0500
TZNAME:CDT
DTSTART:20260308T080000
END:DAYLIGHT
BEGIN:STANDARD
TZOFFSETFROM:-0500
TZOFFSETTO:-0600
TZNAME:CST
DTSTART:20261101T070000
END:STANDARD
BEGIN:DAYLIGHT
TZOFFSETFROM:-0600
TZOFFSETTO:-0500
TZNAME:CDT
DTSTART:20270314T080000
END:DAYLIGHT
BEGIN:STANDARD
TZOFFSETFROM:-0500
TZOFFSETTO:-0600
TZNAME:CST
DTSTART:20271107T070000
END:STANDARD
END:VTIMEZONE
BEGIN:VEVENT
DTSTART;TZID=America/Chicago:20260416T170000
DTEND;TZID=America/Chicago:20260416T190000
DTSTAMP:20260423T051442
CREATED:20260415T231756Z
LAST-MODIFIED:20260415T231756Z
UID:10000664-1776358800-1776366000@austin-ai.org
SUMMARY:ATX Marketing Innovators - April Happy Hour
DESCRIPTION:Join us for an AI Marketing Innovators Happy Hour\, an energizing meetup designed for marketers\, founders\, ecommerce leaders\, and operators who are ready to turn AI buzz into real business impact. Connect over drinks\, swap ideas with fellow professionals\, and hear what’s truly working across the AI stack—from GEO strategies to ecommerce listing automation\, workflow acceleration\, and AI-powered marketing operations. \n​This is your chance to network with some of Austin’s most forward-thinking operators\, explore practical tools and use cases\, and walk away with actionable tactics you can put to work the very next morning. \n​Additional Details\n​Free event\, but RSVP required \n​Drink tickets at check-in to registered attendees \n​This event is curated for operators\, brand leaders\, and active professionals working in or adjacent to AI\, ecommerce\, marketing\, and digital operations. \n​To maintain a high-value environment\, all registrations are reviewed\, and sales pitches are not permitted.
URL:https://austin-ai.org/event/atx-marketing-innovators-april-happy-hour/
LOCATION:Central Machine Works\, 4824 E Cesar Chavez St\, Austin\, TX\, 78722\, United States
ATTACH;FMTTYPE=image/jpeg:https://austin-ai.org/wp-content/uploads/2026/04/atx-marketing-innovators.jpeg
ORGANIZER;CN="Wishbone Advisory":MAILTO:taylor@wishboneadvisory.com
END:VEVENT
BEGIN:VEVENT
DTSTART;TZID=America/Chicago:20260120T083000
DTEND;TZID=America/Chicago:20260120T100000
DTSTAMP:20260423T051442
CREATED:20260113T172113Z
LAST-MODIFIED:20260113T172159Z
UID:10000575-1768897800-1768903200@austin-ai.org
SUMMARY:ATX Power Breakfast: AI for eCommerce & Marketplace Leaders
DESCRIPTION:AI is no longer experimental in eCommerce- it’s operational. From product content and marketplace optimization to forecasting\, media efficiency\, and internal workflows\, leading teams are moving past pilots and into real-world execution. \n​ATX Power Breakfast is an invite-only\, practitioner-focused breakfast for eCommerce\, marketplace\, and digital leaders who are actively using AI inside their organizations. \n​This is a working conversation\, not a pitch session. \n​What to Expect \n​Delicious breakfast tacos & free beverage at Lazarus Brewing \n​Candid discussion on how AI is actually being used in eCommerce & marketplaces today \n​Real-world examples across Amazon\, Walmart\, DTC\, retail media\, content\, and ops \n​Lessons learned\, pitfalls\, and practical wins from peers in the room \n​Curated\, high-signal conversation over coffee and breakfast \n​Who Should Attend \n​Heads of eCommerce\, Marketplace\, Digital\, or Growth \n​Operators responsible for revenue\, conversion\, or efficiency \n​Practitioners implementing AI tools\, workflows\, or strategies \n​Brand-side leaders and in-house teams \n​Who This Is Not For \n​Sales-led attendance or product pitching \n​Passive “AI curious” observers without hands-on responsibility \n​To preserve the quality of conversation\, attendance is reviewed and approved. Priority is given to brand-side practitioners and operators.
URL:https://austin-ai.org/event/atx-power-breakfast-ai-for-ecommerce-marketplace-leaders/
LOCATION:Lazarus Brewing – Airport Blvd\, 4803 Airport Blvd\, Austin\, TX\, 78751\, United States
ATTACH;FMTTYPE=image/png:https://austin-ai.org/wp-content/uploads/2026/01/ATX-Power-Breakfast-Graphic-3.png
ORGANIZER;CN="Wishbone Advisory":MAILTO:taylor@wishboneadvisory.com
END:VEVENT
BEGIN:VEVENT
DTSTART;TZID=America/Chicago:20260120T083000
DTEND;TZID=America/Chicago:20260120T100000
DTSTAMP:20260423T051442
CREATED:20260112T195242Z
LAST-MODIFIED:20260112T195242Z
UID:10000583-1768897800-1768903200@austin-ai.org
SUMMARY:ATX Power Breakfast: AI for eCom & Marketplace Leaders
DESCRIPTION:Facilitated by Wishbone Advisory & PD PlusAI is no longer experimental in eCommerce- it’s operational. From product content and marketplace optimization to forecasting\, media efficiency\, and internal workflows\, leading teams are moving past pilots and into real-world execution. \nATX Power Breakfast is an invite-only\, practitioner-focused breakfast for eCommerce\, marketplace\, and digital leaders who are actively using AI inside their organizations. \nThis is a working conversation\, not a pitch session. \nWhat to Expect \nDelicious breakfast tacos & free beverage at Lazarus Brewing \nCandid discussion on how AI is actually being used in eCommerce & marketplaces today \nReal-world examples across Amazon\, Walmart\, DTC\, retail media\, content\, and ops \nLessons learned\, pitfalls\, and practical wins from peers in the room \nCurated\, high-signal conversation over coffee and breakfast \nWho Should Attend \nHeads of eCommerce\, Marketplace\, Digital\, or Growth \nOperators responsible for revenue\, conversion\, or efficiency \nPractitioners implementing AI tools\, workflows\, or strategies \nBrand-side leaders and in-house teams \nWho This Is Not For \nSales-led attendance or product pitching \nPassive “AI curious” observers without hands-on responsibility \nTo preserve the quality of conversation\, attendance is reviewed and approved. Priority is given to brand-side practitioners and operators.
URL:https://austin-ai.org/event/atx-power-breakfast-ai-for-ecom-marketplace-leaders/
LOCATION:Lazarus Brewing Airport\, 4803 Airport Blvd\, Austin\, TX\, 78722\, United States
ATTACH;FMTTYPE=image/png:https://austin-ai.org/wp-content/uploads/2026/01/IMG_0530.png
ORGANIZER;CN="Wishbone Advisory":MAILTO:taylor@wishboneadvisory.com
END:VEVENT
BEGIN:VEVENT
DTSTART;TZID=America/Chicago:20251202T170000
DTEND;TZID=America/Chicago:20251202T190000
DTSTAMP:20260423T051442
CREATED:20251113T004045Z
LAST-MODIFIED:20251113T004045Z
UID:10000548-1764694800-1764702000@austin-ai.org
SUMMARY:ATX AI Innovators Happy Hour
DESCRIPTION:Hosted by Wishbone Advisory \nEvent Overview \nJoin us for an energizing\, AI Happy Hour designed for marketers\, founders\, ecommerce leaders\, and operators who want to turn AI buzz into real business impact. Enjoy drinks\, great conversation\, and networking with fellow professionals sharing the latest tools sets\, workflows and tips. From LLM optimization (GEO strategies)\, ecom listing optimization\, to leveraging tools to drive more efficient workflows across marketing\, ecommerce\, and operations. \nCome network with Austin’s most curious innovators\, share ideas\, and leave with actionable tactics you can use the next morning. \nAdditional Details \nA limited number of drink tickets will be available on a first-come\, first-served basis at check in.\nThis gathering is designed for operators\, brand leaders\, and professionals actively working in the space. To keep the conversation valuable\, registrations are reviewed and check in is required.
URL:https://austin-ai.org/event/atx-ai-innovators-happy-hour/
LOCATION:Central Machine Works\, 4824 E Cesar Chavez St\, Austin\, TX\, 78722\, United States
ATTACH;FMTTYPE=image/jpeg:https://austin-ai.org/wp-content/uploads/2025/11/IMG_0053.jpeg
ORGANIZER;CN="Wishbone Advisory":MAILTO:taylor@wishboneadvisory.com
END:VEVENT
END:VCALENDAR