BEGIN:VCALENDAR
VERSION:2.0
PRODID:-//Austin AI Alliance - ECPv6.15.20//NONSGML v1.0//EN
CALSCALE:GREGORIAN
METHOD:PUBLISH
X-WR-CALNAME:Austin AI Alliance
X-ORIGINAL-URL:https://austin-ai.org
X-WR-CALDESC:Events for Austin AI Alliance
REFRESH-INTERVAL;VALUE=DURATION:PT1H
X-Robots-Tag:noindex
X-PUBLISHED-TTL:PT1H
BEGIN:VTIMEZONE
TZID:America/Chicago
BEGIN:DAYLIGHT
TZOFFSETFROM:-0600
TZOFFSETTO:-0500
TZNAME:CDT
DTSTART:20240310T080000
END:DAYLIGHT
BEGIN:STANDARD
TZOFFSETFROM:-0500
TZOFFSETTO:-0600
TZNAME:CST
DTSTART:20241103T070000
END:STANDARD
BEGIN:DAYLIGHT
TZOFFSETFROM:-0600
TZOFFSETTO:-0500
TZNAME:CDT
DTSTART:20250309T080000
END:DAYLIGHT
BEGIN:STANDARD
TZOFFSETFROM:-0500
TZOFFSETTO:-0600
TZNAME:CST
DTSTART:20251102T070000
END:STANDARD
BEGIN:DAYLIGHT
TZOFFSETFROM:-0600
TZOFFSETTO:-0500
TZNAME:CDT
DTSTART:20260308T080000
END:DAYLIGHT
BEGIN:STANDARD
TZOFFSETFROM:-0500
TZOFFSETTO:-0600
TZNAME:CST
DTSTART:20261101T070000
END:STANDARD
END:VTIMEZONE
BEGIN:VEVENT
DTSTART;TZID=America/Chicago:20251111T160000
DTEND;TZID=America/Chicago:20251111T200000
DTSTAMP:20260420T080237
CREATED:20250906T172547Z
LAST-MODIFIED:20250906T172759Z
UID:10000076-1762876800-1762891200@austin-ai.org
SUMMARY:US: Physical AI & Safety Summit
DESCRIPTION:Join us at the US: Physical AI & Safety Summit to explore the latest advancements in AI technology and how it’s shaping safety measures. \n\n\n4:00 PM – 4:30 PM – Doors Opens & Networking \n\n\n\n\n4:30 PM – 5:00 PM – Keynote: Robotics and AI Safety – Where We Stand\, Where We’re Going \n\n\n\n\n5:00 PM – 5:20 PM – Industry Use Case \n\n\n\n\n5:20 PM – 5:40 PM – Networking Break \n\n\n\n\n5:40 PM – 6:00 PM – Industry Use Cases \n\n\n\n\n6:00 PM – 6:30 PM – Lighting Pitches: Next-Gen Safety Applications \n\n\n\n\n6:30 PM – 6:50 PM – Keynote: Path to Certification for AI-Driven Robotics \n\n\n\n\n6:50 PM – 7:00 PM – Wrapping up: Turning Vision into Action \n\n\n\n\n7:00 PM – 8:00 PM – Networking Session & Light Dinner
URL:https://austin-ai.org/event/us-physical-ai-safety-summit/
ATTACH;FMTTYPE=image/png:https://austin-ai.org/wp-content/uploads/2025/09/Screenshot-2025-09-06-at-12.22.22-PM.png
END:VEVENT
END:VCALENDAR