BEGIN:VCALENDAR
VERSION:2.0
PRODID:-//Austin AI Alliance - ECPv6.15.20//NONSGML v1.0//EN
CALSCALE:GREGORIAN
METHOD:PUBLISH
X-ORIGINAL-URL:https://austin-ai.org
X-WR-CALDESC:Events for Austin AI Alliance
REFRESH-INTERVAL;VALUE=DURATION:PT1H
X-Robots-Tag:noindex
X-PUBLISHED-TTL:PT1H
BEGIN:VTIMEZONE
TZID:America/Chicago
BEGIN:DAYLIGHT
TZOFFSETFROM:-0600
TZOFFSETTO:-0500
TZNAME:CDT
DTSTART:20240310T080000
END:DAYLIGHT
BEGIN:STANDARD
TZOFFSETFROM:-0500
TZOFFSETTO:-0600
TZNAME:CST
DTSTART:20241103T070000
END:STANDARD
BEGIN:DAYLIGHT
TZOFFSETFROM:-0600
TZOFFSETTO:-0500
TZNAME:CDT
DTSTART:20250309T080000
END:DAYLIGHT
BEGIN:STANDARD
TZOFFSETFROM:-0500
TZOFFSETTO:-0600
TZNAME:CST
DTSTART:20251102T070000
END:STANDARD
BEGIN:DAYLIGHT
TZOFFSETFROM:-0600
TZOFFSETTO:-0500
TZNAME:CDT
DTSTART:20260308T080000
END:DAYLIGHT
BEGIN:STANDARD
TZOFFSETFROM:-0500
TZOFFSETTO:-0600
TZNAME:CST
DTSTART:20261101T070000
END:STANDARD
END:VTIMEZONE
BEGIN:VEVENT
DTSTART;TZID=America/Chicago:20250702T183000
DTEND;TZID=America/Chicago:20250702T203000
DTSTAMP:20260421T033417
CREATED:20250701T171049Z
LAST-MODIFIED:20250701T171049Z
UID:10000034-1751481000-1751488200@austin-ai.org
SUMMARY:AI Automation for Small Businesses with Jamaul Finley
DESCRIPTION:Details\n\n\n## Is your business leaving thousands of dollars on the table every month?\n## Could you increase your repeat sales\, or boost how much your customers buy on each visit? \nJamaul Finley\, CEO of Reply Hawk\, a marketing automation platform designed for local businesses\, will describe how to find that hidden gold in your business. \nFrom automated email sequences to reminding customers of your upcoming specials\, to providing freebies to your customers – all on an automated basis – Jamaul will teach you how to pan for the hidden gold in your business. \nCheck out Jamaul Finley’s LinkedIn Profile & Reply Hawk \nMeetup Format:\nThe meetup runs from\n6:30P-8:30pm\nNetworking:\n6:30 – 6:55\n7:00P-7:45pm -speaker presentation\nFollowed by 15-20 minutes of Q&A\, but questions may be answered during the presentation.\n8:05-8:20pm – More networking\, talk to presenter or others.\n8:30pm – Doors MUST be closed.\n****Everyone can chat more out in the hotel lobby. \nHow to Find our Meetup.\nCapital Factory – Omni Hotel – 701 Brazos Street\, Austin\, TX.\nWe’re in the Voltron Room 1st Floor (the big room). Ask the security guard if you can’t find us. \nCome ready to learn\, be inspired\, and network with other AI enthusiasts\, entrepreneurs\, solopreneurs\, startup founders\, marketers\, digital specialists\, and tech people who all want to learn more about AI and exchange knowledge. \nThank you to the Capital Factory for sponsoring the Marketing Automation and AI meetup. Capital Factory is the center of gravity for entrepreneurs in Texas. They meet the best entrepreneurs in Texas and introduce them to their first investors\, employees\, mentors\, and customers. To sign up for a Capital Factory coworking membership\, click here.
URL:https://austin-ai.org/event/ai-automation-for-small-businesses-with-jamaul-finley/
LOCATION:Capitol Factory\, 701 Brazos St\, Austin\, TX\, 78701\, United States
ATTACH;FMTTYPE=image/jpeg:https://austin-ai.org/wp-content/uploads/2025/07/Screenshot-2025-07-01-at-12.07.50 PM.jpeg
END:VEVENT
END:VCALENDAR