BEGIN:VCALENDAR
VERSION:2.0
PRODID:-//Austin AI Alliance - ECPv6.15.20//NONSGML v1.0//EN
CALSCALE:GREGORIAN
METHOD:PUBLISH
X-ORIGINAL-URL:https://austin-ai.org
X-WR-CALDESC:Events for Austin AI Alliance
REFRESH-INTERVAL;VALUE=DURATION:PT1H
X-Robots-Tag:noindex
X-PUBLISHED-TTL:PT1H
BEGIN:VTIMEZONE
TZID:America/Chicago
BEGIN:DAYLIGHT
TZOFFSETFROM:-0600
TZOFFSETTO:-0500
TZNAME:CDT
DTSTART:20240310T080000
END:DAYLIGHT
BEGIN:STANDARD
TZOFFSETFROM:-0500
TZOFFSETTO:-0600
TZNAME:CST
DTSTART:20241103T070000
END:STANDARD
BEGIN:DAYLIGHT
TZOFFSETFROM:-0600
TZOFFSETTO:-0500
TZNAME:CDT
DTSTART:20250309T080000
END:DAYLIGHT
BEGIN:STANDARD
TZOFFSETFROM:-0500
TZOFFSETTO:-0600
TZNAME:CST
DTSTART:20251102T070000
END:STANDARD
BEGIN:DAYLIGHT
TZOFFSETFROM:-0600
TZOFFSETTO:-0500
TZNAME:CDT
DTSTART:20260308T080000
END:DAYLIGHT
BEGIN:STANDARD
TZOFFSETFROM:-0500
TZOFFSETTO:-0600
TZNAME:CST
DTSTART:20261101T070000
END:STANDARD
END:VTIMEZONE
BEGIN:VEVENT
DTSTART;TZID=America/Chicago:20250730T180000
DTEND;TZID=America/Chicago:20250730T193000
DTSTAMP:20260421T014157
CREATED:20250727T194812Z
LAST-MODIFIED:20250727T194812Z
UID:10000055-1753898400-1753903800@austin-ai.org
SUMMARY:Supercharging Business with AI & Offshore VAs
DESCRIPTION:Supercharging Business with AI & Offshore VAs: Customer Experience Enhancement\nTransform your business operations with the power of artificial intelligence and skilled offshore virtual assistants. Here are just some of the topics you can expect to learn in this monthly masterclass at Capital Factory Austin: \n\n​Using VAs for personalized customer service and follow-up\n​AI chatbots\, sentiment analysis\, and customer journey mapping\n​Demo: Creating a hybrid support system that leverages both human touch and AI efficiency\n\n​Whether you’re a startup founder\, entrepreneur\, or business owner\, you’ll leave with actionable strategies to leverage both AI and offshore talent to scale your operations while maintaining quality and reducing costs. \n​Limited seats available. Register now to secure your spot in our next session.
URL:https://austin-ai.org/event/supercharging-business-with-ai-offshore-vas/
LOCATION:Capital Factory\, 701 Brazos Street\, Floor 8th\, Austin\, TX\, 78701\, United States
ATTACH;FMTTYPE=image/avif:https://austin-ai.org/wp-content/uploads/2025/07/supercharging-business-w-AI.avif
GEO:30.268603;-97.741109
X-APPLE-STRUCTURED-LOCATION;VALUE=URI;X-ADDRESS=Capital Factory 701 Brazos Street Floor 8th Austin TX 78701 United States;X-APPLE-RADIUS=500;X-TITLE=701 Brazos Street\, Floor 8th:geo:-97.741109,30.268603
END:VEVENT
END:VCALENDAR