BEGIN:VCALENDAR
VERSION:2.0
PRODID:-//Austin AI Alliance - ECPv6.15.20//NONSGML v1.0//EN
CALSCALE:GREGORIAN
METHOD:PUBLISH
X-ORIGINAL-URL:https://austin-ai.org
X-WR-CALDESC:Events for Austin AI Alliance
REFRESH-INTERVAL;VALUE=DURATION:PT1H
X-Robots-Tag:noindex
X-PUBLISHED-TTL:PT1H
BEGIN:VTIMEZONE
TZID:America/Chicago
BEGIN:DAYLIGHT
TZOFFSETFROM:-0600
TZOFFSETTO:-0500
TZNAME:CDT
DTSTART:20240310T080000
END:DAYLIGHT
BEGIN:STANDARD
TZOFFSETFROM:-0500
TZOFFSETTO:-0600
TZNAME:CST
DTSTART:20241103T070000
END:STANDARD
BEGIN:DAYLIGHT
TZOFFSETFROM:-0600
TZOFFSETTO:-0500
TZNAME:CDT
DTSTART:20250309T080000
END:DAYLIGHT
BEGIN:STANDARD
TZOFFSETFROM:-0500
TZOFFSETTO:-0600
TZNAME:CST
DTSTART:20251102T070000
END:STANDARD
BEGIN:DAYLIGHT
TZOFFSETFROM:-0600
TZOFFSETTO:-0500
TZNAME:CDT
DTSTART:20260308T080000
END:DAYLIGHT
BEGIN:STANDARD
TZOFFSETFROM:-0500
TZOFFSETTO:-0600
TZNAME:CST
DTSTART:20261101T070000
END:STANDARD
END:VTIMEZONE
BEGIN:VEVENT
DTSTART;TZID=America/Chicago:20250910T180000
DTEND;TZID=America/Chicago:20250910T200000
DTSTAMP:20260419T091409
CREATED:20250906T180756Z
LAST-MODIFIED:20250906T180756Z
UID:10000079-1757527200-1757534400@austin-ai.org
SUMMARY:Hack AI - AI talks\, Network and Hack
DESCRIPTION:Details\n\n\nAbout: Hack AI x WebAI​​ \nWelcome to Hack AI\, a monthly session for builders all over the Austin area to learn about and build the latest AI technology. \n​​​Agenda \n6:00 PM – 6:20 PM: Introduction to Hack AI \n\n​​Kick off the evening with an overview of Hack AI and what we aim to achieve.\n\n​​6:20 PM – 6:50PM: Private AI Talk: WebAI \n​​7:00 PM – 8:00 PM: Mini Hackathon \n\n​​Collaborate with fellow attendees to apply what you’ve learned. Work on projects related to the evening’s themes or any AI ideas you’re passionate about.\n\n​​Free Food & Drinks\n​​​Pizza\, Beer\, Soda\, Water \n​​Who Should Come\n​​We welcome both technical and non-technical individuals interested in learning more about AI or fine-tuning their skills. Whether you’re a seasoned developer\, a curious beginner\, or someone intrigued by the impact of AI\, this event is for you! \n​​Sponsors \nWebAI – Private AI starts here. WebAI is the sovereign end-to-end AI platform https://www.webai.com/ \n​​​Capital Factory – Thank you to Capital Factory for sponsoring HackAI. Capital Factory is the center of gravity for entrepreneurs in Texas. They meet the best entrepreneurs in Texas and introduce them to their first investors\, employees\, mentors\, and customers. To sign up for a Capital Factory membership\, click here. https://www.capitalfactory.com/ \n​​​Linkt AI – AI-agents that find you customers who already want to buy\nhttps://www.linkt.ai/ \n​​Adrenaline Interactive – We create in-game advertising technology to help businesses reach\, impress\, and convert gamers into customers. Learn more at https://adrenalineinteractive.ai/ \nAITX – A community of AI engineers\, entrepreneurs\, and explorers of all backgrounds coming together to advance AI innovation in the Lone Star State.\n(https://www.aitxcommunity.com/) \n​​Contact\n​​​If you have any questions\, please reach out to Reid – reid@linkt.ai
URL:https://austin-ai.org/event/hack-ai-ai-talks-network-and-hack/
LOCATION:Capital Factory\, 701 Brazos Street\, Floor 8th\, Austin\, TX\, 78701\, United States
ATTACH;FMTTYPE=image/png:https://austin-ai.org/wp-content/uploads/2025/03/Screenshot-2025-03-28-at-11.19.03-AM.png
GEO:30.268603;-97.741109
X-APPLE-STRUCTURED-LOCATION;VALUE=URI;X-ADDRESS=Capital Factory 701 Brazos Street Floor 8th Austin TX 78701 United States;X-APPLE-RADIUS=500;X-TITLE=701 Brazos Street\, Floor 8th:geo:-97.741109,30.268603
END:VEVENT
BEGIN:VEVENT
DTSTART;TZID=America/Chicago:20250710T180000
DTEND;TZID=America/Chicago:20250710T200000
DTSTAMP:20260419T091409
CREATED:20250623T225648Z
LAST-MODIFIED:20250623T225648Z
UID:10000031-1752170400-1752177600@austin-ai.org
SUMMARY:Hack AI-Tech Party
DESCRIPTION:​A good vibes party for Austin’s AI crowd. Founders\, engineers\, investors\, and anyone building something cool are welcome. No slide decks\, no agenda—just drinks\, music\, and conversation to spark new projects and partnerships.
URL:https://austin-ai.org/event/hack-ai-tech-party/
LOCATION:DeAI\, 1705 Guadalupe St\, Austin\, TX\, 78701\, United States
ATTACH;FMTTYPE=image/avif:https://austin-ai.org/wp-content/uploads/2025/06/HackAI.avif
END:VEVENT
END:VCALENDAR