BEGIN:VCALENDAR
VERSION:2.0
PRODID:-//Austin AI Alliance - ECPv6.15.20//NONSGML v1.0//EN
CALSCALE:GREGORIAN
METHOD:PUBLISH
X-WR-CALNAME:Austin AI Alliance
X-ORIGINAL-URL:https://austin-ai.org
X-WR-CALDESC:Events for Austin AI Alliance
REFRESH-INTERVAL;VALUE=DURATION:PT1H
X-Robots-Tag:noindex
X-PUBLISHED-TTL:PT1H
BEGIN:VTIMEZONE
TZID:America/Chicago
BEGIN:DAYLIGHT
TZOFFSETFROM:-0600
TZOFFSETTO:-0500
TZNAME:CDT
DTSTART:20240310T080000
END:DAYLIGHT
BEGIN:STANDARD
TZOFFSETFROM:-0500
TZOFFSETTO:-0600
TZNAME:CST
DTSTART:20241103T070000
END:STANDARD
BEGIN:DAYLIGHT
TZOFFSETFROM:-0600
TZOFFSETTO:-0500
TZNAME:CDT
DTSTART:20250309T080000
END:DAYLIGHT
BEGIN:STANDARD
TZOFFSETFROM:-0500
TZOFFSETTO:-0600
TZNAME:CST
DTSTART:20251102T070000
END:STANDARD
BEGIN:DAYLIGHT
TZOFFSETFROM:-0600
TZOFFSETTO:-0500
TZNAME:CDT
DTSTART:20260308T080000
END:DAYLIGHT
BEGIN:STANDARD
TZOFFSETFROM:-0500
TZOFFSETTO:-0600
TZNAME:CST
DTSTART:20261101T070000
END:STANDARD
END:VTIMEZONE
BEGIN:VEVENT
DTSTART;TZID=America/Chicago:20250702T180000
DTEND;TZID=America/Chicago:20250702T210000
DTSTAMP:20260421T032738
CREATED:20250623T171817Z
LAST-MODIFIED:20250623T171817Z
UID:10000028-1751479200-1751490000@austin-ai.org
SUMMARY:Austin LangChain AIMUG Mixer and Showcase
DESCRIPTION:​REMOTE (Zoom): https://us06web.zoom.us/j/83055251635?pwd=9guINZ3AbkPJLjaG4aFCa3UXr7HtQu.1 \n\n​July Monthly Mixer & Showcase\n​Austin LangChain + AI Middleware Users Group (AIMUG) \n​Date: Wednesday\, July 2 2025\nTime: 6:00 PM – 8:00 PM\nVenue: ACC – RGC 3000\, 1218 West Avenue\, Austin\, TX\nAfter-Party: The Tavern\, 922 W 12th St\, Austin\, TX 78703 \n​Agenda \n\n​6:00 – 6:20 PM Welcome Reception – light refreshments & networking\n​6:10 – 6:20 PM Intro to LangChain video (loops during reception)\n​6:20 – 6:40 PM News & Updates – latest in LangChain / AI middleware\n​6:40 – 7:20 PM Lightning Talks – three 7-min presentations + 15 min group Q&A\n​7:20 – 7:55 PM Showcase Hands-On Lab Panel (TBD) – deeper dive & audience interaction\n​7:55 – 8:00 PM Wrap-up & next steps\n​8:00 – 8:30 PM Walk to The Tavern for the mixer\n\n\n​About AIMUG \n​The AI Middleware Users Group believes in “Learning in the Open.” We experiment together with LangChain\, LangGraph\, LangSmith\, and the broader AI stack—sharing demos\, pitfalls\, and wins so everyone levels up. \n​Graciously hosted by the Center for Government & Civic Service at ACC’s Rio Grande Campus. \n\n​Directions \n​Heading north on West Ave between 12th & 13th\, the tan-brick RGC 3000 building is on your left. Take the stairs up to enter. \n​Parking \n\n​Garage: Free\, but doors lock at 9 PM.\n​Street: Free after 6 PM—best if you’ll stay late.\n\n​Join us in person—or online via Zoom—for another evening of innovation\, insight\, and community. See you July 2! \n\n\n\n\n\nLocation\n\n\n\n\nAustin Community College: Rio Grande Campus\n1212 Rio Grande St\, Austin\, TX 78701\, USA\n\nDirections Heading north on West Ave between 12th & 13th\, the tan-brick RGC 3000 building is on your left. Take the stairs up to enter. Parking Garage: Free\, but doors lock at 9 PM. Street: Free after 6 PM—best if you’ll stay late. Join us in person—or online via Zoom—for another evening of innovation\, insight\, and community. See you July 2!
URL:https://austin-ai.org/event/austin-langchain-aimug-mixer-and-showcase/
LOCATION:Austin Community College – Rio Grande Campus\, 1212 Rio Grande St\, Austin\, TX\, 78701\, United States
ATTACH;FMTTYPE=image/png:https://austin-ai.org/wp-content/uploads/2025/06/Screenshot-2025-06-23-at-12.14.13-PM.png
ORGANIZER;CN="Austin LangChain AIMUG":MAILTO:https://lu.ma/calendar/cal-VlEU4QanH4DS9Kr
END:VEVENT
END:VCALENDAR