BEGIN:VCALENDAR
VERSION:2.0
PRODID:-//Austin AI Alliance - ECPv6.15.20//NONSGML v1.0//EN
CALSCALE:GREGORIAN
METHOD:PUBLISH
X-WR-CALNAME:Austin AI Alliance
X-ORIGINAL-URL:https://austin-ai.org
X-WR-CALDESC:Events for Austin AI Alliance
REFRESH-INTERVAL;VALUE=DURATION:PT1H
X-Robots-Tag:noindex
X-PUBLISHED-TTL:PT1H
BEGIN:VTIMEZONE
TZID:America/Chicago
BEGIN:DAYLIGHT
TZOFFSETFROM:-0600
TZOFFSETTO:-0500
TZNAME:CDT
DTSTART:20240310T080000
END:DAYLIGHT
BEGIN:STANDARD
TZOFFSETFROM:-0500
TZOFFSETTO:-0600
TZNAME:CST
DTSTART:20241103T070000
END:STANDARD
BEGIN:DAYLIGHT
TZOFFSETFROM:-0600
TZOFFSETTO:-0500
TZNAME:CDT
DTSTART:20250309T080000
END:DAYLIGHT
BEGIN:STANDARD
TZOFFSETFROM:-0500
TZOFFSETTO:-0600
TZNAME:CST
DTSTART:20251102T070000
END:STANDARD
BEGIN:DAYLIGHT
TZOFFSETFROM:-0600
TZOFFSETTO:-0500
TZNAME:CDT
DTSTART:20260308T080000
END:DAYLIGHT
BEGIN:STANDARD
TZOFFSETFROM:-0500
TZOFFSETTO:-0600
TZNAME:CST
DTSTART:20261101T070000
END:STANDARD
END:VTIMEZONE
BEGIN:VEVENT
DTSTART;TZID=America/Chicago:20250710T183000
DTEND;TZID=America/Chicago:20250710T200000
DTSTAMP:20260421T035225
CREATED:20250623T215337Z
LAST-MODIFIED:20250623T215337Z
UID:10000030-1752172200-1752177600@austin-ai.org
SUMMARY:Artist & the Age of AI: July Meetup
DESCRIPTION:Details\n\n\nConnect with other artists\, creatives\, and technologists working at the intersection of art\, tech\, and AI. \nArtist and the Age of AI meetups are a warm\, collegial\, and inviting space. All backgrounds\, disciplines\, and levels of experience will be respected and given space to express their perspectives\, opinions\, and concerns about the current state and future of the arts\, AI\, and technology. \nJuly’s Topic:\nMore details about this month’s meetup topic will be posted soon. \nWhere: Exact location pending. We’ll let you know the meeting room at Capital Factory soon! \nParking: Metered parking available on the block surrounding Omni Hotel. Capital Factory can validate garage parking in the Omni underground lot for $8 after 5pm upon request. \nSupported By:\nThank you to Capital Factory for sponsoring Artists and the Age of AI meetups. Capital Factory is the center of gravity for entrepreneurs in Texas. They meet the best entrepreneurs in Texas and introduce them to their first investors\, employees\, mentors\, and customers. To sign up for a Capital Factory membership\, click here.
URL:https://austin-ai.org/event/artist-the-age-of-ai-july-meetup/
LOCATION:Capitol Factory\, 701 Brazos St\, Austin\, TX\, 78701\, United States
ATTACH;FMTTYPE=image/png:https://austin-ai.org/wp-content/uploads/2025/06/Screenshot-2025-06-23-at-3.44.58 PM.png
END:VEVENT
END:VCALENDAR