BEGIN:VCALENDAR
VERSION:2.0
PRODID:-//Austin AI Alliance - ECPv6.15.20//NONSGML v1.0//EN
CALSCALE:GREGORIAN
METHOD:PUBLISH
X-WR-CALNAME:Austin AI Alliance
X-ORIGINAL-URL:https://austin-ai.org
X-WR-CALDESC:Events for Austin AI Alliance
REFRESH-INTERVAL;VALUE=DURATION:PT1H
X-Robots-Tag:noindex
X-PUBLISHED-TTL:PT1H
BEGIN:VTIMEZONE
TZID:America/Chicago
BEGIN:DAYLIGHT
TZOFFSETFROM:-0600
TZOFFSETTO:-0500
TZNAME:CDT
DTSTART:20240310T080000
END:DAYLIGHT
BEGIN:STANDARD
TZOFFSETFROM:-0500
TZOFFSETTO:-0600
TZNAME:CST
DTSTART:20241103T070000
END:STANDARD
BEGIN:DAYLIGHT
TZOFFSETFROM:-0600
TZOFFSETTO:-0500
TZNAME:CDT
DTSTART:20250309T080000
END:DAYLIGHT
BEGIN:STANDARD
TZOFFSETFROM:-0500
TZOFFSETTO:-0600
TZNAME:CST
DTSTART:20251102T070000
END:STANDARD
BEGIN:DAYLIGHT
TZOFFSETFROM:-0600
TZOFFSETTO:-0500
TZNAME:CDT
DTSTART:20260308T080000
END:DAYLIGHT
BEGIN:STANDARD
TZOFFSETFROM:-0500
TZOFFSETTO:-0600
TZNAME:CST
DTSTART:20261101T070000
END:STANDARD
END:VTIMEZONE
BEGIN:VEVENT
DTSTART;TZID=America/Chicago:20250723T170000
DTEND;TZID=America/Chicago:20250723T190000
DTSTAMP:20260421T014122
CREATED:20250718T145740Z
LAST-MODIFIED:20250718T145740Z
UID:10000044-1753290000-1753297200@austin-ai.org
SUMMARY:ATX Vertical SaaS & AI Happy Hour
DESCRIPTION:Join us for a laid-back summer evening with sharp minds building (or curious about) the future of vertical SaaS and AI.\n​We’re gathering founders\, operators\, and investors who are rethinking industry playbooks\, through the lens of AI. Whether you’re heads-down building\, exploring your next move\, or just want to connect with others who get it\, come grab some bites\, swap insights\, and get inspired. \n​About Your Hosts: \n​Antler is the #1 most active global early-stage investor\, pioneering “Day Zero” investing by partnering with founders pre-launch. Antler runs a 6-week founder residency in NYC\, ATX\, and SF designed to help exceptional builders start companies. \n​TipTop VC is an operator-led venture fund investing at pre-seed and seed in vertical AI-native startups transforming and reinventing industries. Founded and led by Nick Tippmann and backed by an LP collective of some of the world’s top vertical SaaS+AI founders and operators from the likes of ServiceTitan\, Procore\, Mindbody\, Greenlight Guru and more. Learn more at www.tiptop.vc \n​Shaun Vanderkaap brings over 10 years in payments experience across various commercial roles and countries.
URL:https://austin-ai.org/event/atx-vertical-saas-ai-happy-hour/
LOCATION:Register for Address
ATTACH;FMTTYPE=image/avif:https://austin-ai.org/wp-content/uploads/2025/07/ATX-Vertical-SAAS-.avif
END:VEVENT
END:VCALENDAR