BEGIN:VCALENDAR
VERSION:2.0
PRODID:-//Austin AI Alliance - ECPv6.15.20//NONSGML v1.0//EN
CALSCALE:GREGORIAN
METHOD:PUBLISH
X-ORIGINAL-URL:https://austin-ai.org
X-WR-CALDESC:Events for Austin AI Alliance
REFRESH-INTERVAL;VALUE=DURATION:PT1H
X-Robots-Tag:noindex
X-PUBLISHED-TTL:PT1H
BEGIN:VTIMEZONE
TZID:America/Chicago
BEGIN:DAYLIGHT
TZOFFSETFROM:-0600
TZOFFSETTO:-0500
TZNAME:CDT
DTSTART:20240310T080000
END:DAYLIGHT
BEGIN:STANDARD
TZOFFSETFROM:-0500
TZOFFSETTO:-0600
TZNAME:CST
DTSTART:20241103T070000
END:STANDARD
BEGIN:DAYLIGHT
TZOFFSETFROM:-0600
TZOFFSETTO:-0500
TZNAME:CDT
DTSTART:20250309T080000
END:DAYLIGHT
BEGIN:STANDARD
TZOFFSETFROM:-0500
TZOFFSETTO:-0600
TZNAME:CST
DTSTART:20251102T070000
END:STANDARD
BEGIN:DAYLIGHT
TZOFFSETFROM:-0600
TZOFFSETTO:-0500
TZNAME:CDT
DTSTART:20260308T080000
END:DAYLIGHT
BEGIN:STANDARD
TZOFFSETFROM:-0500
TZOFFSETTO:-0600
TZNAME:CST
DTSTART:20261101T070000
END:STANDARD
BEGIN:DAYLIGHT
TZOFFSETFROM:-0600
TZOFFSETTO:-0500
TZNAME:CDT
DTSTART:20270314T080000
END:DAYLIGHT
BEGIN:STANDARD
TZOFFSETFROM:-0500
TZOFFSETTO:-0600
TZNAME:CST
DTSTART:20271107T070000
END:STANDARD
END:VTIMEZONE
BEGIN:VEVENT
DTSTART;TZID=America/Chicago:20260410T090000
DTEND;TZID=America/Chicago:20260410T163000
DTSTAMP:20260420T113042
CREATED:20260407T183246Z
LAST-MODIFIED:20260407T183246Z
UID:10000659-1775811600-1775838600@austin-ai.org
SUMMARY:Keep Austin Agile Conference 2026
DESCRIPTION:Agile Austin’s Keep Austin Agile (KAA) Conference is an immersive gathering of Agile practitioners\, leaders\, and enthusiasts. Whether you are an Agile Coach\, Scrum Master\, Product Owner\, executive\, or simply someone interested in evolving and adapting in an ever change world\, this event is your gateway to unlocking the true potential of Agile.
URL:https://austin-ai.org/event/keep-austin-agile-conference-2026/
LOCATION:UT Commons Conference Center\, 10100 Burnet Rd\, Building 137\, Austin\, TX\, 78758\, United States
ATTACH;FMTTYPE=image/avif:https://austin-ai.org/wp-content/uploads/2026/04/Keep-Austin-Agile-2026.avif
END:VEVENT
BEGIN:VEVENT
DTSTART;TZID=America/Chicago:20250920T100000
DTEND;TZID=America/Chicago:20250920T140000
DTSTAMP:20260420T113042
CREATED:20250812T163636Z
LAST-MODIFIED:20250812T163636Z
UID:10000059-1758362400-1758376800@austin-ai.org
SUMMARY:Agile Intelligence - From Idea to Prototype with GenAI
DESCRIPTION:This workshop teaches agile teams to write effective AI prompts and use GenAI to ideate\, map workflows\, and prototype solutions across the product lifecycle. \n\nAbout the event\n\n\n\nThis workshop teaches agile product team members and leaders how to write precise\, strategic prompts that drive value across the product lifecycle. Participants will practice prompting for tasks like user stories\, market insights\, and team communication\, while learning how to reduce AI hallucinations through structured input and verification techniques. Through guided hands-on exercises\, participants will go through the complete digital product development cycle—from an initial idea to a tangible prototype—using GenAI as a creative accelerator. Attendees will begin by brainstorming product concepts\, problem statements\, user personas\, and customer journey. From there\, they will map out basic system architecture and workflows to establish a foundational structure. Next\, participants will sketch early UI/UX wireframes\, API mockups\, data models\, and ML-based feature prototypes. The workshop concludes with peer sharing and group reflection. \nSnacks\, light refreshments\, and lunch will be included. \nTickets: $35
URL:https://austin-ai.org/event/agile-intelligence-idea-to-prototype/
LOCATION:Amplify Credit Union\, 2800 Esperanza Crossing Building 2\, Austin\, TX\, 78758\, United States
ATTACH;FMTTYPE=image/avif:https://austin-ai.org/wp-content/uploads/2025/08/agileaustinevent.avif
END:VEVENT
END:VCALENDAR