BEGIN:VCALENDAR
VERSION:2.0
PRODID:-//Austin AI Alliance - ECPv6.15.20//NONSGML v1.0//EN
CALSCALE:GREGORIAN
METHOD:PUBLISH
X-ORIGINAL-URL:https://austin-ai.org
X-WR-CALDESC:Events for Austin AI Alliance
REFRESH-INTERVAL;VALUE=DURATION:PT1H
X-Robots-Tag:noindex
X-PUBLISHED-TTL:PT1H
BEGIN:VTIMEZONE
TZID:America/Chicago
BEGIN:DAYLIGHT
TZOFFSETFROM:-0600
TZOFFSETTO:-0500
TZNAME:CDT
DTSTART:20240310T080000
END:DAYLIGHT
BEGIN:STANDARD
TZOFFSETFROM:-0500
TZOFFSETTO:-0600
TZNAME:CST
DTSTART:20241103T070000
END:STANDARD
BEGIN:DAYLIGHT
TZOFFSETFROM:-0600
TZOFFSETTO:-0500
TZNAME:CDT
DTSTART:20250309T080000
END:DAYLIGHT
BEGIN:STANDARD
TZOFFSETFROM:-0500
TZOFFSETTO:-0600
TZNAME:CST
DTSTART:20251102T070000
END:STANDARD
BEGIN:DAYLIGHT
TZOFFSETFROM:-0600
TZOFFSETTO:-0500
TZNAME:CDT
DTSTART:20260308T080000
END:DAYLIGHT
BEGIN:STANDARD
TZOFFSETFROM:-0500
TZOFFSETTO:-0600
TZNAME:CST
DTSTART:20261101T070000
END:STANDARD
END:VTIMEZONE
BEGIN:VEVENT
DTSTART;TZID=America/Chicago:20251211T173000
DTEND;TZID=America/Chicago:20251211T203000
DTSTAMP:20260420T142741
CREATED:20251204T144738Z
LAST-MODIFIED:20251204T144738Z
UID:10000559-1765474200-1765485000@austin-ai.org
SUMMARY:Apollo Austin Meetup: Let AI Power Your Holidays
DESCRIPTION:The holiday season should be FUN… not grinding through outbound sequences and data enrichment. So let’s fix that — over holiday drinks and good vibes at our Apollo Austin Meetup 🤠 \n​You’ll gain exclusive access to Apollo’s AI Assistant and tackle your GTM challenges\, walking away with a play in motion. \n​Here’s the vibe: \n​6:00-6:30pm — Show up\, grab a drink\, eat some snacks\, meet cool GTM people \n​6:30-7:00pm — Watch our Apollo team show you what the AI Assistant can actually do (it’s pretty wild ✨) \n​7:00-7:30pm — Roll up your sleeves and build your own: automate your outbound\, enrich leads\, prep deals — whatever you need. We’ll be right there helping you set it up 🙂 \n​7:30-8:30pm — Hang out over pizza + holiday drinks \n​What to bring along: \n​​Your laptop (fully charged!) \n​​A friend! Feel free to bring someone along — just make sure they register via Luma too \n​Early bird gets the Exclusive Apollo Swag: Show up at 6pm sharp for limited edition Apollo gear ☕️ First come first serve 🙂 \n​🚨 Only 50 spots — grab yours now! \n​\n~~~~~~~~~~~~~~~~~~~~~~~~~~~~~~ \n​👋 Meet Your Host: Apollo helps founders go-to-market through our AI-powered sales automation and B2B database\, allowing you to research target industries\, build a scalable GTM engine with automated outreach\, and continuously refine your ICP based on engagement—all while focusing your time on what matters most.
URL:https://austin-ai.org/event/apollo-austin-meetup-let-ai-power-your-holidays/
LOCATION:The Commune\, 101 N Loop Blvd E\, Austin\, CA\, 94102\, United States
ATTACH;FMTTYPE=image/png:https://austin-ai.org/wp-content/uploads/2025/12/Screenshot-2025-12-03-at-10.14.25-AM.png
END:VEVENT
END:VCALENDAR