BEGIN:VCALENDAR
VERSION:2.0
PRODID:-//Austin AI Alliance - ECPv6.15.20//NONSGML v1.0//EN
CALSCALE:GREGORIAN
METHOD:PUBLISH
X-ORIGINAL-URL:https://austin-ai.org
X-WR-CALDESC:Events for Austin AI Alliance
REFRESH-INTERVAL;VALUE=DURATION:PT1H
X-Robots-Tag:noindex
X-PUBLISHED-TTL:PT1H
BEGIN:VTIMEZONE
TZID:America/Chicago
BEGIN:DAYLIGHT
TZOFFSETFROM:-0600
TZOFFSETTO:-0500
TZNAME:CDT
DTSTART:20250309T080000
END:DAYLIGHT
BEGIN:STANDARD
TZOFFSETFROM:-0500
TZOFFSETTO:-0600
TZNAME:CST
DTSTART:20251102T070000
END:STANDARD
BEGIN:DAYLIGHT
TZOFFSETFROM:-0600
TZOFFSETTO:-0500
TZNAME:CDT
DTSTART:20260308T080000
END:DAYLIGHT
BEGIN:STANDARD
TZOFFSETFROM:-0500
TZOFFSETTO:-0600
TZNAME:CST
DTSTART:20261101T070000
END:STANDARD
BEGIN:DAYLIGHT
TZOFFSETFROM:-0600
TZOFFSETTO:-0500
TZNAME:CDT
DTSTART:20270314T080000
END:DAYLIGHT
BEGIN:STANDARD
TZOFFSETFROM:-0500
TZOFFSETTO:-0600
TZNAME:CST
DTSTART:20271107T070000
END:STANDARD
END:VTIMEZONE
BEGIN:VEVENT
DTSTART;TZID=America/Chicago:20260622T090000
DTEND;TZID=America/Chicago:20260624T150000
DTSTAMP:20260420T142413
CREATED:20260318T165045Z
LAST-MODIFIED:20260318T220305Z
UID:10000641-1782118800-1782313200@austin-ai.org
SUMMARY:Summer AI Intensive 2026
DESCRIPTION:The Summer AI Intensive is back — and seats go fast.\nPresented by the Austin AI Alliance\, the Summer AI Intensive is your path to peak AI performance. Three immersive days designed for professionals ready to make AI their greatest competitive advantage. Come to learn. Leave ready to lead.\nYou’ll choose your track — Executive\, Developer*\, or Productivity — and spend three immersive days learning from Austin’s top AI practitioners. Not slides and theory. Real tools\, real case studies\, and real access to the people driving AI adoption across the region.\nWhat’s included: \n\nExpert-led sessions with local AI leaders\, innovators\, and decision-makers\nHands-on workshops using the latest tools and techniques — applied to your actual work\nStudio time with practitioners in your field\nDaily networking lunches with leaders and participants from every track\n\nSpots are limited. Secure yours today.\n\n\n\nDetails: \n\nWhen: June 22-24\, 9AM – 3PM\nWhere: ACC Rio Grande Building 3000 (free covered parking around the corner)\nCost: Early bird pricing $499 (non-members)\, $349 (members)\nLunch is served daily\n\nNeed-Based Scholarships Available \nWhile refunds are not available\, we’re committed to making the Summer AI Intensive accessible. A limited number of scholarships are available for individuals who would not otherwise be able to attend. If cost is a barrier\, please reach out to us at info@austin-ai.org to learn more. \n*Prior coding experience required for Developer Track. Participants may need access to select AI platforms and API tokens.
URL:https://austin-ai.org/event/summer-ai-intensive-2026/
LOCATION:The Center for Government and Civic Service\, ACC Rio Grande: Building 3000\, 1218 West Avenue\, Austin\, TX\, 78701\, United States
CATEGORIES:AAIA
ATTACH;FMTTYPE=image/png:https://austin-ai.org/wp-content/uploads/2026/03/Summer-AI-Intensive-2026-Promo-banner.png
ORGANIZER;CN="Austin AI Alliance":MAILTO:info@austin-ai.org
END:VEVENT
END:VCALENDAR