BEGIN:VCALENDAR
VERSION:2.0
PRODID:-//Austin AI Alliance - ECPv6.15.20//NONSGML v1.0//EN
CALSCALE:GREGORIAN
METHOD:PUBLISH
X-ORIGINAL-URL:https://austin-ai.org
X-WR-CALDESC:Events for Austin AI Alliance
REFRESH-INTERVAL;VALUE=DURATION:PT1H
X-Robots-Tag:noindex
X-PUBLISHED-TTL:PT1H
BEGIN:VTIMEZONE
TZID:America/Chicago
BEGIN:DAYLIGHT
TZOFFSETFROM:-0600
TZOFFSETTO:-0500
TZNAME:CDT
DTSTART:20250309T080000
END:DAYLIGHT
BEGIN:STANDARD
TZOFFSETFROM:-0500
TZOFFSETTO:-0600
TZNAME:CST
DTSTART:20251102T070000
END:STANDARD
BEGIN:DAYLIGHT
TZOFFSETFROM:-0600
TZOFFSETTO:-0500
TZNAME:CDT
DTSTART:20260308T080000
END:DAYLIGHT
BEGIN:STANDARD
TZOFFSETFROM:-0500
TZOFFSETTO:-0600
TZNAME:CST
DTSTART:20261101T070000
END:STANDARD
BEGIN:DAYLIGHT
TZOFFSETFROM:-0600
TZOFFSETTO:-0500
TZNAME:CDT
DTSTART:20270314T080000
END:DAYLIGHT
BEGIN:STANDARD
TZOFFSETFROM:-0500
TZOFFSETTO:-0600
TZNAME:CST
DTSTART:20271107T070000
END:STANDARD
END:VTIMEZONE
BEGIN:VTIMEZONE
TZID:UTC
BEGIN:STANDARD
TZOFFSETFROM:+0000
TZOFFSETTO:+0000
TZNAME:UTC
DTSTART:20250101T000000
END:STANDARD
END:VTIMEZONE
BEGIN:VEVENT
DTSTART;TZID=America/Chicago:20260303T084500
DTEND;TZID=America/Chicago:20260304T160000
DTSTAMP:20260420T064328
CREATED:20260217T204946Z
LAST-MODIFIED:20260217T212607Z
UID:10000614-1772527500-1772640000@austin-ai.org
SUMMARY:Texas Symposium on Machine Learning\, Responsible AI & Robotics
DESCRIPTION:Join Texas Robotics\, the Machine Learning Lab\, and Good Systems on March 3 & 4 for a two-day symposium exploring responsible innovation in AI and Robotics. Discover boundary-breaking research insights and enjoy thought-provoking talks as you connect with leaders across disciplines and sectors. \nHighlights include keynotes by Gregory D. Hager\, Kilian Weinberger\, and Alice Xiang\, panels exploring topics such as agentic AI (autonomous systems that use reasoning and planning to achieve complex goals with minimal human intervention); ethical considerations for the changing landscape of work; innovation at the intersection of robotics\, AI\, and healthcare; and the use of AI to accelerate scientific discovery. The event will also include an interactive poster session and networking reception. \nFor more information and registration\, please visit https://ai.utexas.edu/events/2026-03-03/texas-symposium-machine-learning-responsible-ai-robotics.  \n 
URL:https://austin-ai.org/event/texas-symposium-on-machine-learning-responsible-ai-robotics/
LOCATION:Etter-Harbin Alumni Center\, 2110 San Jacinto Blvd\, Austin\, TX\, 78712\, United States
ATTACH;FMTTYPE=image/png:https://austin-ai.org/wp-content/uploads/2026/02/Texas-Symposium-on-Machine-Learning-Responsible-AI-Robotics.png
ORGANIZER;CN="Good Systems":MAILTO:goodsystems@austin.utexas.edu
END:VEVENT
BEGIN:VEVENT
DTSTART;TZID=America/Chicago:20260305T173000
DTEND;TZID=America/Chicago:20260305T200000
DTSTAMP:20260420T064328
CREATED:20260220T183431Z
LAST-MODIFIED:20260220T183431Z
UID:10000622-1772731800-1772740800@austin-ai.org
SUMMARY:AWT's March Event: Women in AI Panel
DESCRIPTION:Step into the future of innovation with Austin Women in Technology and Opportunity Austin! Join us for an engaging evening celebrating women founders\, builders\, and leaders shaping the world of artificial intelligence. \nGrab your community and come ready to connect\, learn\, and be inspired. Our Women in AI Panel brings together visionary perspectives on how AI is being used today\, and what’s next\, across industries\, roles\, and business models.
URL:https://austin-ai.org/event/awts-march-event-women-in-ai-panel/
LOCATION:Indeed Tower\, 200 W 6th Street\, Level C\, Austin\, Texas\, 78701\, United States
ATTACH;FMTTYPE=image/png:https://austin-ai.org/wp-content/uploads/2026/02/Women-in-AI-Panel.png
ORGANIZER;CN="Austin Women in Tech":MAILTO:info@awtaustin.org
END:VEVENT
BEGIN:VEVENT
DTSTART;TZID=America/Chicago:20260309T173000
DTEND;TZID=America/Chicago:20260309T193000
DTSTAMP:20260420T064328
CREATED:20260217T205836Z
LAST-MODIFIED:20260217T212030Z
UID:10000615-1773077400-1773084600@austin-ai.org
SUMMARY:2026 Gateway Happy Hour
DESCRIPTION:Kick off SXSW with the Austin Technology Council’s annual GATEWAY HAPPY HOUR – Monday\, March 9th. 5:30 – 7:30. Woody’s Bar. For over 20 years the Austin Technology Council has hosted a party for our local tech community in the days before the world comes to Austin for SXSW. This is a “Good Old Fashioned High Tech Happy Hour”…. the kind that got everything started in Austin in the 1990s. \nWhile out of town techies are always welcome\, this party is purposely held before the crowds arrive to bring the focus on people who come from all areas of our tech ecosystem.This year we will also have the CEO’s of about 20 other Technology Councils\, as the Technology Council’s of North America organization is having their annual CEO Summit in Austin March 9-11. Thus we have invited them all to come see Austin Tech in our natural environment. \nFor more information please visit: https://www.austintechnologycouncil.org/event/2026-gateway-happy-hour/.
URL:https://austin-ai.org/event/2026-gateway-happy-hour/
LOCATION:Woody’s\, 715 W 6th St\, Austin\, Texas\, 78701\, United States
ATTACH;FMTTYPE=image/webp:https://austin-ai.org/wp-content/uploads/2026/02/2026-Gateway-Happy-Hour-March.webp
END:VEVENT
BEGIN:VEVENT
DTSTART;TZID=UTC:20260312T230000
DTEND;TZID=UTC:20260313T020000
DTSTAMP:20260420T064328
CREATED:20260313T005316Z
LAST-MODIFIED:20260313T005316Z
UID:10000636-1773356400-1773367200@austin-ai.org
SUMMARY:ClawCon Austin presented by Kilo Code
DESCRIPTION:Get up-to-date information at: https://luma.com/clawconaustin\nAddress:\nCheck event page for more details.\nHosted by Michael Galpert & 7 others
URL:https://austin-ai.org/event/clawcon-austin-presented-by-kilo-code/
LOCATION:https://luma.com/event/evt-sl0k1zgFaNpYcn0
ORGANIZER;CN="Michael Galpert":MAILTO:calendar-invite@lu.ma
END:VEVENT
BEGIN:VEVENT
DTSTART;TZID=America/Chicago:20260315T170000
DTEND;TZID=America/Chicago:20260315T200000
DTSTAMP:20260420T064328
CREATED:20260204T155326Z
LAST-MODIFIED:20260204T155326Z
UID:10000597-1773594000-1773604800@austin-ai.org
SUMMARY:NachoTuesday: S X S W SaaS & AI Founder + Investor Happy Hour
DESCRIPTION:NachoNacho – The B2B SaaS & AI + Services Marketplace\, Connectd\, Ancient Technologies\, MoFo\, and community partner Emerging LA will host this exclusive Austin Founder + Investor happy hour event. This event will include sponsored drinks and appetizers. ​​​​ \n​This networking event will be exclusively for SaaS/AI: ​​​​ \n​- Founders (minimum Seed funded and later) ​​​​ \n​- C-Suites ​​​​ \n​- Investors/VCs ​​​​ \n​- Tech media ​​​ \n​Your application will be carefully screened. No +1s allowed.
URL:https://austin-ai.org/event/nachotuesday-s-x-s-w-saas-ai-founder-investor-happy-hour/
LOCATION:little woodrow’s\, 520 W 6th St\, Austin\, 78701\, United States
ATTACH;FMTTYPE=image/png:https://austin-ai.org/wp-content/uploads/2026/02/SXSW-mar-2026-Happy-Hour-SQUARE-2-1-scaled.png
END:VEVENT
BEGIN:VEVENT
DTSTART;TZID=UTC:20260316T180000
DTEND;TZID=UTC:20260316T230000
DTSTAMP:20260420T064328
CREATED:20260313T005320Z
LAST-MODIFIED:20260313T005320Z
UID:10000637-1773684000-1773702000@austin-ai.org
SUMMARY:Miro x Replit Hackathon: Plan it. Build it. Ship it.
DESCRIPTION:Get up-to-date information at: https://luma.com/7cv8plqi  Address: 303 Colorado St We will have greeters in the Lobby of the Colorado Tower to guide attendees to the proper elevator. Note: We are unable to validate parking for this event. Austin\, Texas United States  Hosted by Miro Community Team\, Brendan Dugan & Zachary Ginis
URL:https://austin-ai.org/event/miro-x-replit-hackathon-plan-it-build-it-ship-it/
LOCATION:303 Colorado St\, Austin\, TX\, United States
ORGANIZER;CN="Miro Community Team":MAILTO:calendar-invite@lu.ma
GEO:30.268335;-97.741382
END:VEVENT
BEGIN:VEVENT
DTSTART;TZID=America/Chicago:20260318T163000
DTEND;TZID=America/Chicago:20260318T200000
DTSTAMP:20260420T064328
CREATED:20260204T153508Z
LAST-MODIFIED:20260317T171615Z
UID:10000599-1773851400-1773864000@austin-ai.org
SUMMARY:Texas AI House – Special event host & time
DESCRIPTION:The Austin AI Alliance is an AI consortium dedicated to advancing the capabilities\, usage & impact\, social responsibility\, and inclusiveness of AI technologies and applications by leveraging the unique resources\, talent base\, and culture of creative innovation in Austin. The Austin AI Alliance is welcoming of all companies and organizations and will help to connect professionals from companies (from startups to global technology leaders)\, universities\, government agencies\, professional associations\, non-profits\, and interest groups—and to elevate all of their respective activities as well as creative collaborative opportunities. \n\n\nMembers and Public\, all welcome\n\n\n\nNetwork with entrepreneurs\, corporate leaders\, academics\, students\, innovators\, and subject matter experts building AI in Austin and find future collaborations. \n\n\n\n\n\n\n  \nTexas AI House. \nRepresentative survey of Austin showing AI trends\, challenges\, and opportunities in 2026 in partnership with Austin Women in Technology.  \nBonus session\, we will dive into one of the key trends identified – AI in the physical World – in a special event hosted on the UT campus by the Institute for Foundations of Machine Learning (IFML).  \n  \nInnovation Spotlight:  \nThis month\, we will hear from Charles Donly of HICAM. F2AI at HICAM: Bringing digital fabrication to the U.S. shipbuilding supply chain while seeding a community where industrial innovators learn\, collaborate\, and advance manufacturability.  \n\n\n  \n\n\n\nAgenda does not typically change but this month will be:\n\n\n4:30 – 5:00 PM | Check-in and Networking5:00 – 5:45 PM | AI in Austin Survey Results – Displaced or Empowered5:45 – 6:30 PM | Innovation Spotlight: AI in the Physical World\n6:30 – 7:00 PM | Cool things we saw at SXSW / Reverse Pitches\n7:00 – 8:00 PM | Projects\, Collaboration\, and Networking\n\n\n\n\nInterested in sponsoring the survey or other events? Send an email to info@austin-ai.org.\n  \nThe meeting will be held at the University of Texas Gates Dell Complex in the Zaib and Amir Husain Auditorium – room number 2.216. Please note\, this is located on the ground floor. The closest visitor parking is the San Jacinto garage. \n  \n\n\n 
URL:https://austin-ai.org/event/austin-ai-alliance-monthly-meeting-march/
LOCATION:University of Texas – Gates Dell Complex\, 2317 SPEEDWAY\, AUSTIN\, TX 78712\, Austin\, TX\, United States
CATEGORIES:AAIA
ATTACH;FMTTYPE=image/png:https://austin-ai.org/wp-content/uploads/2026/02/Screenshot-2026-03-03-021151.png
ORGANIZER;CN="Austin AI Alliance":MAILTO:info@austin-ai.org
END:VEVENT
BEGIN:VEVENT
DTSTART;TZID=America/Chicago:20260319T190000
DTEND;TZID=America/Chicago:20260319T210000
DTSTAMP:20260420T064328
CREATED:20260204T154652Z
LAST-MODIFIED:20260320T032746Z
UID:10000596-1773946800-1773954000@austin-ai.org
SUMMARY:GenAI 2.0: The "Introduction to Generative AI" Second Edition Launch Party
DESCRIPTION:Join us for an in-person book signing on Thursday\, March 19 at Remedy Bar!\n\n\nThe field of Generative AI has moved at breakneck speed since its first breakout moment. To make sense of where we are and where we’re going\, join the Austin Forum for a celebratory in-person book release party for the second edition of “Introduction to Generative AI” by authors Numa Dhamani and Maggie Engler. \nThis isn’t just a book signing—it’s a gathering of Austin’s most curious minds to discuss the evolution of AI from simple chatbots to the complex\, agentic systems of 2026. Numa and Maggie will take the stage to discuss the major updates in this new edition\, share their insights on the ethical and technical frontiers of GenAI\, and answer your most pressing questions. \nEvening Highlights: \n\nThe Impact of 2.0: Discuss the shift from “content generation” to “task execution” and what it means for your career and organization.\nAuthor Discussion & Q&A: Hear directly from Numa and Maggie about the journey of writing the second edition and their predictions for the next wave of AI innovation.\nBook Signing: Meet the authors and get your copy of the second edition personalized.\nNetworking: Connect with a diverse group of tech professionals\, researchers\, and enthusiasts over drinks and appetizers.\n\nWhether you’re an AI veteran or just beginning to explore the field\, come celebrate this milestone and join the conversation about the technology that is rewriting the rules of the physical and digital worlds. \n \nAttendance Instructions\nAll participants must register for this event via Eventbrite. This will be an in-person event held at Remedy Bar. Paid street parking is available.
URL:https://austin-ai.org/event/genai-2-0-the-introduction-to-generative-ai-second-edition-launch-party/
LOCATION:Remedy\, 360 Nueces St\, STE 30\, Austin\, TX\, 78701\, United States
ATTACH;FMTTYPE=image/jpeg:https://austin-ai.org/wp-content/uploads/2026/01/15534edfae5964b73a45da74eccc81f5.jpg
END:VEVENT
BEGIN:VEVENT
DTSTART;TZID=UTC:20260324T160000
DTEND;TZID=UTC:20260324T180000
DTSTAMP:20260420T064328
CREATED:20260320T005833Z
LAST-MODIFIED:20260320T005833Z
UID:10000642-1774368000-1774375200@austin-ai.org
SUMMARY:Women Who Play Big Will Shape AI
DESCRIPTION:Get up-to-date information at: https://luma.com/z8af8wgb\nAddress:\nCheck event page for more details.\nHosted by Amy Daali PhD & Vidhya Subramanian
URL:https://austin-ai.org/event/women-who-play-big-will-shape-ai/
LOCATION:https://luma.com/event/evt-waNMovupYOJ7ZSE
ORGANIZER;CN="Amy Daali PhD":MAILTO:calendar-invite@lu.ma
END:VEVENT
BEGIN:VEVENT
DTSTART;TZID=UTC:20260324T223000
DTEND;TZID=UTC:20260325T003000
DTSTAMP:20260420T064328
CREATED:20260227T004046Z
LAST-MODIFIED:20260320T005834Z
UID:10000626-1774391400-1774398600@austin-ai.org
SUMMARY:AITX Monthly Meetup
DESCRIPTION:Get up-to-date information at: https://luma.com/aitx-mar26  Address: Antler VC Austin\, Texas United States  Hosted by Jake O’Shea & Michael Daigler
URL:https://austin-ai.org/event/aitx-monthly-meetup-8/
LOCATION:Antler VC\, 800 Brazos St\, Austin\, TX\, United States
ORGANIZER;CN="Jake O'Shea":MAILTO:calendar-invite@lu.ma
GEO:30.269531;-97.74078
X-APPLE-STRUCTURED-LOCATION;VALUE=URI;X-ADDRESS=Antler VC 800 Brazos St Austin TX United States;X-APPLE-RADIUS=500;X-TITLE=800 Brazos St:geo:-97.74078,30.269531
END:VEVENT
BEGIN:VEVENT
DTSTART;TZID=UTC:20260326T223000
DTEND;TZID=UTC:20260327T010000
DTSTAMP:20260420T064328
CREATED:20260306T004241Z
LAST-MODIFIED:20260320T005835Z
UID:10000631-1774564200-1774573200@austin-ai.org
SUMMARY:Applied AI Live #3: How To Build Production Grade OpenClaws
DESCRIPTION:Get up-to-date information at: https://luma.com/AppliedAILive003  Address: Antler VC Austin\, Texas United States  Hosted by Gary Sheng\, Michael Daigler & Jordaaan
URL:https://austin-ai.org/event/applied-ai-live-3-making-money-building-secure-openclaws-for-businesses/
LOCATION:Antler VC\, 800 Brazos St\, Austin\, TX\, United States
ORGANIZER;CN="Gary Sheng":MAILTO:calendar-invite@lu.ma
GEO:30.269531;-97.74078
X-APPLE-STRUCTURED-LOCATION;VALUE=URI;X-ADDRESS=Antler VC 800 Brazos St Austin TX United States;X-APPLE-RADIUS=500;X-TITLE=800 Brazos St:geo:-97.74078,30.269531
END:VEVENT
BEGIN:VEVENT
DTSTART;TZID=America/Chicago:20260331T083000
DTEND;TZID=America/Chicago:20260331T103000
DTSTAMP:20260420T064328
CREATED:20260217T210953Z
LAST-MODIFIED:20260217T211933Z
UID:10000616-1774945800-1774953000@austin-ai.org
SUMMARY:March Roundtable Breakfast
DESCRIPTION:Join the Austin Technology Council for our March Roundtable Breakfast to talk about “AI and the Impact on SEO and Search”. \nThe world of being found online is changing fast. Many people are skipping Google and other search engines and going right to ChatGPT\, Gemini\, Perplexity\, etc… And even if you use Google the first result is from their AI. Companies used to rely on ranking on page one of Google to be discovered for their offerings\, but now that is not as impactful. Join our panel for a discussion about how to make sure you are being found when \n8:30-10:30 AM. (Please notice the extended 30 minute ending time\, as we expect a lot of Q&A on this topic) \nFor more information please visit: https://www.austintechnologycouncil.org/event/march-roundtable-breakfast/.
URL:https://austin-ai.org/event/march-roundtable-breakfast/
LOCATION:Calavista Software\, 9225 Bee Cave Road Building A\, Suite 350\, Austin\, TX\, 78733\, United States
ATTACH;FMTTYPE=image/webp:https://austin-ai.org/wp-content/uploads/2026/02/ATC-March-Roundtable.webp
END:VEVENT
END:VCALENDAR