BEGIN:VCALENDAR
VERSION:2.0
PRODID:-//Austin AI Alliance - ECPv6.15.20//NONSGML v1.0//EN
CALSCALE:GREGORIAN
METHOD:PUBLISH
X-ORIGINAL-URL:https://austin-ai.org
X-WR-CALDESC:Events for Austin AI Alliance
REFRESH-INTERVAL;VALUE=DURATION:PT1H
X-Robots-Tag:noindex
X-PUBLISHED-TTL:PT1H
BEGIN:VTIMEZONE
TZID:UTC
BEGIN:STANDARD
TZOFFSETFROM:+0000
TZOFFSETTO:+0000
TZNAME:UTC
DTSTART:20250101T000000
END:STANDARD
END:VTIMEZONE
BEGIN:VTIMEZONE
TZID:America/Chicago
BEGIN:DAYLIGHT
TZOFFSETFROM:-0600
TZOFFSETTO:-0500
TZNAME:CDT
DTSTART:20250309T080000
END:DAYLIGHT
BEGIN:STANDARD
TZOFFSETFROM:-0500
TZOFFSETTO:-0600
TZNAME:CST
DTSTART:20251102T070000
END:STANDARD
BEGIN:DAYLIGHT
TZOFFSETFROM:-0600
TZOFFSETTO:-0500
TZNAME:CDT
DTSTART:20260308T080000
END:DAYLIGHT
BEGIN:STANDARD
TZOFFSETFROM:-0500
TZOFFSETTO:-0600
TZNAME:CST
DTSTART:20261101T070000
END:STANDARD
BEGIN:DAYLIGHT
TZOFFSETFROM:-0600
TZOFFSETTO:-0500
TZNAME:CDT
DTSTART:20270314T080000
END:DAYLIGHT
BEGIN:STANDARD
TZOFFSETFROM:-0500
TZOFFSETTO:-0600
TZNAME:CST
DTSTART:20271107T070000
END:STANDARD
END:VTIMEZONE
BEGIN:VTIMEZONE
TZID:-06:00
END:VTIMEZONE
BEGIN:VEVENT
DTSTART;TZID=UTC:20260206T000000
DTEND;TZID=UTC:20260206T020000
DTSTAMP:20260423T101538
CREATED:20260129T224310Z
LAST-MODIFIED:20260205T225709Z
UID:10000594-1770336000-1770343200@austin-ai.org
SUMMARY:Hack AI
DESCRIPTION:Get up-to-date information at: https://luma.com/nqjbwndn  Address: Capital Factory 16th floor\, ACL Room Austin\, Texas United States  Hosted by Reid McCrabb & 3 others
URL:https://austin-ai.org/event/hack-ai-5/
LOCATION:Capital Factory\, 701 Brazos Street\, Floor 8th\, Austin\, TX\, 78701\, United States
ORGANIZER;CN="Reid McCrabb":MAILTO:calendar-invite@lu.ma
GEO:30.268603;-97.741109
X-APPLE-STRUCTURED-LOCATION;VALUE=URI;X-ADDRESS=Capital Factory 701 Brazos Street Floor 8th Austin TX 78701 United States;X-APPLE-RADIUS=500;X-TITLE=701 Brazos Street\, Floor 8th:geo:-97.741109,30.268603
END:VEVENT
BEGIN:VEVENT
DTSTART;TZID=America/Chicago:20260206T130000
DTEND;TZID=America/Chicago:20260206T160000
DTSTAMP:20260423T101538
CREATED:20260204T154611Z
LAST-MODIFIED:20260206T111057Z
UID:10000595-1770382800-1770393600@austin-ai.org
SUMMARY:Chatbot Challenge: Learn the Latest Features\, Show Your Greatest Hacks
DESCRIPTION:Join us at Remedy Bar!\n\n\nThe landscape of AI chatbots—from ChatGPT and Claude to Gemini and beyond—is shifting almost weekly. To help you stay at the cutting edge\, join the Austin Forum for a high-energy session dedicated to the latest breakthroughs in conversational AI and the real-world hacks that are redefining productivity in 2026. \nWe’ll kick off the event with a comprehensive overview of the newest features in the leading AI models. We’ll explore the transition from simple text generation to advanced “System 2” reasoning\, massive context windows\, and the rise of integrated agentic workflows that can act on your behalf. \nThe highlight of the event will be our “Community Hack Showcase.” After the overview\, we will open the floor to Austin’s power users to share their coolest\, most effective productivity hacks. on a 150: projector screen. You’ll see firsthand how local experts are using AI to: \n\nAutomate Research: Building “closed-loop” pipelines that ingest and summarize thousands of pages in minutes.\nHyper-Efficient Coding: Showcasing the latest in AI-assisted development and debugging workflows.\nCreative Orchestration: Moving from simple prompts to complex\, multi-agent brainstorming and project management.\nWorkflow Integration: Plugging chatbots into everyday tools (Slack\, Email\, CRM) to eliminate “administrative drag.”\n\nIf you want to learn\, register now. If you also want to show a very cool productivity hack\, let us know at info@austiforum.org or show up and sign up! Everyone is encouraged to bring a fully charged laptop!Whether you’re looking to understand the latest feature set or you want to steal a few secret weapons for your own daily workflow\, this event is your guide to the most practical and powerful tools in the AI ecosystem. Come prepared to learn\, share your own hacks\, and connect with a community of innovators. \n \nAttendance Instructions\nAll participants must register for this event via Eventbrite. This will be an in-person event held at Remedy Bar. Paid street parking is available.
URL:https://austin-ai.org/event/chatbot-challenge-learn-the-latest-features-show-your-greatest-hacks/
LOCATION:Remedy\, 360 Nueces St\, STE 30\, Austin\, TX\, 78701\, United States
ATTACH;FMTTYPE=image/jpeg:https://austin-ai.org/wp-content/uploads/2026/01/4fcd4ea6f3048dda9060142f1c232d7a.jpg
END:VEVENT
BEGIN:VEVENT
DTSTART;TZID=America/Chicago:20260209T080000
DTEND;TZID=America/Chicago:20260211T170000
DTSTAMP:20260423T101538
CREATED:20251204T180555Z
LAST-MODIFIED:20251204T180555Z
UID:10000560-1770624000-1770829200@austin-ai.org
SUMMARY:AI ICON (AI & Innovation Conference)
DESCRIPTION:AI ICON is a curated upskilling platform and conference whose dual mission is to significantly enhance participants’ AI IQ through active\, learning-by-doing methodologies\, moving them from passive learning into practical building. Beyond its educational function\, AI ICON serves a critical strategic role as a clear Q1 Go-To-Market (GTM) platform for new and emerging technologies\, accelerating the AI ecosystem by connecting innovators\, executives\, and investors to drive strategic partnerships. Come and learn from the “Queen of AI”\, Ms Alicia Lyttle\, when you invest in an ICON Badge. Everyone with an ICON Badge will receive 200 powerful prompts to start your 2026 off right! \nIf any member is interested in becoming a Trainer or would like to use AI ICON as part of their Go-To-Market Strategy\, please email us at info@aiicon.com.
URL:https://austin-ai.org/event/ai-icon-ai-innovation-conference/
LOCATION:TX
ATTACH;FMTTYPE=image/jpeg:https://austin-ai.org/wp-content/uploads/2025/12/Alicia-Lyttle-AI-ICON-Eventbrite-NOW-scaled.jpg
END:VEVENT
BEGIN:VEVENT
DTSTART;TZID=-06:00:20260211T190000
DTEND;TZID=-06:00:20260211T220000
DTSTAMP:20260423T101538
CREATED:20250918T192330Z
LAST-MODIFIED:20250918T192330Z
UID:10000096-1770836400-1770847200@austin-ai.org
SUMMARY:The Austin Python Meetup
DESCRIPTION:**New location at Brazos Place @ 800 Brazos st. us the entrance on brazos street not 8th.**\nThis is a Hybrid event both **in-person** and virtual. The **in-person** event is hosted at **[Antler](https://www.antler.co/location/us)** downtown Austin. \n**Address:**\nBrazos Place @ 800 Brazos st\,\nThe entrance is off of Brazos st. \n**Talk: Alex Merced -** Python Meets Apache Iceberg: Exploring Different Ways to Work with Iceberg Tables with Python \n**Description:**\nDiscover how Python is becoming a powerful interface for working with Apache Iceberg tables. In this session\, we’ll dive into the capabilities of the PyIceberg library for directly interacting with Iceberg metadata\, demonstrate how to query Iceberg data using the `dremio-simple-query` client\, and explore how Dremio’s Polaris catalog enables a fully managed REST-based Iceberg experience. We’ll also preview how the upcoming **Pandas v3** release enhances native support for Apache Arrow and unlocks new performance and interoperability possibilities with the Iceberg ecosystem. Whether you’re building data pipelines\, exploring data science workflows\, or managing a lakehouse\, this talk will show how Python fits naturally into the Apache Iceberg journey. \n**Speaker Bio**\nAlex Merced is Head of DevRel at Dremio with experience as a developer and instructor. His professional journey includes roles at GenEd Systems\, Crossfield Digital\, CampusGuard\, and General Assembly. He co-authored “Apache Iceberg: The Definitive Guide” published by O’Reilly and has spoken at notable events such as Data Day Texas and Data Council. Alex is passionate about technology\, sharing his expertise through blogs\, videos\, podcasts like Datanation and Web Dev 101\, and contributions to the JavaScript and Python communities with libraries like SencilloDB and CoquitoJS.\n**Antler**\nAntler works with [founders](https://www.antler.co/location/us) through our signature founder residency\, adding value immediately\, and taking no equity up front. We receive over 160\,000 applications each year to build companies with us\, and have grown to 18 funds with residencies in 30 cities around the globe. Founders also have the opportunity to pitch our Investment Committee to receive an up to $500K investment\, allowing them to build for 12-18 months rather than attempting to raise before they have real traction.
URL:https://austin-ai.org/event/the-austin-python-meetup-5/
LOCATION:Online event
ATTACH;FMTTYPE=image/jpeg:https://austin-ai.org/wp-content/uploads/2025/09/1024x576-R851zy.jpg
GEO:-8.521147;179.1962
END:VEVENT
BEGIN:VEVENT
DTSTART;TZID=UTC:20260212T233000
DTEND;TZID=UTC:20260213T010000
DTSTAMP:20260423T101538
CREATED:20260108T222430Z
LAST-MODIFIED:20260213T002902Z
UID:10000579-1770939000-1770944400@austin-ai.org
SUMMARY:CISO AI Roundtable w/ Antler
DESCRIPTION:Get up-to-date information at: https://luma.com/am399gqi\nAddress:\nCheck event page for more details.\nHosted by Elliott Fielding & 3 others
URL:https://austin-ai.org/event/ciso-ai-roundtable-w-antler/
LOCATION:https://luma.com/event/evt-AVEx4Aw2wxRgQai
ORGANIZER;CN="Elliott Fielding":MAILTO:calendar-invite@lu.ma
END:VEVENT
BEGIN:VEVENT
DTSTART;TZID=UTC:20260213T230000
DTEND;TZID=UTC:20260215T000000
DTSTAMP:20260423T101538
CREATED:20260205T225709Z
LAST-MODIFIED:20260213T002903Z
UID:10000604-1771023600-1771113600@austin-ai.org
SUMMARY:Moltathon ATX
DESCRIPTION:Get up-to-date information at: https://luma.com/edo6arb3  Address: Antler VC Austin\, Texas United States  Hosted by Michael Daigler & 4 others
URL:https://austin-ai.org/event/moltathon-atx/
LOCATION:Antler VC\, 800 Brazos St\, Austin\, TX\, United States
ORGANIZER;CN="Michael Daigler":MAILTO:calendar-invite@lu.ma
GEO:30.269531;-97.74078
X-APPLE-STRUCTURED-LOCATION;VALUE=URI;X-ADDRESS=Antler VC 800 Brazos St Austin TX United States;X-APPLE-RADIUS=500;X-TITLE=800 Brazos St:geo:-97.74078,30.269531
END:VEVENT
BEGIN:VEVENT
DTSTART;TZID=America/Chicago:20260217T181500
DTEND;TZID=America/Chicago:20260217T194500
DTSTAMP:20260423T101538
CREATED:20260204T154635Z
LAST-MODIFIED:20260217T204207Z
UID:10000598-1771352100-1771357500@austin-ai.org
SUMMARY:Scaling the Smart World: Developing\, Deploying\, and Operating IoT at Scale
DESCRIPTION:Join us online – February 17th!\n\n\nIn 2026\, the Internet of Things (IoT) has moved beyond the world of “connected gadgets” to become the invisible nervous system of our physical world. From high-end residential automation to high-density professional workspaces\, the challenge is no longer just connecting a device—it’s the development\, deployment\, and ongoing operation of these systems at scale. \nJoin the Austin Forum as we welcome Lionel Felix\, Founder and Chief Revenue Officer of Felix Media Solutions and Founder of StructureSense.AI–and one of the city’s foremost experts in smart infrastructure–for an overview of the current landscape of IoT technologies and implementation considerations. Drawing on his experience managing complex\, mission-critical AV and automation environments\, Lionel will share the latest best practices for building systems that are resilient\, secure\, and—most importantly—functional. \nKey discussion points include: \n\nThe Full Lifecycle: Moving from the “Develop” phase (protocols like Matter/Thread and Edge AI) to “Deploy” (automated provisioning) and “Operate” (unified observability and predictive maintenance).\nIntelligent Homes: How luxury residential IoT is shifting from simple automation to “ambient intelligence” that anticipates human needs.\nProfessional Spaces: Strategies for deploying enterprise-grade IoT in workspaces to drive energy efficiency\, occupancy optimization\, and high availability.\nSecurity & Longevity: Navigating the critical challenges of firmware lifecycle management\, silicon-level security\, and privacy-first design.\n\nWhether you are a developer\, an operations professional\, or an architect of intelligent spaces\, come learn the “from-the-trenches” strategies needed to scale the smart world effectively in 2026. \n \nAttendance Instructions \nThe discussion will be held online via Google Meet. Please register to receive the meet link! \nSpace is limited\, so please register only if you’re confident you can attend—and kindly cancel your registration if your plans change so we can open your spot to another participant.
URL:https://austin-ai.org/event/scaling-the-smart-world-developing-deploying-and-operating-iot-at-scale/
LOCATION:TX
ATTACH;FMTTYPE=image/jpeg:https://austin-ai.org/wp-content/uploads/2026/02/158d4a5762116030369bd3d66edc377a.jpg
END:VEVENT
BEGIN:VEVENT
DTSTART;TZID=America/Chicago:20260218T173000
DTEND;TZID=America/Chicago:20260218T200000
DTSTAMP:20260423T101538
CREATED:20260128T211759Z
LAST-MODIFIED:20260217T225729Z
UID:10000592-1771435800-1771444800@austin-ai.org
SUMMARY:Venue Changed -February Meeting- AI in Healthcare
DESCRIPTION:The Austin AI Alliance is an AI consortium dedicated to advancing the capabilities\, usage & impact\, social responsibility\, and inclusiveness of AI technologies and applications by leveraging the unique resources\, talent base\, and culture of creative innovation in Austin. The Austin AI Alliance is welcoming of all companies and organizations and will help to connect professionals from companies (from startups to global technology leaders)\, universities\, government agencies\, professional associations\, non-profits\, and interest groups—and to elevate all of their respective activities as well as creative collaborative opportunities. \nMembers and Public\, all welcome\n\n\n\nNetwork with entrepreneurs\, corporate leaders\, academics\, students\, innovators\, and subject matter experts building AI in Austin and find future collaborations.\n\n\n\n\n\nThis month\, we’re hosting an Innovation Spotlight focused on AI in Healthcare. \nHealthcare Hive is Buzzing About AI: But Are They Making Honey? \nIn this Innovation Spotlight\, you will hear from Bob Teague of Green Room Technologies. The healthcare enterprise is huge with many moving parts who are simultaneously experimenting with the concepts and applications of advanced analytics and computing aka AI. How can I keep track of what’s working and access the benefits? \nProcess and analytic automation in healthcare have been evolving over several rounds of AI but recently are accelerating. What real world benefits are there? \nAt the point of care delivery and care experience\, how does AI help providers deliver more accurate care with less hassle and (dream) less expense? There is a lot of buzz. Any honey? \nWhat would an AI first Healthcare System look like? UT Dell Med wants to build one. \nKairos — The Decisive Moment for AI in Healthcare \nHealthcare stands at a true Kairos moment — the ancient Greek term for the decisive point where preparation meets opportunity and transformation becomes inevitable. Healthcare has been waiting for this moment — where AI is finally mature enough to handle the clinical\, regulatory\, and operational complexity that enterprise health plans demand. And we’ve spent years preparing for exactly this.  \nIn this Innovation Spotlight\, Ganesh Padmanabhan\, Founder & CEO of Autonomize AI\, shares what it actually takes to cross the chasm from pilot to production at enterprise scale. Drawing from firsthand experience deploying AI across three of the five largest U.S. healthcare enterprises\, Ganesh will unpack why technology alone is not the breakthrough — integrated execution is. \nGanesh will argue that healthcare doesn’t need more AI models. It needs AI teams capable of carrying the clinical\, regulatory\, and operational weight of every decision embedded in the $4.5 trillion healthcare system. This session challenges leaders to recognize that the decisive moment is here. The models are ready. The infrastructure is ready. The market demand is clear. This is healthcare’s Kairos — and the time to act is now. \n\n\n\n\n \n\n\n\nAgenda:\n5:30 – 6:00 PM | Check-in and Networking\n6:00 – 7:00 PM | Innovation Spotlights and Reverse Pitches\n7:00 – 8:00 PM | Projects\, Collaboration\, and Networking \n\n  \n\nJoin us at Calavista Software. 9225 Bee Cave Road Building A\, Suite 350 Austin\, Texas 78733\n 
URL:https://austin-ai.org/event/austin-ai-alliance-monthly-meeting-february/
LOCATION:Calavista Software\, 9225 Bee Cave Road Building A\, Suite 350\, Austin\, TX\, 78733\, United States
CATEGORIES:AAIA
ATTACH;FMTTYPE=image/jpeg:https://austin-ai.org/wp-content/uploads/2025/08/cad23296c401e3c1210e70f5961a6850.jpg
ORGANIZER;CN="Austin AI Alliance":MAILTO:info@austin-ai.org
END:VEVENT
BEGIN:VEVENT
DTSTART;TZID=UTC:20260219T153000
DTEND;TZID=UTC:20260219T170000
DTSTAMP:20260423T101538
CREATED:20260115T222825Z
LAST-MODIFIED:20260217T213158Z
UID:10000587-1771515000-1771520400@austin-ai.org
SUMMARY:First Commit: Building & Scaling Base Power with Jared Greene
DESCRIPTION:Join Antler and AITX for the next session of First Commit\, our fireside chat series with technical leaders who’ve scaled startups from zero to one and beyond. \n​This month\, we’re sitting down with Jared Greene\, Founding Engineer and Head of Software at Austin-based Unicorn Base Power. Before helping launch Base to fix the modern power grid\, Jared was a Lead Software Engineer at SpaceX\, where he worked on Starlink’s laser topology. He joined the Starlink team when there were only 60 satellites in orbit and helped scale the network to thousands\, building the backbone of space-based internet. \nGet up-to-date information at: https://luma.com/firstcommit-feb26 Address: Antler VC Austin\, Texas United States Hosted by Jake O’Shea & Jared Michael Greene
URL:https://austin-ai.org/event/first-commit-building-scaling-base-power-with-jared-greene/
LOCATION:Antler VC\, 800 Brazos St\, Austin\, TX\, United States
ATTACH;FMTTYPE=image/avif:https://austin-ai.org/wp-content/uploads/2026/01/firstcommit-feb26.avif
ORGANIZER;CN="Jake O'Shea":MAILTO:calendar-invite@lu.ma
GEO:30.269531;-97.74078
X-APPLE-STRUCTURED-LOCATION;VALUE=URI;X-ADDRESS=Antler VC 800 Brazos St Austin TX United States;X-APPLE-RADIUS=500;X-TITLE=800 Brazos St:geo:-97.74078,30.269531
END:VEVENT
BEGIN:VEVENT
DTSTART;TZID=UTC:20260224T233000
DTEND;TZID=UTC:20260225T013000
DTSTAMP:20260423T101538
CREATED:20260115T222826Z
LAST-MODIFIED:20260220T003945Z
UID:10000588-1771975800-1771983000@austin-ai.org
SUMMARY:AITX Monthly Meetup
DESCRIPTION:Get up-to-date information at: https://luma.com/aitx-feb26  Address: Antler VC Austin\, Texas United States  Hosted by Jake O’Shea
URL:https://austin-ai.org/event/aitx-monthly-meetup-7/
LOCATION:Antler VC\, 800 Brazos St\, Austin\, TX\, United States
ATTACH;FMTTYPE=image/avif:https://austin-ai.org/wp-content/uploads/2026/01/AITX-Monthly-Meetup.avif
ORGANIZER;CN="Jake O'Shea":MAILTO:calendar-invite@lu.ma
GEO:30.269531;-97.74078
X-APPLE-STRUCTURED-LOCATION;VALUE=URI;X-ADDRESS=Antler VC 800 Brazos St Austin TX United States;X-APPLE-RADIUS=500;X-TITLE=800 Brazos St:geo:-97.74078,30.269531
END:VEVENT
BEGIN:VEVENT
DTSTART;TZID=UTC:20260226T000000
DTEND;TZID=UTC:20260226T023000
DTSTAMP:20260423T101538
CREATED:20260108T222431Z
LAST-MODIFIED:20260220T003945Z
UID:10000580-1772064000-1772073000@austin-ai.org
SUMMARY:The Data Portability Hackathon: Building Human-Centered AI
DESCRIPTION:Get up-to-date information at: https://luma.com/aic_aitx_dti_225\nAddress:\nCheck event page for more details.\nHosted by The AI Collective & 6 others
URL:https://austin-ai.org/event/the-data-portability-hackathon-building-human-centered-ai/
LOCATION:https://luma.com/event/evt-GdtgyID4Zf4y3E2
ATTACH;FMTTYPE=image/avif:https://austin-ai.org/wp-content/uploads/2026/01/The-Data-Portability-Hackathon-Building-HumanCentered-AI.avif
ORGANIZER;CN="The AI Collective":MAILTO:calendar-invite@lu.ma
END:VEVENT
BEGIN:VEVENT
DTSTART;TZID=UTC:20260226T233000
DTEND;TZID=UTC:20260227T020000
DTSTAMP:20260423T101538
CREATED:20260205T225711Z
LAST-MODIFIED:20260227T004044Z
UID:10000605-1772148600-1772157600@austin-ai.org
SUMMARY:Applied AI Live #2: Agentic GTM Masterclass and OpenClaw Guardrails Mastermind
DESCRIPTION:Get up-to-date information at: https://luma.com/AppliedAILive002  Address: Grain and Berry – Downtown Austin Austin\, Texas United States  Hosted by Michael Daigler & Gary Sheng
URL:https://austin-ai.org/event/applied-ai-live-2/
LOCATION:Grain and Berry – Downtown Austin\, 1213 W 5th St\, Austin\, TX\, United States
ATTACH;FMTTYPE=image/avif:https://austin-ai.org/wp-content/uploads/2026/02/dbd65b45-1508-4567-892a-c292e197ca15.avif
ORGANIZER;CN="Michael Daigler":MAILTO:calendar-invite@lu.ma
GEO:30.271633;-97.758317
X-APPLE-STRUCTURED-LOCATION;VALUE=URI;X-ADDRESS=Grain and Berry – Downtown Austin 1213 W 5th St Austin TX United States;X-APPLE-RADIUS=500;X-TITLE=1213 W 5th St:geo:-97.758317,30.271633
END:VEVENT
BEGIN:VEVENT
DTSTART;TZID=America/Chicago:20260227T080000
DTEND;TZID=America/Chicago:20260227T160000
DTSTAMP:20260423T101538
CREATED:20260217T204411Z
LAST-MODIFIED:20260217T204411Z
UID:10000613-1772179200-1772208000@austin-ai.org
SUMMARY:HealthTech AI Frontier 2026
DESCRIPTION:Lone Star HealthTech AI Frontier 2026 is an exclusive\, invitation-only summit taking place on February 27\, 2026\, at TMC³ (Texas Medical Center Innovation) in Houston\, Texas. Hosted by CENA Research Institute and Modi Ventures\, the event brings together approximately 300 high-leverage leaders from academia\, healthcare systems\, MedTech startups\, pharma\, policy\, and venture capital to focus on practical AI implementation in healthcare—moving beyond hype to examine real-world deployment\, measurable outcomes\, and scalable solutions. \nFor more information and tickets\, please visit https://luma.com/cena2026.
URL:https://austin-ai.org/event/healthtech-ai-frontier-2026/
LOCATION:TX
ATTACH;FMTTYPE=image/avif:https://austin-ai.org/wp-content/uploads/2026/02/cena2026.avif
END:VEVENT
END:VCALENDAR