BEGIN:VCALENDAR
VERSION:2.0
PRODID:-//Austin AI Alliance - ECPv6.15.20//NONSGML v1.0//EN
CALSCALE:GREGORIAN
METHOD:PUBLISH
X-ORIGINAL-URL:https://austin-ai.org
X-WR-CALDESC:Events for Austin AI Alliance
REFRESH-INTERVAL;VALUE=DURATION:PT1H
X-Robots-Tag:noindex
X-PUBLISHED-TTL:PT1H
BEGIN:VTIMEZONE
TZID:-06:00
END:VTIMEZONE
BEGIN:VTIMEZONE
TZID:America/Chicago
BEGIN:DAYLIGHT
TZOFFSETFROM:-0600
TZOFFSETTO:-0500
TZNAME:CDT
DTSTART:20240310T080000
END:DAYLIGHT
BEGIN:STANDARD
TZOFFSETFROM:-0500
TZOFFSETTO:-0600
TZNAME:CST
DTSTART:20241103T070000
END:STANDARD
BEGIN:DAYLIGHT
TZOFFSETFROM:-0600
TZOFFSETTO:-0500
TZNAME:CDT
DTSTART:20250309T080000
END:DAYLIGHT
BEGIN:STANDARD
TZOFFSETFROM:-0500
TZOFFSETTO:-0600
TZNAME:CST
DTSTART:20251102T070000
END:STANDARD
BEGIN:DAYLIGHT
TZOFFSETFROM:-0600
TZOFFSETTO:-0500
TZNAME:CDT
DTSTART:20260308T080000
END:DAYLIGHT
BEGIN:STANDARD
TZOFFSETFROM:-0500
TZOFFSETTO:-0600
TZNAME:CST
DTSTART:20261101T070000
END:STANDARD
END:VTIMEZONE
BEGIN:VTIMEZONE
TZID:UTC
BEGIN:STANDARD
TZOFFSETFROM:+0000
TZOFFSETTO:+0000
TZNAME:UTC
DTSTART:20240101T000000
END:STANDARD
END:VTIMEZONE
BEGIN:VEVENT
DTSTART;TZID=-06:00:20251104T190000
DTEND;TZID=-06:00:20251104T210000
DTSTAMP:20260423T152058
CREATED:20250918T192507Z
LAST-MODIFIED:20250918T192621Z
UID:10000117-1762282800-1762290000@austin-ai.org
SUMMARY:TBD
DESCRIPTION:**This will be a journal club event**\nTwo Talks:\n1.\n2. \n**Speakers**\nTBD \n**Abstract** \n**Info**\nAustin Deep Learning Journal Club is group for committed machine learning practitioners and researchers alike. The group typically meets every first Tuesday of each month to discuss research publications. The publications are usually the ones that laid foundation to ML/DL or explore novel promising ideas and are selected by a vote. Participants are expected to read the publications to be able to contribute to discussion and learn from others. This is also a great opportunity to showcase your implementations to get feedback from other experts. \n**Sponsors:**\nThank you to [Capital Factory](https://www.capitalfactory.com/) for sponsoring Austin Deep Learning. Capital Factory is the center of gravity for entrepreneurs in Texas. They meet the best entrepreneurs in Texas and introduce them to their first investors\,\nemployees\, mentors\, and customers. To sign up for a Capital Factory\nmembership\, [click here](https://www.capitalfactory.com/memberships/). \n[Antler](https://www.antler.co/): Meet your co-founders\, join our global community\, and access capital to build and scale your company faster.
URL:https://austin-ai.org/event/tbd-2/
LOCATION:Capital Factory\, Voltron Room (1st floor)\, 701 Brazos Street\, Austin\, TX\, United States
ATTACH;FMTTYPE=image/jpeg:https://austin-ai.org/wp-content/uploads/2025/09/1024x576-xGuNjY.jpg
GEO:30.268875;-97.740562
X-APPLE-STRUCTURED-LOCATION;VALUE=URI;X-ADDRESS=Capital Factory Voltron Room (1st floor) 701 Brazos Street Austin TX United States;X-APPLE-RADIUS=500;X-TITLE=701 Brazos Street:geo:-97.740562,30.268875
END:VEVENT
BEGIN:VEVENT
DTSTART;TZID=America/Chicago:20251105T083000
DTEND;TZID=America/Chicago:20251105T170000
DTSTAMP:20260423T152058
CREATED:20251029T161048Z
LAST-MODIFIED:20251029T161048Z
UID:10000172-1762331400-1762362000@austin-ai.org
SUMMARY:Fall AI Research Symposium
DESCRIPTION:Join us on Nov 5th @ UT Austin for our Fall AI Research Symposium \n\nKeynotes include research presentations by:\nVahab Mirrokni\, Google Fellow and VP\, Google ResearchAmin Karbasi\, Senior Director of AI Research\, Cisco Foundation AI\nUT Professors & Researches: Kristen Grauman\, Sanjay Shakkottai\, Danny Diaz\, Adam Kilvans and others\n\nWhen: Nov 5th (8:30 am – 5pm)\nRegistration (required): bit.ly/GenAI-at-UT – free and open to the public\nWhere: Mulva Auditorium (Engineering Education & Resource Center | EER)
URL:https://austin-ai.org/event/fall-ai-research-symposium/
LOCATION:Mulva Auditorium Engineering Education and Research Center\, 2501 Speedway\, Austin\, TX\, 78712\, United States
ATTACH;FMTTYPE=image/png:https://austin-ai.org/wp-content/uploads/2025/10/IMG_0424-scaled.png
END:VEVENT
BEGIN:VEVENT
DTSTART;TZID=America/Chicago:20251105T181500
DTEND;TZID=America/Chicago:20251105T194500
DTSTAMP:20260423T152058
CREATED:20251012T151654Z
LAST-MODIFIED:20251105T224236Z
UID:10000142-1762366500-1762371900@austin-ai.org
SUMMARY:The Smart Factory: AI\, Simulation\, and the Future of Making Things
DESCRIPTION:Join us for an exclusive presentation and tour at Austin’s new HICAM facility!\n\n\n**This event will be held in person only. \n5:30 HICAM Facility Tour6:15 – 7:45 Presentation7:45 – 8:15 On-site Networking8:15 Networking at Sign Bar \nEvent Summary \nManufacturing is undergoing its most significant transformation in over a century. The traditional assembly line is evolving into a dynamic\, intelligent\, and interconnected ecosystem. From 3D-printed jet engines to AI-optimized supply chains\, the “Fourth Industrial Revolution” is here\, and Austin is at the forefront. \nJoin us for a special Austin Forum on Technology & Society event providing an inside look at this revolution. On Wednesday\, November 5\, we are thrilled to be hosted at the brand-new\, state-of-the-art HICAM (Hayes Innovation Center for Advanced Manufacturing) facility. \nOur featured presenter\, Marcus Metzger of HICAM\, will provide a comprehensive overview of the technologies defining the future of manufacturing. We will explore: \n\nAdditive Manufacturing (3D Printing): Moving beyond prototypes to create complex\, high-strength parts for aerospace\, medical\, and automotive applications.\nAI and Digital Twins: How high-performance computing and simulation are creating virtual models of products and processes\, dramatically reducing waste and accelerating innovation.\nRobotics & Automation: The next generation of smart robots working alongside humans to increase precision\, efficiency\, and safety.\nThe Resilient Supply Chain: How on-demand and localized manufacturing can create more robust and sustainable supply chains for the future.\n\nFacility Tour: \nBefore the presentation\, attendees will be treated to an exclusive tour of the HICAM facility. See firsthand the advanced robotics\, metal 3D printers\, and digital infrastructure that are powering the next wave of industrial innovation right here in Austin. \nThis is a unique opportunity to connect with industry leaders and see the factory of the future in action. \nWho Should Attend: This event is ideal for engineers\, manufacturing executives\, supply chain professionals\, tech entrepreneurs\, investors\, and anyone interested in the convergence of the digital and physical worlds.
URL:https://austin-ai.org/event/the-smart-factory-ai/
LOCATION:HICAM\, 6201 Quinn Luke Trail\, Austin\, Texas\, 78724
ATTACH;FMTTYPE=image/jpeg:https://austin-ai.org/wp-content/uploads/2025/10/57b19f86a146f2a525a11575d0d8e989.jpg
END:VEVENT
BEGIN:VEVENT
DTSTART;TZID=America/Chicago:20251105T181500
DTEND;TZID=America/Chicago:20251105T194500
DTSTAMP:20260423T152058
CREATED:20251027T162603Z
LAST-MODIFIED:20251027T162603Z
UID:10000149-1762366500-1762371900@austin-ai.org
SUMMARY:The Smart Factory: AI\, Simulation\, and The Future of Making Things
DESCRIPTION:Manufacturing is undergoing its most significant transformation in over a century. The traditional assembly line is evolving into a dynamic\, intelligent\, and interconnected ecosystem. From 3D-printed jet engines to AI-optimized supply chains\, the “Fourth Industrial Revolution” is here\, and Austin is at the forefront. \nJoin us for a special Austin Forum on Technology & Society event providing an inside look at this revolution. On Wednesday\, November 5\, we are thrilled to be hosted at the brand-new\, state-of-the-art HICAM (High-Performance-Computing for Advanced Manufacturing) facility. \nOur featured presenter\, Marcus Metzger of HICAM\, will provide a comprehensive overview of the technologies defining the future of manufacturing. We will explore: \nAdditive Manufacturing (3D Printing): Moving beyond prototypes to create complex\, high-strength parts for aerospace\, medical\, and automotive applications. \nAI and Digital Twins: How high-performance computing and simulation are creating virtual models of products and processes\, dramatically reducing waste and accelerating innovation. \nRobotics & Automation: The next generation of smart robots working alongside humans to increase precision\, efficiency\, and safety. \nThe Resilient Supply Chain: How on-demand and localized manufacturing can create more robust and sustainable supply chains for the future. \nFacility Tour: \nBefore the presentation\, attendees will be treated to an exclusive tour of the HICAM facility. See firsthand the advanced robotics\, metal 3D printers\, and digital infrastructure that are powering the next wave of industrial innovation right here in Austin. \nThis is a unique opportunity to connect with industry leaders and see the factory of the future in action. \nWho Should Attend: This event is ideal for engineers\, manufacturing executives\, supply chain professionals\, tech entrepreneurs\, investors\, and anyone interested in the convergence of the digital and physical worlds. \nSpeaker \nMarcus Metzger\, Founder and Executive Director\, HICAM \nAs the Founder and Executive Director of the nonprofit HICAM\, Marcus Metzger brings a decade of experience merging the creative and technology industries and a vision for the emerging future of American  \nMarcus Metzger brings a decade of experience merging the creative and technology industries and a vision for the emerging future of American Manufacturing. Under Metzger’s leadership\, HICAM is currently building a $20M Advanced Manufacturing Facility in Austin\, TX with a mission of Accelerating Advanced Manufacturing Startups in the United States. His past work includes founding and operating Future Space NYC\, a creative technology incubator and co-working facility in New York City.  \nHis portfolio as an engineer and artist working in the creative industry includes large-scale sculptures produced for Fortune 100 clients and World Famous Museums in the US and Internationally. In addition to his work with HICAM\, Metzger leads a research group developing next generation large-format metal additive manufacturing and robotics.
URL:https://austin-ai.org/event/the-smart-factory-ai-simulation-and-the-future-of-making-things/
LOCATION:HICAM\, 6201 Quinn Luke Trail\, Austin\, Texas\, 78724
ATTACH;FMTTYPE=image/jpeg:https://austin-ai.org/wp-content/uploads/2025/10/0917-SA-HICAM-.00_00_00_00.Still001.jpeg
END:VEVENT
BEGIN:VEVENT
DTSTART;TZID=America/Chicago:20251110T170000
DTEND;TZID=America/Chicago:20251112T120000
DTSTAMP:20260423T152058
CREATED:20250918T185108Z
LAST-MODIFIED:20250918T185108Z
UID:10000082-1762794000-1762948800@austin-ai.org
SUMMARY:AI Summit Austin 2025
DESCRIPTION:AI Summit Austin 2025 unites leaders in artificial intelligence\, business\, and finance for a 3-day executive experience designed for CEOs\, CTOs\, startup founders\, investors\, VC\, PE\, Family offices\, coders\, Agentic AI engineers\, and industry leaders ready to turn AI innovation into real-world growth\, efficiency\, and competitive advantage.
URL:https://austin-ai.org/event/ai-summit-austin-2025/
LOCATION:TX
ATTACH;FMTTYPE=image/png:https://austin-ai.org/wp-content/uploads/2025/09/Untitled-design.png
END:VEVENT
BEGIN:VEVENT
DTSTART;TZID=America/Chicago:20251110T173000
DTEND;TZID=America/Chicago:20251110T193000
DTSTAMP:20260423T152058
CREATED:20251012T151912Z
LAST-MODIFIED:20251110T225653Z
UID:10000143-1762795800-1762803000@austin-ai.org
SUMMARY:Level Up: An AI-Assisted Coding Workshop & Showdown
DESCRIPTION:Join us for an in-person workshop on Monday\, November 10 at Capital Factory!\n\n\nReady to move beyond the hype and see what AI coding assistants can really do? The tools are getting smarter\, and it’s time to sharpen your skills. \nFollowing up on our ‘Software September’ series\, the Austin Forum is hosting a fun\, hands-on event to explore the world of AI-assisted coding. This isn’t a lecture—it’s an interactive night to see live demos\, share your favorite tips and tricks\, and put your skills to the test. \nJoin your fellow developers and tech enthusiasts to: \n\nSee Demos: Discover the latest features in tools like GitHub Copilot\, Tabnine\, and more.\nShare Tips: Learn pro-level prompts and workflows from your peers.\nCompete! Enter our friendly coding contest for bragging rights and cool prizes. \n\nWhether you’re an expert looking to optimize your workflow or a newcomer curious about these powerful tools\, this event will help you become a more effective and efficient developer. \n \nAttendance Instructions\nAll participants must register for this event via Eventbrite. This will be an in-person event held at Capital Factory in the Captain America Room. \nParking information can be found here.
URL:https://austin-ai.org/event/level-up-an-ai-assisted-coding-workshop-showdown/
LOCATION:Capital Factory\, Captain America room\, 701 Brazos St\, Austin\, TX\, 78701\, United States
ATTACH;FMTTYPE=image/jpeg:https://austin-ai.org/wp-content/uploads/2025/10/dc3c505ad733eef040a7d5de65ba5338.jpg
END:VEVENT
BEGIN:VEVENT
DTSTART;TZID=America/Chicago:20251111T160000
DTEND;TZID=America/Chicago:20251111T200000
DTSTAMP:20260423T152058
CREATED:20250906T172547Z
LAST-MODIFIED:20250906T172759Z
UID:10000076-1762876800-1762891200@austin-ai.org
SUMMARY:US: Physical AI & Safety Summit
DESCRIPTION:Join us at the US: Physical AI & Safety Summit to explore the latest advancements in AI technology and how it’s shaping safety measures. \n\n\n4:00 PM – 4:30 PM – Doors Opens & Networking \n\n\n\n\n4:30 PM – 5:00 PM – Keynote: Robotics and AI Safety – Where We Stand\, Where We’re Going \n\n\n\n\n5:00 PM – 5:20 PM – Industry Use Case \n\n\n\n\n5:20 PM – 5:40 PM – Networking Break \n\n\n\n\n5:40 PM – 6:00 PM – Industry Use Cases \n\n\n\n\n6:00 PM – 6:30 PM – Lighting Pitches: Next-Gen Safety Applications \n\n\n\n\n6:30 PM – 6:50 PM – Keynote: Path to Certification for AI-Driven Robotics \n\n\n\n\n6:50 PM – 7:00 PM – Wrapping up: Turning Vision into Action \n\n\n\n\n7:00 PM – 8:00 PM – Networking Session & Light Dinner
URL:https://austin-ai.org/event/us-physical-ai-safety-summit/
LOCATION:TX
ATTACH;FMTTYPE=image/png:https://austin-ai.org/wp-content/uploads/2025/09/Screenshot-2025-09-06-at-12.22.22-PM.png
END:VEVENT
BEGIN:VEVENT
DTSTART;TZID=-06:00:20251112T190000
DTEND;TZID=-06:00:20251112T220000
DTSTAMP:20260423T152058
CREATED:20250918T192329Z
LAST-MODIFIED:20250918T192329Z
UID:10000092-1762974000-1762984800@austin-ai.org
SUMMARY:The Austin Python Meetup
DESCRIPTION:**New location at Brazos Place @ 800 Brazos st. us the entrance on brazos street not 8th.**\nThis is a Hybrid event both **in-person** and virtual. The **in-person** event is hosted at **[Antler](https://www.antler.co/location/us)** downtown Austin. \n**Address:**\nBrazos Place @ 800 Brazos st\,\nThe entrance is off of Brazos st. \n**Talk: Alex Merced -** Python Meets Apache Iceberg: Exploring Different Ways to Work with Iceberg Tables with Python \n**Description:**\nDiscover how Python is becoming a powerful interface for working with Apache Iceberg tables. In this session\, we’ll dive into the capabilities of the PyIceberg library for directly interacting with Iceberg metadata\, demonstrate how to query Iceberg data using the `dremio-simple-query` client\, and explore how Dremio’s Polaris catalog enables a fully managed REST-based Iceberg experience. We’ll also preview how the upcoming **Pandas v3** release enhances native support for Apache Arrow and unlocks new performance and interoperability possibilities with the Iceberg ecosystem. Whether you’re building data pipelines\, exploring data science workflows\, or managing a lakehouse\, this talk will show how Python fits naturally into the Apache Iceberg journey. \n**Speaker Bio**\nAlex Merced is Head of DevRel at Dremio with experience as a developer and instructor. His professional journey includes roles at GenEd Systems\, Crossfield Digital\, CampusGuard\, and General Assembly. He co-authored “Apache Iceberg: The Definitive Guide” published by O’Reilly and has spoken at notable events such as Data Day Texas and Data Council. Alex is passionate about technology\, sharing his expertise through blogs\, videos\, podcasts like Datanation and Web Dev 101\, and contributions to the JavaScript and Python communities with libraries like SencilloDB and CoquitoJS.\n**Antler**\nAntler works with [founders](https://www.antler.co/location/us) through our signature founder residency\, adding value immediately\, and taking no equity up front. We receive over 160\,000 applications each year to build companies with us\, and have grown to 18 funds with residencies in 30 cities around the globe. Founders also have the opportunity to pitch our Investment Committee to receive an up to $500K investment\, allowing them to build for 12-18 months rather than attempting to raise before they have real traction.
URL:https://austin-ai.org/event/the-austin-python-meetup-2/
LOCATION:Online event
ATTACH;FMTTYPE=image/jpeg:https://austin-ai.org/wp-content/uploads/2025/09/1024x576-R851zy.jpg
GEO:-8.521147;179.1962
END:VEVENT
BEGIN:VEVENT
DTSTART;TZID=UTC:20251117T220000
DTEND;TZID=UTC:20251118T000000
DTSTAMP:20260423T152058
CREATED:20251106T214234Z
LAST-MODIFIED:20251113T215632Z
UID:10000542-1763416800-1763424000@austin-ai.org
SUMMARY:Hack AI
DESCRIPTION:Get up-to-date information at: https://luma.com/ke0tvcz7  Address: Capital Factory First Floor\, Voltron Room Austin\, Texas United States  Hosted by Reid McCrabb & 3 others
URL:https://austin-ai.org/event/hack-ai-3/
LOCATION:Capital Factory\, 701 Brazos Street\, Floor 8th\, Austin\, TX\, 78701\, United States
ORGANIZER;CN="Reid McCrabb":MAILTO:calendar-invite@lu.ma
GEO:30.268603;-97.741109
X-APPLE-STRUCTURED-LOCATION;VALUE=URI;X-ADDRESS=Capital Factory 701 Brazos Street Floor 8th Austin TX 78701 United States;X-APPLE-RADIUS=500;X-TITLE=701 Brazos Street\, Floor 8th:geo:-97.741109,30.268603
END:VEVENT
BEGIN:VEVENT
DTSTART;VALUE=DATE:20251118
DTEND;VALUE=DATE:20251119
DTSTAMP:20260423T152058
CREATED:20251102T193250Z
LAST-MODIFIED:20251102T193250Z
UID:10000174-1763424000-1763510399@austin-ai.org
SUMMARY:Good Systems Presents: Responsible AI: State of the Art & Future Directions
DESCRIPTION:Join the conversation with Good Systems — Ethical AI at UT Austin — as prominent researchers and AI leaders reflect on both progress and open challenges in developing Responsible AI technologies for society. This two-day virtual conference features keynotes and panel discussions with experts from UT Austin\, MIT\, Georgetown Law\, NYU\, Microsoft Research\, and more that will dive into research-based insights and learnings and explore applications across disciplines and sectors. Come ready to learn\, ask questions\, and exchange ideas and resources! Registration is free.
URL:https://austin-ai.org/event/good-systems-presents-responsible-ai-state-of-the-art-future-directions/
LOCATION:TX
ATTACH;FMTTYPE=image/jpeg:https://austin-ai.org/wp-content/uploads/2025/10/GS-Responsible-AI-in-2025.jpg
ORGANIZER;CN="Good Systems":MAILTO:goodsystems@austin.utexas.edu
END:VEVENT
BEGIN:VEVENT
DTSTART;TZID=-06:00:20251118T190000
DTEND;TZID=-06:00:20251118T210000
DTSTAMP:20260423T152058
CREATED:20250918T192330Z
LAST-MODIFIED:20250918T192330Z
UID:10000093-1763492400-1763499600@austin-ai.org
SUMMARY:An Evening of Python Coding
DESCRIPTION:• What we’ll do\nLearners and complete Python novices are welcome as well as experts. If you want to start something new\, please see this as an opportunity to jump start the project. If you need help with an existing coding project\, bring it with you and we will have a look at it. If you want to show your complete code to someone else to test it\, or if you just want to consult with python experts you are welcome. \nThe format will be different than regular since this joins the Austin and DC python communities: \n6:30 CST = 7:30 EST we will start the meeting. Join the meetup to view the link.\nThis link may change\, so please check this link again before the meeting. \n7 CST = 8 EST: Announcement + Demo \nAround 7:30 CST = 8:30 EST continue discussions or break into smaller groups. \nAlthough this online meeting is different\, for those new to this meetup\, please check out previous meetups we had to get an idea of what to expect. Here is a link to previous meetups:\nhttps://github.com/Jacob-Barhak/EveningOfPythonCoding \nYou will find there demo code and the folk who presented them. Feel free to clone and star demos that were useful to you. \n• Important to know\nOur focus for this month will be: LlamaIndex\nhttps://www.llamaindex.ai/
URL:https://austin-ai.org/event/an-evening-of-python-coding-2/
LOCATION:Online event
ATTACH;FMTTYPE=image/jpeg:https://austin-ai.org/wp-content/uploads/2025/09/1024x576-R851zy.jpg
GEO:-8.521147;179.1962
END:VEVENT
BEGIN:VEVENT
DTSTART;TZID=America/Chicago:20251119T170000
DTEND;TZID=America/Chicago:20251119T190000
DTSTAMP:20260423T152058
CREATED:20250727T191922Z
LAST-MODIFIED:20251119T234145Z
UID:10000053-1763571600-1763578800@austin-ai.org
SUMMARY:Unlocking AI for Small Business Growth Series
DESCRIPTION:Master AI for Business Success! Hands-on 2-hour workshop teaching entrepreneurs how to leverage AI. Small groups\, big results.
URL:https://austin-ai.org/event/unlocking-ai-for-small-business-growth-series-5/
LOCATION:Capital Factory\, 701 Brazos Street\, Floor 8th\, Austin\, TX\, 78701\, United States
ATTACH;FMTTYPE=image/jpeg:https://austin-ai.org/wp-content/uploads/2025/10/8f1854671dfb6d0d6f25c5ad22094d3d.jpg
GEO:30.268603;-97.741109
X-APPLE-STRUCTURED-LOCATION;VALUE=URI;X-ADDRESS=Capital Factory 701 Brazos Street Floor 8th Austin TX 78701 United States;X-APPLE-RADIUS=500;X-TITLE=701 Brazos Street\, Floor 8th:geo:-97.741109,30.268603
END:VEVENT
BEGIN:VEVENT
DTSTART;TZID=America/Chicago:20251119T173000
DTEND;TZID=America/Chicago:20251119T200000
DTSTAMP:20260423T152059
CREATED:20251027T181300Z
LAST-MODIFIED:20251027T183831Z
UID:10000170-1763573400-1763582400@austin-ai.org
SUMMARY:Austin AI Alliance Monthly Meeting (November)
DESCRIPTION:The Austin AI Alliance is an AI consortium dedicated to advancing the capabilities\, usage & impact\, social responsibility\, and inclusiveness of AI technologies and applications by leveraging the unique resources\, talent base\, and culture of creative innovation in Austin. The Austin AI Alliance is welcoming of all companies and organizations and will help to connect professionals from companies (from startups to global technology leaders)\, universities\, government agencies\, professional associations\, non-profits\, and interest groups—and to elevate all of their respective activities as well as creative collaborative opportunities. \nMembers and Public\, all welcome\n\n\n\nNetwork with entrepreneurs\, corporate leaders\, academics\, students\, innovators\, and subject matter experts building AI in Austin and find future collaborations.\n\n\nAgenda:\n5:30 – 6:00 PM | Check-in and Networking\n6:00 – 7:00 PM | Innovation Spotlights and Reverse Pitches\n7:00 – 8:00 PM | Projects\, Collaboration\, and Networking \nJoin us at The Center for Government and Civic Service\, ACC Rio Grande: Building 3000 1218 West Avenue\, Austin\, TX\, United States\nParking map below. Street parking is free after 6 pm.
URL:https://austin-ai.org/event/austin-ai-alliance-monthly-meeting-111925/
LOCATION:Austin Community College – Rio Grande Campus\, 1212 Rio Grande St\, Austin\, TX\, 78701\, United States
CATEGORIES:AAIA
ATTACH;FMTTYPE=image/jpeg:https://austin-ai.org/wp-content/uploads/2025/08/cad23296c401e3c1210e70f5961a6850.jpg
ORGANIZER;CN="Austin AI Alliance":MAILTO:info@austin-ai.org
END:VEVENT
BEGIN:VEVENT
DTSTART;TZID=America/Chicago:20251125T191500
DTEND;TZID=America/Chicago:20251125T203000
DTSTAMP:20260423T152059
CREATED:20251012T153857Z
LAST-MODIFIED:20251125T105547Z
UID:10000144-1764098100-1764102600@austin-ai.org
SUMMARY:Reclaiming Your Focus: A Discussion on "Digital Minimalism"
DESCRIPTION:Join us for an online discussion on November 25th!\n\n\nDo you feel more distracted than ever\, despite being constantly connected? Join the Austin Forum for an essential online conversation about Cal Newport’s influential book\, “Digital Minimalism: Choosing a Focused Life in a Noisy World.” We’ll explore Newport’s philosophy of using technology with intention to support your goals\, rather than letting it use you. \nThis timely discussion will be moderated by Hugh Forrest\, the visionary behind SXSW and founder of Gather & Grow. With decades of experience at the intersection of technology and human connection\, Hugh will guide our conversation on practical strategies to: \n\nDeclutter your digital life and curate your tools.\nRediscover the value of solitude and high-quality leisure.\nCultivate deeper\, more meaningful connections\, both online and off.\n\nWhether you’re feeling digital burnout or are simply curious about living a more focused life\, this conversation is for you. Come ready to share your own experiences and learn how to build a healthier relationship with technology. \n \nAttendance Instructions \nThe discussion will be held online via Google Meet. Please register to receive the meet link! \nSpace is limited\, so please register only if you’re confident you can attend—and kindly cancel your registration if your plans change so we can open your spot to another participant.
URL:https://austin-ai.org/event/reclaiming-your-focus-a-discussion-on-digital-minimalism/
LOCATION:TX
ATTACH;FMTTYPE=image/jpeg:https://austin-ai.org/wp-content/uploads/2025/10/ceb50ac023cd355401cafac74ad4ac09.jpg
END:VEVENT
BEGIN:VEVENT
DTSTART;TZID=UTC:20251125T233000
DTEND;TZID=UTC:20251126T013000
DTSTAMP:20260423T152059
CREATED:20251106T214235Z
LAST-MODIFIED:20251120T215642Z
UID:10000543-1764113400-1764120600@austin-ai.org
SUMMARY:AITX Monthly Meetup
DESCRIPTION:Get up-to-date information at: https://luma.com/aitx-nov25  Address: Capital Factory Austin\, Texas United States  Hosted by Jake O’Shea
URL:https://austin-ai.org/event/aitx-monthly-meetup-5/
LOCATION:Capital Factory\, 701 Brazos Street\, Floor 8th\, Austin\, TX\, 78701\, United States
ORGANIZER;CN="Jake O'Shea":MAILTO:calendar-invite@lu.ma
GEO:30.268603;-97.741109
X-APPLE-STRUCTURED-LOCATION;VALUE=URI;X-ADDRESS=Capital Factory 701 Brazos Street Floor 8th Austin TX 78701 United States;X-APPLE-RADIUS=500;X-TITLE=701 Brazos Street\, Floor 8th:geo:-97.741109,30.268603
END:VEVENT
END:VCALENDAR