BEGIN:VCALENDAR
VERSION:2.0
PRODID:-//Austin AI Alliance - ECPv6.15.20//NONSGML v1.0//EN
CALSCALE:GREGORIAN
METHOD:PUBLISH
X-WR-CALNAME:Austin AI Alliance
X-ORIGINAL-URL:https://austin-ai.org
X-WR-CALDESC:Events for Austin AI Alliance
REFRESH-INTERVAL;VALUE=DURATION:PT1H
X-Robots-Tag:noindex
X-PUBLISHED-TTL:PT1H
BEGIN:VTIMEZONE
TZID:America/Chicago
BEGIN:DAYLIGHT
TZOFFSETFROM:-0600
TZOFFSETTO:-0500
TZNAME:CDT
DTSTART:20240310T080000
END:DAYLIGHT
BEGIN:STANDARD
TZOFFSETFROM:-0500
TZOFFSETTO:-0600
TZNAME:CST
DTSTART:20241103T070000
END:STANDARD
BEGIN:DAYLIGHT
TZOFFSETFROM:-0600
TZOFFSETTO:-0500
TZNAME:CDT
DTSTART:20250309T080000
END:DAYLIGHT
BEGIN:STANDARD
TZOFFSETFROM:-0500
TZOFFSETTO:-0600
TZNAME:CST
DTSTART:20251102T070000
END:STANDARD
BEGIN:DAYLIGHT
TZOFFSETFROM:-0600
TZOFFSETTO:-0500
TZNAME:CDT
DTSTART:20260308T080000
END:DAYLIGHT
BEGIN:STANDARD
TZOFFSETFROM:-0500
TZOFFSETTO:-0600
TZNAME:CST
DTSTART:20261101T070000
END:STANDARD
END:VTIMEZONE
BEGIN:VEVENT
DTSTART;VALUE=DATE:20250804
DTEND;VALUE=DATE:20250807
DTSTAMP:20260423T211006
CREATED:20250623T160506Z
LAST-MODIFIED:20250710T162603Z
UID:10000027-1754265600-1754524799@austin-ai.org
SUMMARY:Summer AI Intensive
DESCRIPTION:Led by the Austin AI Alliance\, this unique program connects you with the region’s top AI leaders\, innovators\, and decision-makers. This is an in-person event you don’t want to miss!  What you’ll get: \n• Case studies and execution principles with local AI experts\n• Hands on mastery of the latest tools and techniques for what you need to do\n• Three days of fast paced session delving deep into the track of your choice\n• Mentor sessions\, office hours\, and studio time\n• Daily catered networking lunch combining participants and leaders from all tracks\n\n\nExecutive Track\n(one pager here)\n• Solidify AI baseline understandings\n• Define strategic applications of AI for my business needs\n• Evaluate potential vendors and implementation pathways\n• Execute responsible AI adoption and build a change management roadmap\n\n  \n  \n\n\nDeveloper Track\n(one pager here)\n• Build and test working proof-of-concept\n• Agentic AI development\, MCP orchestration\, and practice integrating LLMs\n• Develop tool selection rationale including ethical and responsible practices\n• Elevate vibe coding skills to AI assisted software engineering\n\n  \n  \n\n\nProductivity Track\n(one pager here)\n• AI optimizations for real world tasks\n• Hands on learning of low cost AI tools\n• Create content\, develop outreach\, and automate workflows\n• Build digital confidence and evaluate trust\, privacy\, and misinformation\n\n\n\n\n\n\n  \n  \nDetails:\n• When: Aug 4-6\, 9-3PM\n• Where: ACC Rio Grande Building 3000 (free covered parking around the corner)\n• Cost: $450 (non-members)\, $300 (members with coupon code)\n• $225 for additional person (up to 5) to purchase contact us info@austin-ai.org after you have purchased your first ticket. Use your same email address and in the subject line type: “MORESEATS” and let us know how many you need.\n• NO REFUNDS\n\n\nNeed-Based Scholarships Available\nWe’re committed to making the Summer AI Intensive accessible. A limited number of scholarships are available for individuals who would not otherwise be able to attend. If cost is a barrier\, please reach out to us at info@austin-ai.org to learn more
URL:https://austin-ai.org/event/summer-ai-intensive/
LOCATION:Austin Community College – Rio Grande Campus\, 1212 Rio Grande St\, Austin\, TX\, 78701\, United States
CATEGORIES:AAIA
ATTACH;FMTTYPE=image/png:https://austin-ai.org/wp-content/uploads/2025/06/Screenshot-2025-06-21-at-11.57.48 AM.jpeg.png
ORGANIZER;CN="Austin AI Alliance":MAILTO:info@austin-ai.org
END:VEVENT
BEGIN:VEVENT
DTSTART;TZID=America/Chicago:20250805T190000
DTEND;TZID=America/Chicago:20250805T210000
DTSTAMP:20260423T211006
CREATED:20250727T193408Z
LAST-MODIFIED:20260423T052742Z
UID:10000054-1754420400-1754427600@austin-ai.org
SUMMARY:What does the Future of Education look like with AI?
DESCRIPTION:
URL:https://austin-ai.org/event/what-does-the-future-of-education-look-like-with-ai/
LOCATION:Capital Factory 8th Floor Captain America\, 701 Brazos Street\, Austin\, TX\, 78701\, United States
ATTACH;FMTTYPE=image/jpeg:https://austin-ai.org/wp-content/uploads/2025/07/4155d446191d973faa0921616374bc30.jpg
END:VEVENT
BEGIN:VEVENT
DTSTART;TZID=America/Chicago:20250807T180000
DTEND;TZID=America/Chicago:20250807T200000
DTSTAMP:20260423T211006
CREATED:20250724T150026Z
LAST-MODIFIED:20250725T125015Z
UID:10000046-1754589600-1754596800@austin-ai.org
SUMMARY:The future of AI: Trends\, Tools & Opportunities for All
DESCRIPTION:Join us for an inspiring evening of insights and conversation at Capital Factory as we bring together leading voices in AI from academia\, startups\, and industry.\nHosted by Austin AI Hub\, this event will explore how AI research becomes usable technology\, what trends are shaping the future\, and how individuals and organizations can thrive in this fast-evolving field. \nSpeakers include:\nDr. Kristen Grauman\, Professor of Computer Science at UT Austin\nDr. Eiman Ebrahimi\, CEO at Protopia AI\nBryon Jacob\, Former CTO of data.world\, Board Member of Austin AI Alliance \nSchedule: \n6:00 – 6:30 PM | Check-in & Networking\n6:30 – 7:30 PM | Panel Discussion + Live Audience Q&A\n7:30 – 8:00 PM | Open Networking \nThe event is free and open to all who are interested in artificial intelligence\, emerging technologies\, entrepreneurship\, and building a more connected AI ecosystem in Austin.
URL:https://austin-ai.org/event/the-future-of-ai-trends-tools-opportunities-for-all/
LOCATION:Capitol Factory\, 701 Brazos St\, Austin\, TX\, 78701\, United States
ATTACH;FMTTYPE=image/jpeg:https://austin-ai.org/wp-content/uploads/2025/07/IMG_0989.jpeg
ORGANIZER;CN="austin ai hub":MAILTO:Team@austinaihub.com
END:VEVENT
BEGIN:VEVENT
DTSTART;TZID=America/Chicago:20250807T180000
DTEND;TZID=America/Chicago:20250807T200000
DTSTAMP:20260423T211006
CREATED:20250727T191242Z
LAST-MODIFIED:20260423T182444Z
UID:10000049-1754589600-1754596800@austin-ai.org
SUMMARY:The Future of AI: Trends\, Tools & Opportunities for All
DESCRIPTION:Explore the Future of AI—and How You Fit In\n\n\nNote: The event is on Floor 8. We recommend carpooling for easier access and parking. \n \nEvent Agenda\nAI Trends: Opportunities Ahead – Empowering Everyone Date: August 7\, 2025 Time: 6:00 PM – 8:00 PM Location: Capital Factory\, Austin\, TX \n \n6:00 – 6:30 PM | Check-In & Networking\nKick off the evening by connecting with AI professionals\, researchers\, founders\, and enthusiasts over light refreshments. All guests will receive a printed program with speaker bios and key discussion topics. \n6:30 – 6:40 PM | Opening Remarks\nLearn about Austin AI Hub’s mission to connect academia\, startups\, and industry—and why this is a pivotal moment to empower the next generation of AI innovators in Austin. \n6:40 – 7:40 PM | Expert Panel + Live Audience Q&A\n \nModerator: Ramin Jahedi Panelists: \n\nDr. Kristen Grauman – Professor of Computer Science at UT Austin\nDr. Eiman Ebrahimi – CEO at Protopia AI\nBryon Jacob – Former CTO & Co-founder\, data.world | Board Member\, Austin AI Alliance\n\nDiscussion Topics: \n\nHow cutting-edge research becomes real-world AI solutions\nWhat’s next: LLMs\, AI agents\, infrastructure\, and trends to watch\nEssential skills for today’s and tomorrow’s AI workforce\nFrom lab to launch: how research fuels startups\nHow Austin can lead the way in inclusive\, applied AI innovation\n\nThis session includes an open Q&A—come ready to engage! \n \n \n7:40 – 8:00 PM | Mix\, Mingle & Follow-Up\nCap off the evening by meeting the speakers and fellow attendees. This is a great opportunity to exchange ideas\, explore collaborations\, and grow your network in the Austin AI community. \n \nWho Should Attend \nPerfect for anyone building or exploring the future of AI: \n\nAI researchers\, PhDs\, and graduate students\nEngineers\, data scientists\, and product teams\nStartup founders and entrepreneurs\nInvestors\, mentors\, and innovation leaders\nCurious newcomers eager to learn where AI is going\n\nWhy You Should Attend \n\nGain insider insights into the future of AI\nLearn how to turn research into impact\nMake meaningful connections in Austin’s AI ecosystem\nGet inspired to launch or grow your career or venture in AI\n\nThis event is free\, but space is limited. Reserve your spot today—we expect a full house! \n \nParking instruction: \nParking
URL:https://austin-ai.org/event/the-future-of-ai-trends-tools-opportunities-for-all-2/
LOCATION:Capital Factory\, 701 Brazos Street\, Floor 8th\, Austin\, TX\, 78701\, United States
ATTACH;FMTTYPE=image/jpeg:https://austin-ai.org/wp-content/uploads/2025/07/c75ac13b42f0f3e1566eb18b35845d97.jpg
GEO:30.268603;-97.741109
X-APPLE-STRUCTURED-LOCATION;VALUE=URI;X-ADDRESS=Capital Factory 701 Brazos Street Floor 8th Austin TX 78701 United States;X-APPLE-RADIUS=500;X-TITLE=701 Brazos Street\, Floor 8th:geo:-97.741109,30.268603
END:VEVENT
BEGIN:VEVENT
DTSTART;TZID=America/Chicago:20250810T143000
DTEND;TZID=America/Chicago:20250810T160000
DTSTAMP:20260423T211006
CREATED:20250805T192024Z
LAST-MODIFIED:20250805T192024Z
UID:10000056-1754836200-1754841600@austin-ai.org
SUMMARY:Humans in the Loop film screening
DESCRIPTION:Humans in the Loop\nIndia | Narrative Feature\n2024 | 74 | Hindi\,Kurukh \nWhat if your job was to teach AI to see… but it never saw you? \n📅Sunday\, August 10 at 2:30 PM \n📍AFS Cinema\,\n6406 N I-35\, #3100\nAustin\, TX\, \n✨An Indigenous woman in rural India trains artificial intelligence by tagging images so machines can learn. As her bond with her child begins to unravel\, she starts to see the AI as a surrogate child—until it begins to reflect the very biases she hoped to escape.\n🎬A stunning debut from Aranya Sahay \n🎟️Get your tickets today: https://www.indiememe.org/films/humans-in-the-loop
URL:https://austin-ai.org/event/humans-in-the-loop-film-screening/
LOCATION:AFS Cinema\, 6406 N I-35\, #3100\, Austin\, T\, United States
ATTACH;FMTTYPE=image/jpeg:https://austin-ai.org/wp-content/uploads/2025/08/Humans-In-The-Loop.jpg
END:VEVENT
BEGIN:VEVENT
DTSTART;TZID=America/Chicago:20250820T170000
DTEND;TZID=America/Chicago:20250820T190000
DTSTAMP:20260423T211006
CREATED:20250727T191919Z
LAST-MODIFIED:20250820T152101Z
UID:10000050-1755709200-1755716400@austin-ai.org
SUMMARY:Unlocking AI for Small Business Growth Series
DESCRIPTION:Master AI for Business Success! Hands-on 2-hour workshop teaching entrepreneurs how to leverage AI. Small groups\, big results.
URL:https://austin-ai.org/event/unlocking-ai-for-small-business-growth-series-2/
LOCATION:Capital Factory\, 701 Brazos Street\, Floor 8th\, Austin\, TX\, 78701\, United States
ATTACH;FMTTYPE=image/jpeg:https://austin-ai.org/wp-content/uploads/2025/07/4a5188ae749a3453e1f7f0dd69a24459.jpg
GEO:30.268603;-97.741109
X-APPLE-STRUCTURED-LOCATION;VALUE=URI;X-ADDRESS=Capital Factory 701 Brazos Street Floor 8th Austin TX 78701 United States;X-APPLE-RADIUS=500;X-TITLE=701 Brazos Street\, Floor 8th:geo:-97.741109,30.268603
END:VEVENT
BEGIN:VEVENT
DTSTART;TZID=America/Chicago:20250820T183000
DTEND;TZID=America/Chicago:20250820T210000
DTSTAMP:20260423T211006
CREATED:20250819T190444Z
LAST-MODIFIED:20250819T190444Z
UID:10000070-1755714600-1755723600@austin-ai.org
SUMMARY:Exploring the Future of Artificial General Intelligence
DESCRIPTION:Join the Austin Forum on Technology & Society for an inspiring and thought-provoking evening as we screen the new documentary\, “The Thinking Game.“ Prepare to delve into one of the most critical conversations of our time: the rise of artificial general intelligence (AGI) and its potential impact on humanity. “The Thinking Game” offers a compelling look at the global race to create the first true AGI. The film provides a balanced perspective\, showcasing the brilliant minds pushing the boundaries of machine intelligence while also confronting the profound ethical dilemmas and existential risks involved. From labs where algorithms learn at an astonishing pace to philosophical debates about consciousness and control\, this documentary challenges us to consider the monumental power we are on the verge of unleashing. If we unleash it\, how do we ensure that an AGI truly aligns with complex human values? “The Thinking Game” brings this question and many others to the forefront. \nDoors – 6:30 \nScreening – 7:00 \nQ&A – 8:30-9:00 \nEngage with the Experts \nFollowing the screening\, don’t miss an exclusive Q&A session with a panel of leading AI researchers and ethicists. This is your opportunity to ask the tough questions and engage in a dynamic discussion about: \n\nThe potential timeline for AGI development.\nThe key differences between today’s AI and true AGI.\nThe societal benefits\, from solving climate change to curing disease.\nThe critical risks\, including misuse\, unintended consequences\, and the control problem.\nAustin’s growing role in the global AI landscape.\n\nWho Should Attend? \nThis event is for everyone—from tech professionals\, developers\, and data scientists to students\, policymakers\, and any community member curious about the future of technology and society. Whether you are deeply embedded in the world of AI or simply want to understand the technology that will shape our future\, this movie night will leave you informed\, inspired\, and ready to be part of the conversation.
URL:https://austin-ai.org/event/exploring-the-future-of-artificial-general-intelligence/
LOCATION:Violet Crown Cinema\, 434 West 2nd Street\, Austin\, TX\, 78701\, United States
END:VEVENT
BEGIN:VEVENT
DTSTART;TZID=America/Chicago:20250826T190000
DTEND;TZID=America/Chicago:20250826T220000
DTSTAMP:20260423T211006
CREATED:20250817T015447Z
LAST-MODIFIED:20250817T015447Z
UID:10000065-1756234800-1756245600@austin-ai.org
SUMMARY:AI & Tech Networking Austin
DESCRIPTION:🚀 Join the AI Tech Networking Event in Austin!\nEvery month\, we bring together startups and investors from diverse industries. This is your opportunity to connect with entrepreneurs\, venture capitalists\, share ideas\, and grow your business. \n💡 Why Attend:\n• Discover investors and valuable connections.\n• Expand your network with like-minded professionals.\n• Receive expert feedback to refine your ideas.\n• Validate your concepts with industry experts.\n• Learn strategies for scaling your business.\n• Enjoy a relaxed networking atmosphere.\n• Solve challenges and find partners for your projects. \n📈 Pitch Your Startup:\nPurchase the appropriate ticket\, send your pitch deck to contact.us@startupvalley.club\, and complete the application. You’ll have 5 minutes to present\, followed by expert feedback and Q&A. \n💼 For Investors:\nWe invite investors to join this event—register for free by completing the application on our website. This is a great opportunity to discover local startups and gain access to our global database of startups in 30+ cities worldwide. We’re confident you’ll find investment-worthy opportunities \n📅 Time:\n• Event Start: 7:00 PM\n• Startup Pitches: 8:40 PM\n• Event End: 10:00 PM \n🤝 Requirements:\n• Age 21+\n• Good mood and business casual attire\n• Purchase at least one drink at the bar (to support the venue) \n🎟 Reserve your tickets now!\nTake the first step toward new opportunities with Startup Valley!
URL:https://austin-ai.org/event/ai-tech-networking-austin/
LOCATION:Higby’s\, 720 Brazos Street #Ste B-710\, Austin\, TX\, 78701\, United States
ATTACH;FMTTYPE=image/png:https://austin-ai.org/wp-content/uploads/2025/08/Screenshot-2025-08-16-at-8.53.07-PM.png
END:VEVENT
BEGIN:VEVENT
DTSTART;TZID=America/Chicago:20250827T173000
DTEND;TZID=America/Chicago:20250827T200000
DTSTAMP:20260423T211006
CREATED:20250807T165658Z
LAST-MODIFIED:20250827T192543Z
UID:10000057-1756315800-1756324800@austin-ai.org
SUMMARY:Monthly Austin AI Alliance Meeting  – International Birthday Party
DESCRIPTION:Join us at The Center for Government and Civic Service\, ACC Rio Grande: Building 3000 1218 West Avenue\, Austin\, TX\, United States\n\n\nThe Austin AI Alliance is an AI consortium dedicated to advancing the capabilities\, usage & impact\, social responsibility\, and inclusiveness of AI technologies and applications by leveraging the unique resources\, talent base\, and culture of creative innovation in Austin. The Austin AI Alliance is welcoming of all companies and organizations and will help to connect professionals from companies (from startups to global technology leaders)\, universities\, government agencies\, professional associations\, non-profits\, and interest groups—and to elevate all of their respective activities as well as creative collaborative opportunities. \n \n \nMembers and Public\, all welcome! \nCome hangout with the rockstars of AI in Austin. This month we will feature a panel of international members discussing the opportunities and challenges in the Austin AI scene. The Alliance will be celebrating its first birthday. Please join us for a great discussion and fun evening. Fell free to wear any attire paying homage to one of your favorite rockstars. \n \n \n5:30 – 6:00 PM | Check-in\, Thundercloud sandwiches\, and Networking \n6:00 – 7:00 PM | International Spotlights or Panel Discussion\, Q&A and Reverse Pitches \n7:00 – 8:00 PM | Projects\, Collaboration\, and Networking \n \n \nJoin us at The Center for Government and Civic Service\, ACC Rio Grande: Building 3000 1218 West Avenue\, Austin\, TX\, United States \nParking map below. Street parking is free after 6 pm.
URL:https://austin-ai.org/event/monthly-austin-ai-alliance-meeting-international-birthday-party/
LOCATION:The Center for Government and Civic Service\, ACC Rio Grande: Building 3000\, 1218 West Avenue\, Austin\, TX\, 78701\, United States
CATEGORIES:AAIA
ATTACH;FMTTYPE=image/jpeg:https://austin-ai.org/wp-content/uploads/2025/08/cad23296c401e3c1210e70f5961a6850.jpg
END:VEVENT
BEGIN:VEVENT
DTSTART;TZID=America/Chicago:20250827T180000
DTEND;TZID=America/Chicago:20250827T200000
DTSTAMP:20260423T211006
CREATED:20250825T162730Z
LAST-MODIFIED:20250825T162730Z
UID:10000073-1756317600-1756324800@austin-ai.org
SUMMARY:Femme Founder Bootcamp S2 - Info Session!
DESCRIPTION:Join us for an IRL preview of Season 2 of the Femme Founder Bootcamp\, a virtual cohort-based program designed to equip femme-identifying entrepreneurs with the tools\, insights\, and network to thrive in Web3\, AI\, and emerging tech. \n​This info session\, co-hosted by ATX Women in Web3 and Austin Women in Technology\, will highlight what to expect from both the Bootcamp\, including new content\, forum-based workshops\, and top-notch instructors (as always!). Whether you’re a first-time founder just getting started or a seasoned pro seeking a strategic reboot and sense of community\, the Bootcamp offers something for everyone. \n​Hear from program organizers and special guests as we share details on the fall schedule\, how to get involved as a founder or mentor\, and the mission behind the program. \n​✨Special Guest: Sandy Carter is the author of AI First\, Human Always and a leading voice in AI\, blockchain\, and emerging tech. She has held senior leadership roles at IBM and AWS\, is the Chief Business Officer of Unstoppable Domains (valued at unicorn status after a $73M raise)\, and chairs Applied AI for The Digital Economist. Sandy serves on the public board of Altair\, acquired by Siemens for $11B\, and has been recognized as Microsoft MSN Top 10 AI Entrepreneur\, AI Executive of the Year by the World Leaders of Data and AI\, and Executive Woman of the Year by Gen AI Women. A sought-after keynote speaker\, she is known for blending innovation\, strategy\, and real-world impact to shape the future of technology. \nThank you to our partners!\n​Silicon Valley Bank is the bank of the world’s most innovative companies and investors\, serving the unique needs of clients in technology\, life science\, healthcare\, and venture capital industries. A division of First Citizens Bank (NASDAQ: FCNCA)\, a top 20 U.S. financial institution with over $200 billion in assets. \nStand With Crypto is a grassroots movement advocating for clear\, thoughtful\, and innovation-forward crypto legislation in the United States. Backed by millions of advocates and builders across the country\, Stand With Crypto believes that good policy unlocks economic opportunity\, protects consumers\, and encourages responsible innovation. We’re proud to partner on this initiative to empower the next generation of founders building in blockchain\, AI\, and beyond. \nSKG is a woman-owned tech-enabled workspace design and commercial furniture dealership in central Texas. SKG creates high-functioning\, beautifully furnished environments for their clients that maximize space\, enhance performance\, and transform how organizations work. With decades of expertise\, top-tier product offerings\, and a full-service approach\, SKG turns everyday spaces into destinations where people want to be.
URL:https://austin-ai.org/event/femme-founder-bootcamp/
LOCATION:SKG\, 2010 S Lamar Blvd Suite 125\, Austin\, Tx\, 78704
ATTACH;FMTTYPE=image/avif:https://austin-ai.org/wp-content/uploads/2025/08/femmefounder.avif
END:VEVENT
BEGIN:VEVENT
DTSTART;TZID=America/Chicago:20250828T170000
DTEND;TZID=America/Chicago:20250828T190000
DTSTAMP:20260423T211006
CREATED:20250819T191051Z
LAST-MODIFIED:20250819T191051Z
UID:10000071-1756400400-1756407600@austin-ai.org
SUMMARY:Austin Recruiter Network Fall Kick-Off: AI for all of us
DESCRIPTION:Welcome to the Austin Recruiter Network Fall Kick-Off: AI for all of us! \nJoin us at the HQ of our host\, recruitAbility (https://www.therecruitability.com/) 300 W Highland Mall Blvd suite 110 for an exciting in-person event where we dive into the world of Artificial Intelligence and its impact on recruiting. Whether you’re a seasoned recruiter or just starting out\, this event is for all of us looking to stay ahead of the curve. \nGet ready to network with fellow recruiters\, learn from industry experts\, and discover how AI is reshaping the recruitment landscape. Don’t miss out on this opportunity to gain valuable insights and connect with like-minded professionals. \nThe evening will start with a social hour from 5:00 pm to 6:00 pm. Cold beverages\, (beer\, wine and non-alcoholic beverages)\, along with appetizers will be provided courtesy of recruitAbility\, StarHire (www.starhire.net)\, and Salvation Brewing Company\, “Brewed and Blessed in Buda\, TX.” \nOur keynote speakers from Trinzik (https://trinzik.com/) will be introduced at 6:00 pm for a powerful talk that will cover: \n\nWhat is AI?\nHow does one get started using AI?\nWhat is Agentic AI?\nHow is AI affecting recruiting?\nBest practices using AI for recruiters.\n\nRSVP now (claim your ticket)\, mark your calendars\, and be part of the Austin Recruiter Network Fall Kick-Off: AI for all of us!
URL:https://austin-ai.org/event/austin-recruiter-network-fall-kick-off-ai-for-all-of-us/
LOCATION:recruitAbility HQ\, 300 West Highland Mall Boulevard #suite 110\, Austin
ATTACH;FMTTYPE=image/png:https://austin-ai.org/wp-content/uploads/2025/08/Screenshot-2025-08-19-at-2.08.29-PM.png
END:VEVENT
END:VCALENDAR