BEGIN:VCALENDAR
VERSION:2.0
PRODID:-//Austin AI Alliance - ECPv6.15.20//NONSGML v1.0//EN
CALSCALE:GREGORIAN
METHOD:PUBLISH
X-WR-CALNAME:Austin AI Alliance
X-ORIGINAL-URL:https://austin-ai.org
X-WR-CALDESC:Events for Austin AI Alliance
REFRESH-INTERVAL;VALUE=DURATION:PT1H
X-Robots-Tag:noindex
X-PUBLISHED-TTL:PT1H
BEGIN:VTIMEZONE
TZID:America/Chicago
BEGIN:DAYLIGHT
TZOFFSETFROM:-0600
TZOFFSETTO:-0500
TZNAME:CDT
DTSTART:20240310T080000
END:DAYLIGHT
BEGIN:STANDARD
TZOFFSETFROM:-0500
TZOFFSETTO:-0600
TZNAME:CST
DTSTART:20241103T070000
END:STANDARD
BEGIN:DAYLIGHT
TZOFFSETFROM:-0600
TZOFFSETTO:-0500
TZNAME:CDT
DTSTART:20250309T080000
END:DAYLIGHT
BEGIN:STANDARD
TZOFFSETFROM:-0500
TZOFFSETTO:-0600
TZNAME:CST
DTSTART:20251102T070000
END:STANDARD
BEGIN:DAYLIGHT
TZOFFSETFROM:-0600
TZOFFSETTO:-0500
TZNAME:CDT
DTSTART:20260308T080000
END:DAYLIGHT
BEGIN:STANDARD
TZOFFSETFROM:-0500
TZOFFSETTO:-0600
TZNAME:CST
DTSTART:20261101T070000
END:STANDARD
END:VTIMEZONE
BEGIN:VEVENT
DTSTART;VALUE=DATE:20250401
DTEND;VALUE=DATE:20250404
DTSTAMP:20260421T113653
CREATED:20250327T213521Z
LAST-MODIFIED:20250327T214802Z
UID:10000002-1743465600-1743724799@austin-ai.org
SUMMARY:HBCU AI Conference and Training Summit
DESCRIPTION:The HBCU AI Conference and Training Summit is a groundbreaking event designed to shape the future of Artificial Intelligence (AI) by fostering inclusivity\, innovation\, and opportunity. Open to all who are passionate about expanding AI education and accessibility\, this summit is especially dedicated to uplifting Historically Black Colleges and Universities (HBCUs) and ensuring their full participation in the AI revolution. \nTaking place April 1-3\, 2025\, this transformative gathering will bring together students\, educators\, researchers\, industry leaders\, policymakers\, and community advocates to bridge the gap between HBCUs and the rapidly evolving AI landscape. \nHosted by Huston-Tillotson University\, an institution committed to forward-thinking innovation\, the summit provides a dynamic platform for collaboration\, cutting-edge research\, and career-building opportunities. 
URL:https://austin-ai.org/event/hbcu-ai-conference-and-training-summit/
LOCATION:Huston-Tillotson University\, 900 Chicon St\, Austin\, TX\, 78702\, United States
ATTACH;FMTTYPE=image/jpeg:https://austin-ai.org/wp-content/uploads/2025/03/HBCU_Ai_Con_Banners_1350x650.jpg
END:VEVENT
END:VCALENDAR