BEGIN:VCALENDAR
VERSION:2.0
PRODID:-//Austin AI Alliance - ECPv6.15.20//NONSGML v1.0//EN
CALSCALE:GREGORIAN
METHOD:PUBLISH
X-WR-CALNAME:Austin AI Alliance
X-ORIGINAL-URL:https://austin-ai.org
X-WR-CALDESC:Events for Austin AI Alliance
REFRESH-INTERVAL;VALUE=DURATION:PT1H
X-Robots-Tag:noindex
X-PUBLISHED-TTL:PT1H
BEGIN:VTIMEZONE
TZID:America/Chicago
BEGIN:DAYLIGHT
TZOFFSETFROM:-0600
TZOFFSETTO:-0500
TZNAME:CDT
DTSTART:20240310T080000
END:DAYLIGHT
BEGIN:STANDARD
TZOFFSETFROM:-0500
TZOFFSETTO:-0600
TZNAME:CST
DTSTART:20241103T070000
END:STANDARD
BEGIN:DAYLIGHT
TZOFFSETFROM:-0600
TZOFFSETTO:-0500
TZNAME:CDT
DTSTART:20250309T080000
END:DAYLIGHT
BEGIN:STANDARD
TZOFFSETFROM:-0500
TZOFFSETTO:-0600
TZNAME:CST
DTSTART:20251102T070000
END:STANDARD
BEGIN:DAYLIGHT
TZOFFSETFROM:-0600
TZOFFSETTO:-0500
TZNAME:CDT
DTSTART:20260308T080000
END:DAYLIGHT
BEGIN:STANDARD
TZOFFSETFROM:-0500
TZOFFSETTO:-0600
TZNAME:CST
DTSTART:20261101T070000
END:STANDARD
END:VTIMEZONE
BEGIN:VEVENT
DTSTART;TZID=America/Chicago:20250402T183000
DTEND;TZID=America/Chicago:20250402T203000
DTSTAMP:20260424T095149
CREATED:20250328T161806Z
LAST-MODIFIED:20250328T161806Z
UID:10000006-1743618600-1743625800@austin-ai.org
SUMMARY:AI for Influence: How AI Helps You Stand Out\, Build Trust\, and Scale Impact
DESCRIPTION:AI for Influence: How AI Helps You Stand Out\, Build Trust\, and Scale Impact\n  \nDetails: \nIn the AI Era\, Those Who Master Influence\, Relationships\, and Leverage Will Lead\nTony Guarnaccia\, Founder of Guestify.AI\, equips entrepreneurs\, coaches\, and business leaders to seize attention\, sharpen messaging\, and own their niche through top podcast appearances. With unmatched expertise in digital marketing and AI\, he’s helped thousands expand their reach and influence. \nHow do you cut through the noise\, build trust\, and scale your influence in an AI-driven world?\nThe answer lies in mastering Influence\, Relationships\, and Leverage.\nWithout Influence\, your voice gets lost in the crowd. Without Relationships\, opportunities slip away due to a lack of trust and meaningful connections. Without Leverage\, you work harder than necessary\, staying stuck in a cycle of effort without sustainable impact. \nGuest interviews cut through the noise by fostering real conversations\, deep connections\, and lasting authority. They provide a unique platform to showcase expertise\, engage deeply with audiences\, and build influence\, relationships\, and leverage at scale. \n\nThe Power of AI in Identifying and Reaching Your Ideal Market\nUsing AI-driven insights to pinpoint the right audience faster and more accurately.\nRefining Your Messaging for Maximum Impact\nTechniques for standing out in a crowded space and crafting content that truly resonates.\nScaling Relationships Through Guest Interviews\nHow AI enhances networking\, personalizes outreach\, and builds deeper\, trust-based connections.\nLeveraging AI to Expand Marketing Reach\nStrategies for using AI to increase brand authority\, broaden your influence\, and engage your target audience.\nThe Intersection of Influence\, Relationships\, and Leverage\nUnderstanding how these three elements work together to drive sustainable business growth.\n\nView Tony Guarnaccia’s LinkedIn Profile to learn more.
URL:https://austin-ai.org/event/ai-for-influence-how-ai-helps-you-stand-out-build-trust-and-scale-impact/
LOCATION:TX
ATTACH;FMTTYPE=image/png:https://austin-ai.org/wp-content/uploads/2025/03/marketing-automation-ai-April.png
END:VEVENT
BEGIN:VEVENT
DTSTART;TZID=America/Chicago:20250402T180000
DTEND;TZID=America/Chicago:20250402T210000
DTSTAMP:20260424T095149
CREATED:20250327T220021Z
LAST-MODIFIED:20250327T220257Z
UID:10000005-1743616800-1743627600@austin-ai.org
SUMMARY:Austin LangChain AIMUG Monthly Mixer & Showcase!
DESCRIPTION:Join us for an inspiring evening of innovation\, learning\, and community connection as we explore the latest in AI and the LangChain Ecosystem. This isnâ€™t a SXSW eventâ€”it’s our very own monthly gathering featuring engaging\, in-depth talks (not lightning talks) and panel discussions that dive deep into practical applications and cutting-edge technology.
URL:https://austin-ai.org/event/austin-langchain-aimug-monthly-mixer-showcase/
LOCATION:The Center for Government and Civic Service\, 1218 West Avenue Bldg 3000\, Austin\, TX\, 78701\, United States
ATTACH;FMTTYPE=image/png:https://austin-ai.org/wp-content/uploads/2025/03/austin-langchain-april.png
END:VEVENT
BEGIN:VEVENT
DTSTART;TZID=America/Chicago:20250401T181500
DTEND;TZID=America/Chicago:20250401T194500
DTSTAMP:20260424T095149
CREATED:20250327T214658Z
LAST-MODIFIED:20250327T215625Z
UID:10000003-1743531300-1743536700@austin-ai.org
SUMMARY:The Next Wave of Generative AI
DESCRIPTION:EVENT SUMMARY\nJoin the Austin Forum as we launch our ‘AI April’ month of programming with an insightful presentation from renowned generative AI expert at Google\, Andrew Gates. \nThe field of Artificial Intelligence is evolving at an unprecedented pace\, with generative AI leading the charge. This presentation will delve into the rapid advancements in generative AI capabilities and uses\, exploring the latest breakthroughs and their potential impact on various industries and aspects of our lives. \nAndrew will provide a comprehensive overview of: \n\n\nThe Current State of Generative AI: Examining the latest models\, techniques\, and applications. \n\n\nThe Rise of AI Agents and Agentic Systems: Understanding how these systems are changing the landscape of AI and automation. \n\n\nExpected Advancements in AI: Exploring the potential future of AI and its implications for society. \n\n\nPractical Applications and Ethical Considerations: Discussing real-world applications and the crucial ethical considerations surrounding these powerful technologies. \n\n\nWhether you’re a seasoned AI professional or simply curious about the future of technology\, this presentation will provide valuable insights into the transformative power of generative AI. \n  \nAGENDA\nâ€‹5:15-6:15 p.m. Networking\n6:15-7:30 p.m. Presentation\n7:30-7:45 p.m. Q&A\nâ€‹8:00 p.m. Networking
URL:https://austin-ai.org/event/the-next-wave-of-generative-ai/
LOCATION:The Center for Government and Civic Service\, 1218 West Avenue Bldg 3000\, Austin\, TX\, 78701\, United States
ATTACH;FMTTYPE=image/png:https://austin-ai.org/wp-content/uploads/2025/03/austin-forum.png
END:VEVENT
BEGIN:VEVENT
DTSTART;TZID=America/Chicago:20250401T170000
DTEND;TZID=America/Chicago:20250401T190000
DTSTAMP:20260424T095149
CREATED:20250328T162946Z
LAST-MODIFIED:20250409T212958Z
UID:10000010-1743526800-1743534000@austin-ai.org
SUMMARY:Unlocking AI for Small Business Growth Series
DESCRIPTION:Introduction to AI & Foundations \n\nDemystifying AI and Large Language Models (LLMs)\nUnderstanding how AI can benefit businesses\nCurrent state of AI adoption in small businesses\nTime efficiency and skill gap benefits\n\nPrompting Techniques \n\nBasic Structure: Goal\, Context\, Action framework\nSingle Shot Prompting: Quick\, direct questions\nInstruction-Based Prompting: Structured steps and outputs\nRole-Based Prompting: Persona-specific interactions\nChain-of-Thought: Complex problem-solving approach\n\nAdvanced Implementation \n\nCreating custom AI agents\nBuilding personas for specific business needs\nBest practices for prompt creation\nMaintaining brand identity while using AI\nKnowledge library development\n\nTools & Integration \n\nComparison of major AI models (ChatGPT\, Claude\, Gemini\, etc.)\nIntegration tools (Zapier\, n8n\, Make)\nAdditional AI tools for specific business needs\nUnderstanding technical limitations and solutions\nStrategies for seamless AI integration\n\nPractical Application \n\nHands-on exercises with prompting techniques\nReal-world business use cases\nBuilding your own AI workflows\nCreating a personalized AI strategy\nImplementation best practices and tips
URL:https://austin-ai.org/event/unlocking-ai-for-small-business-growth-series/
LOCATION:TX
ATTACH;FMTTYPE=image/png:https://austin-ai.org/wp-content/uploads/2025/03/The-prompt-shop-ai.png
END:VEVENT
END:VCALENDAR