BEGIN:VCALENDAR
VERSION:2.0
PRODID:-//Austin AI Alliance - ECPv6.15.20//NONSGML v1.0//EN
CALSCALE:GREGORIAN
METHOD:PUBLISH
X-ORIGINAL-URL:https://austin-ai.org
X-WR-CALDESC:Events for Austin AI Alliance
REFRESH-INTERVAL;VALUE=DURATION:PT1H
X-Robots-Tag:noindex
X-PUBLISHED-TTL:PT1H
BEGIN:VTIMEZONE
TZID:America/Chicago
BEGIN:DAYLIGHT
TZOFFSETFROM:-0600
TZOFFSETTO:-0500
TZNAME:CDT
DTSTART:20250309T080000
END:DAYLIGHT
BEGIN:STANDARD
TZOFFSETFROM:-0500
TZOFFSETTO:-0600
TZNAME:CST
DTSTART:20251102T070000
END:STANDARD
BEGIN:DAYLIGHT
TZOFFSETFROM:-0600
TZOFFSETTO:-0500
TZNAME:CDT
DTSTART:20260308T080000
END:DAYLIGHT
BEGIN:STANDARD
TZOFFSETFROM:-0500
TZOFFSETTO:-0600
TZNAME:CST
DTSTART:20261101T070000
END:STANDARD
BEGIN:DAYLIGHT
TZOFFSETFROM:-0600
TZOFFSETTO:-0500
TZNAME:CDT
DTSTART:20270314T080000
END:DAYLIGHT
BEGIN:STANDARD
TZOFFSETFROM:-0500
TZOFFSETTO:-0600
TZNAME:CST
DTSTART:20271107T070000
END:STANDARD
END:VTIMEZONE
BEGIN:VEVENT
DTSTART;TZID=America/Chicago:20260425T090000
DTEND;TZID=America/Chicago:20260425T123000
DTSTAMP:20260421T065606
CREATED:20260327T204744Z
LAST-MODIFIED:20260330T023523Z
UID:10000651-1777107600-1777120200@austin-ai.org
SUMMARY:AI Video Production and Digital Twins
DESCRIPTION:AI Video Production and Digital Twins\nVideo production used to mean equipment\, editing software with a learning curve\, and the uncomfortable reality of being on camera. AI has changed all three. This 3.5 hour class shows you exactly how\, and gives you hands-on time with the tools that are making it happen.\nUsing NotebookLM\, Riverside\, Descript\, and HeyGen\, you’ll move through a complete production workflow live in class: turning research into a script\, recording and editing footage\, and generating finished video with an AI avatar you build yourself. You’ll leave understanding not just what these tools do\, but how they connect and why that matters for anyone who creates content.\n\n\nWhat You’ll Be Able to Do\n\nTransform documents\, research\, or rough notes into a ready-to-record video script using NotebookLM\nRecord clean\, professional footage from any location using Riverside. No studio required.\nEdit video in Descript by editing text. Cut filler\, remove stumbles\, and tighten your message without touching a timeline.\nProduce faceless explainer-style video without ever appearing on camera\nBuild your own AI avatar in HeyGen and generate a finished video with it\, live\, in class\n\n\nWhat Makes These Session Different\nAI has enabled a new generation of video tools that not only make production faster\, they make it look easy. Most video tools make production faster. These tools make it fundamentally different. NotebookLM eliminates the blank page. Descript eliminates the timeline. HeyGen eliminates the on-camera requirement entirely. Together\, they represent a new model for how video gets made: one person\, no crew\, a fraction of the cost.\n\n\nWho It’s For\nMarketers\, educators\, founders\, and communicators who need to produce video content but haven’t found a process that fits how they actually work. No video experience required.\n\n\nBefore You Arrive\nA little setup ahead of time means more building and less waiting on class day. \n Required: \n\nA charged laptop (phones and tablets won’t work for this)\nA topic in mind\, something you’d genuinely want to make a video about\nA Google account (for NotebookLM)\nFree accounts created at: Riverside.fm\, Descript.com\, and HeyGen.com\n\nNo video production experience required. A willingness to make something real in under four hours: required. \n\n \nNeed-Based Scholarships Available\n\n \n\nWhile refunds are not available\, we’re committed to making this accessible. A limited number of scholarships are available for individuals who would not otherwise be able to attend. If cost is a barrier\, please reach out to us at info@austin-ai.org to learn more. \n \nA special thanks to our host and alliance member SKG. \n\n\n\n\nAbout the instructor:\nSteve Mudd is the CEO of Talentless AI\, an AI-native creative studio based in Austin. A 2026 AI Leadership Award winner from the Austin AI Alliance\, Steve is a writer\, filmmaker\, and AI practitioner who has built production workflows using tools like HeyGen\, Descript\, Riverside\, and NotebookLM for brands and studios. He currently serves as an AI Expert for B2B Marketing’s Propolis community\, and his AI content has generated over 10 million views across TikTok\, LinkedIn\, and YouTube. He runs AI bootcamps\, coaching sessions\, and hands-on workshops that help marketers\, educators\, and creators adopt AI tools into their actual work.
URL:https://austin-ai.org/event/ai-video-production-and-digital-twins/
LOCATION:SKG\, 2010 S Lamar Blvd Suite 125\, Austin\, Tx\, 78704
CATEGORIES:AAIA
ATTACH;FMTTYPE=image/png:https://austin-ai.org/wp-content/uploads/2026/03/Gemini_Generated_Image_pq0wqqpq0wqqpq0w-scaled.png
END:VEVENT
BEGIN:VEVENT
DTSTART;TZID=America/Chicago:20260520T173000
DTEND;TZID=America/Chicago:20260520T200000
DTSTAMP:20260421T065606
CREATED:20260204T154027Z
LAST-MODIFIED:20260420T040128Z
UID:10000601-1779298200-1779307200@austin-ai.org
SUMMARY:AI in Professional Education
DESCRIPTION:The Austin AI Alliance is an AI consortium dedicated to advancing the capabilities\, usage & impact\, social responsibility\, and inclusiveness of AI technologies and applications by leveraging the unique resources\, talent base\, and culture of creative innovation in Austin. The Austin AI Alliance is welcoming of all companies and organizations and will help to connect professionals from companies (from startups to global technology leaders)\, universities\, government agencies\, professional associations\, non-profits\, and interest groups—and to elevate all of their respective activities as well as creative collaborative opportunities. \nMembers and Public\, all welcome\n\n\n\nNetwork with entrepreneurs\, corporate leaders\, academics\, students\, innovators\, and subject matter experts building AI in Austin and find future collaborations.\n\n\n\nAgenda:\n5:30 – 6:00 PM | Check-in and Networking\n6:00 – 7:00 PM | Innovation Spotlights and Reverse Pitches\n7:00 – 8:00 PM | Projects\, Collaboration\, and Networking \n\n  \n\nJoin us at The Center for Government and Civic Service\, ACC Rio Grande: Building 3000 1218 West Avenue\, Austin\, TX\, United States\nParking map below. Street parking is free after 6 pm.
URL:https://austin-ai.org/event/austin-ai-alliance-monthly-meeting-may/
LOCATION:The Center for Government and Civic Service\, ACC Rio Grande: Building 3000\, 1218 West Avenue\, Austin\, TX\, 78701\, United States
CATEGORIES:AAIA
ATTACH;FMTTYPE=image/jpeg:https://austin-ai.org/wp-content/uploads/2026/02/IMG_95801.jpg
ORGANIZER;CN="Austin AI Alliance":MAILTO:info@austin-ai.org
END:VEVENT
BEGIN:VEVENT
DTSTART;TZID=America/Chicago:20260617T173000
DTEND;TZID=America/Chicago:20260617T200000
DTSTAMP:20260421T065606
CREATED:20260204T154440Z
LAST-MODIFIED:20260415T231112Z
UID:10000602-1781717400-1781726400@austin-ai.org
SUMMARY:Ethical and Responsible AI
DESCRIPTION:The Austin AI Alliance is an AI consortium dedicated to advancing the capabilities\, usage & impact\, social responsibility\, and inclusiveness of AI technologies and applications by leveraging the unique resources\, talent base\, and culture of creative innovation in Austin. The Austin AI Alliance is welcoming of all companies and organizations and will help to connect professionals from companies (from startups to global technology leaders)\, universities\, government agencies\, professional associations\, non-profits\, and interest groups—and to elevate all of their respective activities as well as creative collaborative opportunities. \nMembers and Public\, all welcome\n\n\n\nNetwork with entrepreneurs\, corporate leaders\, academics\, students\, innovators\, and subject matter experts building AI in Austin and find future collaborations.\n\n\n\nAgenda:\n5:30 – 6:00 PM | Check-in and Networking\n6:00 – 7:00 PM | Innovation Spotlights and Reverse Pitches\n7:00 – 8:00 PM | Projects\, Collaboration\, and Networking \n\n  \n\nJoin us at The Center for Government and Civic Service\, ACC Rio Grande: Building 3000 1218 West Avenue\, Austin\, TX\, United States\nParking map below. Street parking is free after 6 pm.
URL:https://austin-ai.org/event/austin-ai-alliance-monthly-meeting-june/
LOCATION:The Center for Government and Civic Service\, ACC Rio Grande: Building 3000\, 1218 West Avenue\, Austin\, TX\, 78701\, United States
CATEGORIES:AAIA
ATTACH;FMTTYPE=image/jpeg:https://austin-ai.org/wp-content/uploads/2025/08/cad23296c401e3c1210e70f5961a6850.jpg
ORGANIZER;CN="Austin AI Alliance":MAILTO:info@austin-ai.org
END:VEVENT
BEGIN:VEVENT
DTSTART;TZID=America/Chicago:20260622T090000
DTEND;TZID=America/Chicago:20260624T150000
DTSTAMP:20260421T065606
CREATED:20260318T165045Z
LAST-MODIFIED:20260318T220305Z
UID:10000641-1782118800-1782313200@austin-ai.org
SUMMARY:Summer AI Intensive 2026
DESCRIPTION:The Summer AI Intensive is back — and seats go fast.\nPresented by the Austin AI Alliance\, the Summer AI Intensive is your path to peak AI performance. Three immersive days designed for professionals ready to make AI their greatest competitive advantage. Come to learn. Leave ready to lead.\nYou’ll choose your track — Executive\, Developer*\, or Productivity — and spend three immersive days learning from Austin’s top AI practitioners. Not slides and theory. Real tools\, real case studies\, and real access to the people driving AI adoption across the region.\nWhat’s included: \n\nExpert-led sessions with local AI leaders\, innovators\, and decision-makers\nHands-on workshops using the latest tools and techniques — applied to your actual work\nStudio time with practitioners in your field\nDaily networking lunches with leaders and participants from every track\n\nSpots are limited. Secure yours today.\n\n\n\nDetails: \n\nWhen: June 22-24\, 9AM – 3PM\nWhere: ACC Rio Grande Building 3000 (free covered parking around the corner)\nCost: Early bird pricing $499 (non-members)\, $349 (members)\nLunch is served daily\n\nNeed-Based Scholarships Available \nWhile refunds are not available\, we’re committed to making the Summer AI Intensive accessible. A limited number of scholarships are available for individuals who would not otherwise be able to attend. If cost is a barrier\, please reach out to us at info@austin-ai.org to learn more. \n*Prior coding experience required for Developer Track. Participants may need access to select AI platforms and API tokens.
URL:https://austin-ai.org/event/summer-ai-intensive-2026/
LOCATION:The Center for Government and Civic Service\, ACC Rio Grande: Building 3000\, 1218 West Avenue\, Austin\, TX\, 78701\, United States
CATEGORIES:AAIA
ATTACH;FMTTYPE=image/png:https://austin-ai.org/wp-content/uploads/2026/03/Summer-AI-Intensive-2026-Promo-banner.png
ORGANIZER;CN="Austin AI Alliance":MAILTO:info@austin-ai.org
END:VEVENT
BEGIN:VEVENT
DTSTART;TZID=America/Chicago:20261015T090000
DTEND;TZID=America/Chicago:20261016T180000
DTSTAMP:20260421T065606
CREATED:20260419T012926Z
LAST-MODIFIED:20260419T012926Z
UID:10000663-1792054800-1792173600@austin-ai.org
SUMMARY:2nd International Conference on Artificial Intelligence and Big Data Analytics (AIBDA 2026)
DESCRIPTION:The AIBDA 2026 conference is a global platform that brings together researchers\, academicians\, data scientists\, and industry professionals to explore advancements in artificial intelligence and big data analytics. The conference includes keynote speeches\, technical sessions\, and networking opportunities to promote innovation and collaboration.
URL:https://austin-ai.org/event/2nd-international-conference-on-artificial-intelligence-and-big-data-analytics-aibda-2026/
LOCATION:Capital Factory\, 701 Brazos Street\, Floor 8th\, Austin\, TX\, 78701\, United States
CATEGORIES:AAIA
ATTACH;FMTTYPE=image/png:https://austin-ai.org/wp-content/uploads/2026/04/AI-Banner-scaled.png
ORGANIZER;CN="Vartus Group":MAILTO:aibda@vartusconference.com
GEO:30.268603;-97.741109
X-APPLE-STRUCTURED-LOCATION;VALUE=URI;X-ADDRESS=Capital Factory 701 Brazos Street Floor 8th Austin TX 78701 United States;X-APPLE-RADIUS=500;X-TITLE=701 Brazos Street\, Floor 8th:geo:-97.741109,30.268603
END:VEVENT
END:VCALENDAR