BEGIN:VCALENDAR
VERSION:2.0
PRODID:-//Austin AI Alliance - ECPv6.15.20//NONSGML v1.0//EN
CALSCALE:GREGORIAN
METHOD:PUBLISH
X-ORIGINAL-URL:https://austin-ai.org
X-WR-CALDESC:Events for Austin AI Alliance
REFRESH-INTERVAL;VALUE=DURATION:PT1H
X-Robots-Tag:noindex
X-PUBLISHED-TTL:PT1H
BEGIN:VTIMEZONE
TZID:America/Chicago
BEGIN:DAYLIGHT
TZOFFSETFROM:-0600
TZOFFSETTO:-0500
TZNAME:CDT
DTSTART:20240310T080000
END:DAYLIGHT
BEGIN:STANDARD
TZOFFSETFROM:-0500
TZOFFSETTO:-0600
TZNAME:CST
DTSTART:20241103T070000
END:STANDARD
BEGIN:DAYLIGHT
TZOFFSETFROM:-0600
TZOFFSETTO:-0500
TZNAME:CDT
DTSTART:20250309T080000
END:DAYLIGHT
BEGIN:STANDARD
TZOFFSETFROM:-0500
TZOFFSETTO:-0600
TZNAME:CST
DTSTART:20251102T070000
END:STANDARD
BEGIN:DAYLIGHT
TZOFFSETFROM:-0600
TZOFFSETTO:-0500
TZNAME:CDT
DTSTART:20260308T080000
END:DAYLIGHT
BEGIN:STANDARD
TZOFFSETFROM:-0500
TZOFFSETTO:-0600
TZNAME:CST
DTSTART:20261101T070000
END:STANDARD
END:VTIMEZONE
BEGIN:VEVENT
DTSTART;TZID=America/Chicago:20251015T173000
DTEND;TZID=America/Chicago:20251015T200000
DTSTAMP:20260421T181259
CREATED:20250926T223951Z
LAST-MODIFIED:20251027T174637Z
UID:10000134-1760549400-1760558400@austin-ai.org
SUMMARY:Austin AI Alliance Monthly Meeting
DESCRIPTION:The Austin AI Alliance is an AI consortium dedicated to advancing the capabilities\, usage & impact\, social responsibility\, and inclusiveness of AI technologies and applications by leveraging the unique resources\, talent base\, and culture of creative innovation in Austin. The Austin AI Alliance is welcoming of all companies and organizations and will help to connect professionals from companies (from startups to global technology leaders)\, universities\, government agencies\, professional associations\, non-profits\, and interest groups—and to elevate all of their respective activities as well as creative collaborative opportunities. \nMembers and Public\, all welcome\n\n\n\nNetwork with entrepreneurs\, corporate leaders\, academics\, students\, innovators\, and subject matter experts building AI in Austin and find future collaborations.\n\n\nAgenda:\n5:30 – 6:00 PM | Check-in and Networking\n6:00 – 7:00 PM | Innovation Spotlights and Reverse Pitches\n7:00 – 8:00 PM | Projects\, Collaboration\, and Networking \nJoin us at The Center for Government and Civic Service\, ACC Rio Grande: Building 3000 1218 West Avenue\, Austin\, TX\, United States\nParking map below. Street parking is free after 6 pm.
URL:https://austin-ai.org/event/austin-ai-alliance-monthly-meeting-10/
LOCATION:The Center for Government and Civic Service\, ACC Rio Grande: Building 3000\, 1218 West Avenue\, Austin\, TX\, 78701\, United States
CATEGORIES:AAIA
ATTACH;FMTTYPE=image/jpeg:https://austin-ai.org/wp-content/uploads/2025/08/cad23296c401e3c1210e70f5961a6850.jpg
END:VEVENT
BEGIN:VEVENT
DTSTART;TZID=America/Chicago:20251017T120000
DTEND;TZID=America/Chicago:20251017T130000
DTSTAMP:20260421T181259
CREATED:20250926T213938Z
LAST-MODIFIED:20251007T155929Z
UID:10000128-1760702400-1760706000@austin-ai.org
SUMMARY:AAIA Lunch and Learn: PROCESS Framework for Data Analytics Design
DESCRIPTION:This session is designed for participants with business problem that requires data driven solution\, but little to no technical background to develop it. We will demonstrate how to create a data analytics prototype design using the PROCESS framework (Protect\, Refine\, Organize\, Correlate\, Evaluate\, Suggest\, Share). Attendees will learn how to frame requirements in a way that AI can transform into structured\, reliable\, and responsible prototype solutions. The program will cover critical considerations such as data security\, privacy\, quality\, integrity\, and usability\, showing how natural language designers can guide trustworthy outcomes.
URL:https://austin-ai.org/event/aaia-lunch-learn/
LOCATION:Online event
CATEGORIES:AAIA
ATTACH;FMTTYPE=image/jpeg:https://austin-ai.org/wp-content/uploads/2025/09/1000014518.jpg
ORGANIZER;CN="Austin AI Alliance":MAILTO:info@austin-ai.org
GEO:-8.521147;179.1962
END:VEVENT
END:VCALENDAR