BEGIN:VCALENDAR
VERSION:2.0
PRODID:-//Austin AI Alliance - ECPv6.15.20//NONSGML v1.0//EN
CALSCALE:GREGORIAN
METHOD:PUBLISH
X-ORIGINAL-URL:https://austin-ai.org
X-WR-CALDESC:Events for Austin AI Alliance
REFRESH-INTERVAL;VALUE=DURATION:PT1H
X-Robots-Tag:noindex
X-PUBLISHED-TTL:PT1H
BEGIN:VTIMEZONE
TZID:America/Chicago
BEGIN:DAYLIGHT
TZOFFSETFROM:-0600
TZOFFSETTO:-0500
TZNAME:CDT
DTSTART:20250309T080000
END:DAYLIGHT
BEGIN:STANDARD
TZOFFSETFROM:-0500
TZOFFSETTO:-0600
TZNAME:CST
DTSTART:20251102T070000
END:STANDARD
BEGIN:DAYLIGHT
TZOFFSETFROM:-0600
TZOFFSETTO:-0500
TZNAME:CDT
DTSTART:20260308T080000
END:DAYLIGHT
BEGIN:STANDARD
TZOFFSETFROM:-0500
TZOFFSETTO:-0600
TZNAME:CST
DTSTART:20261101T070000
END:STANDARD
BEGIN:DAYLIGHT
TZOFFSETFROM:-0600
TZOFFSETTO:-0500
TZNAME:CDT
DTSTART:20270314T080000
END:DAYLIGHT
BEGIN:STANDARD
TZOFFSETFROM:-0500
TZOFFSETTO:-0600
TZNAME:CST
DTSTART:20271107T070000
END:STANDARD
END:VTIMEZONE
BEGIN:VEVENT
DTSTART;TZID=America/Chicago:20260415T173000
DTEND;TZID=America/Chicago:20260415T200000
DTSTAMP:20260420T093034
CREATED:20260204T153850Z
LAST-MODIFIED:20260415T225104Z
UID:10000600-1776274200-1776283200@austin-ai.org
SUMMARY:AI in K-12
DESCRIPTION:Who is in your Texas workforce pipeline and what are they learning today? During this spotlight\, you’ll hear from Dr. Suzanne Newell\, Chief Education Strategist for GTS Technology Solutions\, and Laura Browder\, Senior Executive Director of Technology Operations in Austin ISD. Together\, they’ll provide insight into the AI learning landscape in K-12 education – where things are today\, what is needed\, how GTS has been working to support educators\, and how Austin AI Alliance can play a role. \nChalkboards to Chatbots: The Future of K–12 From the outback to the White House\, the conversation about AI in education is already happening—fast and unevenly. This session by Damien Aldridge explores what schools have learned from past disruptions\, what’s happening right now\, and what comes next. \n\n\n\n\nAgenda:\n5:30 – 6:00 PM | Check-in and Networking6:00 – 7:00 PM | Innovation Spotlights and Reverse Pitches7:00 – 8:00 PM | Projects\, Collaboration\, and Networking  \n\n\nJoin us at The Center for Government and Civic Service\, ACC Rio Grande: Building 3000 1218 West Avenue\, Austin\, TX\, United States. Parking map below. Street parking is free after 6 pm.\n\n\n \n\n\n\n\n\nMembers and Public\, all welcome\n\n\n\nNetwork with entrepreneurs\, corporate leaders\, academics\, students\, innovators\, and subject matter experts building AI in Austin and find future collaborations.\n\n\n\n \n\n\n \nThe Austin AI Alliance is an AI consortium dedicated to advancing the capabilities\, usage & impact\, social responsibility\, and inclusiveness of AI technologies and applications by leveraging the unique resources\, talent base\, and culture of creative innovation in Austin. The Austin AI Alliance is welcoming of all companies and organizations and will help to connect professionals from companies (from startups to global technology leaders)\, universities\, government agencies\, professional associations\, non-profits\, and interest groups—and to elevate all of their respective activities as well as creative collaborative opportunities.
URL:https://austin-ai.org/event/austin-ai-alliance-monthly-meeting-april/
LOCATION:The Center for Government and Civic Service\, ACC Rio Grande: Building 3000\, 1218 West Avenue\, Austin\, TX\, 78701\, United States
CATEGORIES:AAIA
ATTACH;FMTTYPE=image/jpeg:https://austin-ai.org/wp-content/uploads/2025/08/cad23296c401e3c1210e70f5961a6850.jpg
ORGANIZER;CN="Austin AI Alliance":MAILTO:info@austin-ai.org
END:VEVENT
END:VCALENDAR