BEGIN:VCALENDAR
VERSION:2.0
PRODID:-//Austin AI Alliance - ECPv6.15.20//NONSGML v1.0//EN
CALSCALE:GREGORIAN
METHOD:PUBLISH
X-WR-CALNAME:Austin AI Alliance
X-ORIGINAL-URL:https://austin-ai.org
X-WR-CALDESC:Events for Austin AI Alliance
REFRESH-INTERVAL;VALUE=DURATION:PT1H
X-Robots-Tag:noindex
X-PUBLISHED-TTL:PT1H
BEGIN:VTIMEZONE
TZID:America/Chicago
BEGIN:DAYLIGHT
TZOFFSETFROM:-0600
TZOFFSETTO:-0500
TZNAME:CDT
DTSTART:20250309T080000
END:DAYLIGHT
BEGIN:STANDARD
TZOFFSETFROM:-0500
TZOFFSETTO:-0600
TZNAME:CST
DTSTART:20251102T070000
END:STANDARD
BEGIN:DAYLIGHT
TZOFFSETFROM:-0600
TZOFFSETTO:-0500
TZNAME:CDT
DTSTART:20260308T080000
END:DAYLIGHT
BEGIN:STANDARD
TZOFFSETFROM:-0500
TZOFFSETTO:-0600
TZNAME:CST
DTSTART:20261101T070000
END:STANDARD
BEGIN:DAYLIGHT
TZOFFSETFROM:-0600
TZOFFSETTO:-0500
TZNAME:CDT
DTSTART:20270314T080000
END:DAYLIGHT
BEGIN:STANDARD
TZOFFSETFROM:-0500
TZOFFSETTO:-0600
TZNAME:CST
DTSTART:20271107T070000
END:STANDARD
END:VTIMEZONE
BEGIN:VEVENT
DTSTART;TZID=America/Chicago:20260319T190000
DTEND;TZID=America/Chicago:20260319T210000
DTSTAMP:20260420T080150
CREATED:20260204T154652Z
LAST-MODIFIED:20260320T032746Z
UID:10000596-1773946800-1773954000@austin-ai.org
SUMMARY:GenAI 2.0: The "Introduction to Generative AI" Second Edition Launch Party
DESCRIPTION:Join us for an in-person book signing on Thursday\, March 19 at Remedy Bar!\n\n\nThe field of Generative AI has moved at breakneck speed since its first breakout moment. To make sense of where we are and where we’re going\, join the Austin Forum for a celebratory in-person book release party for the second edition of “Introduction to Generative AI” by authors Numa Dhamani and Maggie Engler. \nThis isn’t just a book signing—it’s a gathering of Austin’s most curious minds to discuss the evolution of AI from simple chatbots to the complex\, agentic systems of 2026. Numa and Maggie will take the stage to discuss the major updates in this new edition\, share their insights on the ethical and technical frontiers of GenAI\, and answer your most pressing questions. \nEvening Highlights: \n\nThe Impact of 2.0: Discuss the shift from “content generation” to “task execution” and what it means for your career and organization.\nAuthor Discussion & Q&A: Hear directly from Numa and Maggie about the journey of writing the second edition and their predictions for the next wave of AI innovation.\nBook Signing: Meet the authors and get your copy of the second edition personalized.\nNetworking: Connect with a diverse group of tech professionals\, researchers\, and enthusiasts over drinks and appetizers.\n\nWhether you’re an AI veteran or just beginning to explore the field\, come celebrate this milestone and join the conversation about the technology that is rewriting the rules of the physical and digital worlds. \n \nAttendance Instructions\nAll participants must register for this event via Eventbrite. This will be an in-person event held at Remedy Bar. Paid street parking is available.
URL:https://austin-ai.org/event/genai-2-0-the-introduction-to-generative-ai-second-edition-launch-party/
LOCATION:Remedy\, 360 Nueces St\, STE 30\, Austin\, TX\, 78701\, United States
ATTACH;FMTTYPE=image/jpeg:https://austin-ai.org/wp-content/uploads/2026/01/15534edfae5964b73a45da74eccc81f5.jpg
END:VEVENT
END:VCALENDAR