BEGIN:VCALENDAR
VERSION:2.0
PRODID:-//Austin AI Alliance - ECPv6.15.20//NONSGML v1.0//EN
CALSCALE:GREGORIAN
METHOD:PUBLISH
X-ORIGINAL-URL:https://austin-ai.org
X-WR-CALDESC:Events for Austin AI Alliance
REFRESH-INTERVAL;VALUE=DURATION:PT1H
X-Robots-Tag:noindex
X-PUBLISHED-TTL:PT1H
BEGIN:VTIMEZONE
TZID:America/Chicago
BEGIN:DAYLIGHT
TZOFFSETFROM:-0600
TZOFFSETTO:-0500
TZNAME:CDT
DTSTART:20250309T080000
END:DAYLIGHT
BEGIN:STANDARD
TZOFFSETFROM:-0500
TZOFFSETTO:-0600
TZNAME:CST
DTSTART:20251102T070000
END:STANDARD
BEGIN:DAYLIGHT
TZOFFSETFROM:-0600
TZOFFSETTO:-0500
TZNAME:CDT
DTSTART:20260308T080000
END:DAYLIGHT
BEGIN:STANDARD
TZOFFSETFROM:-0500
TZOFFSETTO:-0600
TZNAME:CST
DTSTART:20261101T070000
END:STANDARD
BEGIN:DAYLIGHT
TZOFFSETFROM:-0600
TZOFFSETTO:-0500
TZNAME:CDT
DTSTART:20270314T080000
END:DAYLIGHT
BEGIN:STANDARD
TZOFFSETFROM:-0500
TZOFFSETTO:-0600
TZNAME:CST
DTSTART:20271107T070000
END:STANDARD
END:VTIMEZONE
BEGIN:VEVENT
DTSTART;TZID=America/Chicago:20260305T173000
DTEND;TZID=America/Chicago:20260305T200000
DTSTAMP:20260420T080322
CREATED:20260220T183431Z
LAST-MODIFIED:20260220T183431Z
UID:10000622-1772731800-1772740800@austin-ai.org
SUMMARY:AWT's March Event: Women in AI Panel
DESCRIPTION:Step into the future of innovation with Austin Women in Technology and Opportunity Austin! Join us for an engaging evening celebrating women founders\, builders\, and leaders shaping the world of artificial intelligence. \nGrab your community and come ready to connect\, learn\, and be inspired. Our Women in AI Panel brings together visionary perspectives on how AI is being used today\, and what’s next\, across industries\, roles\, and business models.
URL:https://austin-ai.org/event/awts-march-event-women-in-ai-panel/
LOCATION:Indeed Tower\, 200 W 6th Street\, Level C\, Austin\, Texas\, 78701\, United States
ATTACH;FMTTYPE=image/png:https://austin-ai.org/wp-content/uploads/2026/02/Women-in-AI-Panel.png
ORGANIZER;CN="Austin Women in Tech":MAILTO:info@awtaustin.org
END:VEVENT
END:VCALENDAR