BEGIN:VCALENDAR
VERSION:2.0
PRODID:-//Austin AI Alliance - ECPv6.15.20//NONSGML v1.0//EN
CALSCALE:GREGORIAN
METHOD:PUBLISH
X-ORIGINAL-URL:https://austin-ai.org
X-WR-CALDESC:Events for Austin AI Alliance
REFRESH-INTERVAL;VALUE=DURATION:PT1H
X-Robots-Tag:noindex
X-PUBLISHED-TTL:PT1H
BEGIN:VTIMEZONE
TZID:America/Chicago
BEGIN:DAYLIGHT
TZOFFSETFROM:-0600
TZOFFSETTO:-0500
TZNAME:CDT
DTSTART:20250309T080000
END:DAYLIGHT
BEGIN:STANDARD
TZOFFSETFROM:-0500
TZOFFSETTO:-0600
TZNAME:CST
DTSTART:20251102T070000
END:STANDARD
BEGIN:DAYLIGHT
TZOFFSETFROM:-0600
TZOFFSETTO:-0500
TZNAME:CDT
DTSTART:20260308T080000
END:DAYLIGHT
BEGIN:STANDARD
TZOFFSETFROM:-0500
TZOFFSETTO:-0600
TZNAME:CST
DTSTART:20261101T070000
END:STANDARD
BEGIN:DAYLIGHT
TZOFFSETFROM:-0600
TZOFFSETTO:-0500
TZNAME:CDT
DTSTART:20270314T080000
END:DAYLIGHT
BEGIN:STANDARD
TZOFFSETFROM:-0500
TZOFFSETTO:-0600
TZNAME:CST
DTSTART:20271107T070000
END:STANDARD
END:VTIMEZONE
BEGIN:VEVENT
DTSTART;TZID=America/Chicago:20260303T084500
DTEND;TZID=America/Chicago:20260304T160000
DTSTAMP:20260420T080325
CREATED:20260217T204946Z
LAST-MODIFIED:20260217T212607Z
UID:10000614-1772527500-1772640000@austin-ai.org
SUMMARY:Texas Symposium on Machine Learning\, Responsible AI & Robotics
DESCRIPTION:Join Texas Robotics\, the Machine Learning Lab\, and Good Systems on March 3 & 4 for a two-day symposium exploring responsible innovation in AI and Robotics. Discover boundary-breaking research insights and enjoy thought-provoking talks as you connect with leaders across disciplines and sectors. \nHighlights include keynotes by Gregory D. Hager\, Kilian Weinberger\, and Alice Xiang\, panels exploring topics such as agentic AI (autonomous systems that use reasoning and planning to achieve complex goals with minimal human intervention); ethical considerations for the changing landscape of work; innovation at the intersection of robotics\, AI\, and healthcare; and the use of AI to accelerate scientific discovery. The event will also include an interactive poster session and networking reception. \nFor more information and registration\, please visit https://ai.utexas.edu/events/2026-03-03/texas-symposium-machine-learning-responsible-ai-robotics.  \n 
URL:https://austin-ai.org/event/texas-symposium-on-machine-learning-responsible-ai-robotics/
LOCATION:Etter-Harbin Alumni Center\, 2110 San Jacinto Blvd\, Austin\, TX\, 78712\, United States
ATTACH;FMTTYPE=image/png:https://austin-ai.org/wp-content/uploads/2026/02/Texas-Symposium-on-Machine-Learning-Responsible-AI-Robotics.png
ORGANIZER;CN="Good Systems":MAILTO:goodsystems@austin.utexas.edu
END:VEVENT
END:VCALENDAR