BEGIN:VCALENDAR
VERSION:2.0
PRODID:-//Austin AI Alliance - ECPv6.15.20//NONSGML v1.0//EN
CALSCALE:GREGORIAN
METHOD:PUBLISH
X-WR-CALNAME:Austin AI Alliance
X-ORIGINAL-URL:https://austin-ai.org
X-WR-CALDESC:Events for Austin AI Alliance
REFRESH-INTERVAL;VALUE=DURATION:PT1H
X-Robots-Tag:noindex
X-PUBLISHED-TTL:PT1H
BEGIN:VTIMEZONE
TZID:UTC
BEGIN:STANDARD
TZOFFSETFROM:+0000
TZOFFSETTO:+0000
TZNAME:UTC
DTSTART:20250101T000000
END:STANDARD
END:VTIMEZONE
BEGIN:VEVENT
DTSTART;TZID=UTC:20260224T233000
DTEND;TZID=UTC:20260225T013000
DTSTAMP:20260420T080036
CREATED:20260115T222826Z
LAST-MODIFIED:20260220T003945Z
UID:10000588-1771975800-1771983000@austin-ai.org
SUMMARY:AITX Monthly Meetup
DESCRIPTION:Get up-to-date information at: https://luma.com/aitx-feb26  Address: Antler VC Austin\, Texas United States  Hosted by Jake O’Shea
URL:https://austin-ai.org/event/aitx-monthly-meetup-7/
LOCATION:Antler VC\, 800 Brazos St\, Austin\, TX\, United States
ATTACH;FMTTYPE=image/avif:https://austin-ai.org/wp-content/uploads/2026/01/AITX-Monthly-Meetup.avif
ORGANIZER;CN="Jake O'Shea":MAILTO:calendar-invite@lu.ma
GEO:30.269531;-97.74078
X-APPLE-STRUCTURED-LOCATION;VALUE=URI;X-ADDRESS=Antler VC 800 Brazos St Austin TX United States;X-APPLE-RADIUS=500;X-TITLE=800 Brazos St:geo:-97.74078,30.269531
END:VEVENT
END:VCALENDAR