BEGIN:VCALENDAR
VERSION:2.0
PRODID:-//Austin AI Alliance - ECPv6.15.20//NONSGML v1.0//EN
CALSCALE:GREGORIAN
METHOD:PUBLISH
X-WR-CALNAME:Austin AI Alliance
X-ORIGINAL-URL:https://austin-ai.org
X-WR-CALDESC:Events for Austin AI Alliance
REFRESH-INTERVAL;VALUE=DURATION:PT1H
X-Robots-Tag:noindex
X-PUBLISHED-TTL:PT1H
BEGIN:VTIMEZONE
TZID:America/Chicago
BEGIN:DAYLIGHT
TZOFFSETFROM:-0600
TZOFFSETTO:-0500
TZNAME:CDT
DTSTART:20250309T080000
END:DAYLIGHT
BEGIN:STANDARD
TZOFFSETFROM:-0500
TZOFFSETTO:-0600
TZNAME:CST
DTSTART:20251102T070000
END:STANDARD
BEGIN:DAYLIGHT
TZOFFSETFROM:-0600
TZOFFSETTO:-0500
TZNAME:CDT
DTSTART:20260308T080000
END:DAYLIGHT
BEGIN:STANDARD
TZOFFSETFROM:-0500
TZOFFSETTO:-0600
TZNAME:CST
DTSTART:20261101T070000
END:STANDARD
BEGIN:DAYLIGHT
TZOFFSETFROM:-0600
TZOFFSETTO:-0500
TZNAME:CDT
DTSTART:20270314T080000
END:DAYLIGHT
BEGIN:STANDARD
TZOFFSETFROM:-0500
TZOFFSETTO:-0600
TZNAME:CST
DTSTART:20271107T070000
END:STANDARD
END:VTIMEZONE
BEGIN:VEVENT
DTSTART;TZID=America/Chicago:20260209T080000
DTEND;TZID=America/Chicago:20260211T170000
DTSTAMP:20260421T080707
CREATED:20251204T180555Z
LAST-MODIFIED:20251204T180555Z
UID:10000560-1770624000-1770829200@austin-ai.org
SUMMARY:AI ICON (AI & Innovation Conference)
DESCRIPTION:AI ICON is a curated upskilling platform and conference whose dual mission is to significantly enhance participants’ AI IQ through active\, learning-by-doing methodologies\, moving them from passive learning into practical building. Beyond its educational function\, AI ICON serves a critical strategic role as a clear Q1 Go-To-Market (GTM) platform for new and emerging technologies\, accelerating the AI ecosystem by connecting innovators\, executives\, and investors to drive strategic partnerships. Come and learn from the “Queen of AI”\, Ms Alicia Lyttle\, when you invest in an ICON Badge. Everyone with an ICON Badge will receive 200 powerful prompts to start your 2026 off right! \nIf any member is interested in becoming a Trainer or would like to use AI ICON as part of their Go-To-Market Strategy\, please email us at info@aiicon.com.
URL:https://austin-ai.org/event/ai-icon-ai-innovation-conference/
LOCATION:TX
ATTACH;FMTTYPE=image/jpeg:https://austin-ai.org/wp-content/uploads/2025/12/Alicia-Lyttle-AI-ICON-Eventbrite-NOW-scaled.jpg
END:VEVENT
END:VCALENDAR