BEGIN:VCALENDAR
VERSION:2.0
PRODID:-//Austin AI Alliance - ECPv6.15.20//NONSGML v1.0//EN
CALSCALE:GREGORIAN
METHOD:PUBLISH
X-ORIGINAL-URL:https://austin-ai.org
X-WR-CALDESC:Events for Austin AI Alliance
REFRESH-INTERVAL;VALUE=DURATION:PT1H
X-Robots-Tag:noindex
X-PUBLISHED-TTL:PT1H
BEGIN:VTIMEZONE
TZID:America/Chicago
BEGIN:DAYLIGHT
TZOFFSETFROM:-0600
TZOFFSETTO:-0500
TZNAME:CDT
DTSTART:20240310T080000
END:DAYLIGHT
BEGIN:STANDARD
TZOFFSETFROM:-0500
TZOFFSETTO:-0600
TZNAME:CST
DTSTART:20241103T070000
END:STANDARD
BEGIN:DAYLIGHT
TZOFFSETFROM:-0600
TZOFFSETTO:-0500
TZNAME:CDT
DTSTART:20250309T080000
END:DAYLIGHT
BEGIN:STANDARD
TZOFFSETFROM:-0500
TZOFFSETTO:-0600
TZNAME:CST
DTSTART:20251102T070000
END:STANDARD
BEGIN:DAYLIGHT
TZOFFSETFROM:-0600
TZOFFSETTO:-0500
TZNAME:CDT
DTSTART:20260308T080000
END:DAYLIGHT
BEGIN:STANDARD
TZOFFSETFROM:-0500
TZOFFSETTO:-0600
TZNAME:CST
DTSTART:20261101T070000
END:STANDARD
END:VTIMEZONE
BEGIN:VTIMEZONE
TZID:UTC
BEGIN:STANDARD
TZOFFSETFROM:+0000
TZOFFSETTO:+0000
TZNAME:UTC
DTSTART:20240101T000000
END:STANDARD
END:VTIMEZONE
BEGIN:VEVENT
DTSTART;VALUE=DATE:20251211
DTEND;VALUE=DATE:20251213
DTSTAMP:20260423T151926
CREATED:20251015T144103Z
LAST-MODIFIED:20251015T144103Z
UID:10000147-1765411200-1765583999@austin-ai.org
SUMMARY:Building Bridges Summit
DESCRIPTION:Join us for a significant event addressing systemic oppression in Black communities: the Building Bridges\, Removing Barriers Summit\, will be held December 11-12\, 2025.\nThis isn’t just another meeting – it’s a call to action!
URL:https://austin-ai.org/event/building-bridges-summit/
LOCATION:Embassy Suites Round Rock\, 270 Bass Pro Drive\, Round Rock\, TX\, United States
ATTACH;FMTTYPE=image/webp:https://austin-ai.org/wp-content/uploads/2025/10/SummitRegistration.webp
END:VEVENT
BEGIN:VEVENT
DTSTART;TZID=UTC:20251212T003000
DTEND;TZID=UTC:20251212T030000
DTSTAMP:20260423T151926
CREATED:20251120T215642Z
LAST-MODIFIED:20251211T215938Z
UID:10000553-1765499400-1765508400@austin-ai.org
SUMMARY:Austin AI Community: Christmas Soirée
DESCRIPTION:Get up-to-date information at: https://luma.com/atx-ai-christmas\nAddress:\nCheck event page for more details.\nHosted by Reid McCrabb & 7 others
URL:https://austin-ai.org/event/austin-ai-community-christmas-soiree/
LOCATION:https://luma.com/event/evt-Hy5lCd6w7JSggFn
ORGANIZER;CN="Reid McCrabb":MAILTO:calendar-invite@lu.ma
END:VEVENT
BEGIN:VEVENT
DTSTART;TZID=UTC:20251212T230000
DTEND;TZID=UTC:20251214T220000
DTSTAMP:20260423T151926
CREATED:20251120T215643Z
LAST-MODIFIED:20251211T215939Z
UID:10000554-1765580400-1765749600@austin-ai.org
SUMMARY:NVIDIA DGX Spark Frontier Hackathon
DESCRIPTION:Get up-to-date information at: https://luma.com/aitx-dgx-hackathon\nAddress:\nCheck event page for more details.\nHosted by Michael Daigler & Jake O’Shea
URL:https://austin-ai.org/event/nvidia-dgx-spark-frontier-hackathon/
LOCATION:https://luma.com/event/evt-0SFFpOKaogTzauG
ORGANIZER;CN="Michael Daigler":MAILTO:calendar-invite@lu.ma
END:VEVENT
END:VCALENDAR