BEGIN:VCALENDAR
VERSION:2.0
PRODID:-//Austin AI Alliance - ECPv6.15.20//NONSGML v1.0//EN
CALSCALE:GREGORIAN
METHOD:PUBLISH
X-WR-CALNAME:Austin AI Alliance
X-ORIGINAL-URL:https://austin-ai.org
X-WR-CALDESC:Events for Austin AI Alliance
REFRESH-INTERVAL;VALUE=DURATION:PT1H
X-Robots-Tag:noindex
X-PUBLISHED-TTL:PT1H
BEGIN:VTIMEZONE
TZID:America/Chicago
BEGIN:DAYLIGHT
TZOFFSETFROM:-0600
TZOFFSETTO:-0500
TZNAME:CDT
DTSTART:20240310T080000
END:DAYLIGHT
BEGIN:STANDARD
TZOFFSETFROM:-0500
TZOFFSETTO:-0600
TZNAME:CST
DTSTART:20241103T070000
END:STANDARD
BEGIN:DAYLIGHT
TZOFFSETFROM:-0600
TZOFFSETTO:-0500
TZNAME:CDT
DTSTART:20250309T080000
END:DAYLIGHT
BEGIN:STANDARD
TZOFFSETFROM:-0500
TZOFFSETTO:-0600
TZNAME:CST
DTSTART:20251102T070000
END:STANDARD
BEGIN:DAYLIGHT
TZOFFSETFROM:-0600
TZOFFSETTO:-0500
TZNAME:CDT
DTSTART:20260308T080000
END:DAYLIGHT
BEGIN:STANDARD
TZOFFSETFROM:-0500
TZOFFSETTO:-0600
TZNAME:CST
DTSTART:20261101T070000
END:STANDARD
END:VTIMEZONE
BEGIN:VTIMEZONE
TZID:UTC
BEGIN:STANDARD
TZOFFSETFROM:+0000
TZOFFSETTO:+0000
TZNAME:UTC
DTSTART:20240101T000000
END:STANDARD
END:VTIMEZONE
BEGIN:VEVENT
DTSTART;TZID=America/Chicago:20251202T170000
DTEND;TZID=America/Chicago:20251202T190000
DTSTAMP:20260423T151747
CREATED:20251113T004045Z
LAST-MODIFIED:20251113T004045Z
UID:10000548-1764694800-1764702000@austin-ai.org
SUMMARY:ATX AI Innovators Happy Hour
DESCRIPTION:Hosted by Wishbone Advisory \nEvent Overview \nJoin us for an energizing\, AI Happy Hour designed for marketers\, founders\, ecommerce leaders\, and operators who want to turn AI buzz into real business impact. Enjoy drinks\, great conversation\, and networking with fellow professionals sharing the latest tools sets\, workflows and tips. From LLM optimization (GEO strategies)\, ecom listing optimization\, to leveraging tools to drive more efficient workflows across marketing\, ecommerce\, and operations. \nCome network with Austin’s most curious innovators\, share ideas\, and leave with actionable tactics you can use the next morning. \nAdditional Details \nA limited number of drink tickets will be available on a first-come\, first-served basis at check in.\nThis gathering is designed for operators\, brand leaders\, and professionals actively working in the space. To keep the conversation valuable\, registrations are reviewed and check in is required.
URL:https://austin-ai.org/event/atx-ai-innovators-happy-hour/
LOCATION:Central Machine Works\, 4824 E Cesar Chavez St\, Austin\, TX\, 78722\, United States
ATTACH;FMTTYPE=image/jpeg:https://austin-ai.org/wp-content/uploads/2025/11/IMG_0053.jpeg
ORGANIZER;CN="Wishbone Advisory":MAILTO:taylor@wishboneadvisory.com
END:VEVENT
BEGIN:VEVENT
DTSTART;TZID=America/Chicago:20251202T181500
DTEND;TZID=America/Chicago:20251202T194500
DTSTAMP:20260423T151747
CREATED:20251116T220324Z
LAST-MODIFIED:20251116T220324Z
UID:10000551-1764699300-1764704700@austin-ai.org
SUMMARY:Supercomputing\, Cloud Computing\, and AI Factories: The Importance of Speed AND Scale
DESCRIPTION:Supercomputers—systems designed to achieve extremely high computational performance—have been designed and used to solve the most challenging problems for six decades\, from the earliest Cray supercomputer to today’s “El Capitan” (world’s current top-ranked supercomputer) at Lawrence Livermore National Laboratory. Cloud computing has increased the scale of computing and storage accessible around the globe to support massive throughput of applications and workloads for consumer and enterprise needs\, and increasingly adopting high performance computing technologies into cloud datacenters to address research and industry needs for large-scale simulation\, massive data analytics\, and Ai model training. AI factories are bringing these approaches even together even more tightly\, enabling the development of foundational and frontier AI models used by hundreds of millions of people globally. \nJoin us to learn about the differences\, commonalities\, and convergence of the technologies and approaches\, the current and future applications and challenges\, and other considerations of ultrafast computing at massive scale. Our expert panel will discuss the recent history\, current state and trends\, and expected evolution of massive computing scale and performance\, how it will influence science and society\, and what we need to do to achieve the awesome benefits while addressing the challenges of huge infrastructure requirements and the potential negative uses of the output of these systems. This is sure to be an informative\, inspiring\, and thought-provoking presentation and conversation with computing technology leaders. It will be of value to anyone whose careers and companies depends—directly or indirectly—on the availability\, scale\, and performance of massive computing\, and of interest to anyone who cares about how the applications we use every day—including AI—are enabled. \nThis event is sponsored by Google Cloud and held at Google Austin.
URL:https://austin-ai.org/event/supercomputing-cloud-computing-and-ai-factories-the-importance-of-speed-and-scale/
LOCATION:Google Austin\, Google Austin\, 500 W 2nd St Austin 78701\, Austin\, TX\, 78701\, United States
ATTACH;FMTTYPE=image/jpeg:https://austin-ai.org/wp-content/uploads/2025/11/img-GettyImages-supercomputers.jpg
GEO:30.266077;-97.74956
X-APPLE-STRUCTURED-LOCATION;VALUE=URI;X-ADDRESS=Google Austin Google Austin 500 W 2nd St Austin 78701 Austin TX 78701 United States;X-APPLE-RADIUS=500;X-TITLE=Google Austin\, 500 W 2nd St Austin 78701:geo:-97.74956,30.266077
END:VEVENT
BEGIN:VEVENT
DTSTART;TZID=America/Chicago:20251202T181500
DTEND;TZID=America/Chicago:20251202T194500
DTSTAMP:20260423T151747
CREATED:20251118T174356Z
LAST-MODIFIED:20251202T112730Z
UID:10000544-1764699300-1764704700@austin-ai.org
SUMMARY:Supercomputing\, Cloud Computing\, and AI Factories
DESCRIPTION:Join us in-person on Tuesday\, December 2nd\, at 6:15 p.m. CT\n\n\nThis event is in-person only\, and no walk-ins are permitted. \n**Please arrive by 5:30 p.m. for check-in. \n**You must register by 6:00 PM on Monday\, December 1st to attend this event. \n \nAgenda \n5:30 p.m. Check-in \n6:15-7:30 p.m. Presentation \n7:30-7:45 p.m. Q&A \n​8:00 p.m. Networking \n \nEvent Summary \nSupercomputers—systems designed to achieve extremely high computational performance—have been designed and used to solve the most challenging problems for six decades\, from the earliest Cray supercomputer to today’s “El Capitan” (world’s current top-ranked supercomputer) at Lawrence Livermore National Laboratory. Cloud computing has increased the scale of computing and storage accessible around the globe to support massive throughput of applications and workloads for consumer and enterprise needs\, and increasingly adopting high performance computing technologies into cloud datacenters to address research and industry needs for large-scale simulation\, massive data analytics\, and Ai model training. AI factories are bringing these approaches even together even more tightly\, enabling the development of foundational and frontier AI models used by hundreds of millions of people globally. \nJoin us to learn about the differences\, commonalities\, and convergence of the technologies and approaches\, the current and future applications and challenges\, and other considerations of ultrafast computing at massive scale. Our expert panel will discuss the recent history\, current state and trends\, and expected evolution of massive computing scale and performance\, how it will influence science and society\, and what we need to do to achieve the awesome benefits while addressing the challenges of huge infrastructure requirements and the potential negative uses of the output of these systems. This is sure to be an informative\, inspiring\, and thought-provoking presentation and conversation with computing technology leaders. It will be of value to anyone whose careers and companies depends—directly or indirectly—on the availability\, scale\, and performance of massive computing\, and of interest to anyone who cares about how the applications we use every day—including AI—are enabled. \n \nAttendance Instructions \nIn-person \nCheck-in at 5:30 pm. Please allow ample time to navigate traffic and find parking. You must bring a Government ID. All guests must be registered. Visitors will be checked in via the Eventbrite App in the Google lobby (500 W. 2nd Street). This event will be at capacity. Unregistered guests and walk-ins will not be admitted. \nParking Options \n\nGoogle 500 W Upper Garage: paid garage parking; Entrance on San Antonio St.\nPaid Hourly Street Parking\nAustin City Hall: paid garage parking; Entrance is on the Guadalupe St. side.\nAustin Public Library: paid garage parking; Entrance on West Avenue.\n\n \nThis event is sponsored by Google Cloud and held at Google Austin.
URL:https://austin-ai.org/event/supercomputing-cloud-computing-and-ai-factories/
LOCATION:Google Austin – West 2nd Street\, 500 West 2nd Street\, Austin\, TX\, 78701\, United States
ATTACH;FMTTYPE=image/jpeg:https://austin-ai.org/wp-content/uploads/2025/11/3932f53398e654e128ae73810ac68a82.jpg
END:VEVENT
BEGIN:VEVENT
DTSTART;TZID=UTC:20251202T233000
DTEND;TZID=UTC:20251203T010000
DTSTAMP:20260423T151747
CREATED:20251030T214028Z
LAST-MODIFIED:20251127T215427Z
UID:10000541-1764718200-1764723600@austin-ai.org
SUMMARY:Houston AITX Monthly Meetup
DESCRIPTION:Get up-to-date information at: https://luma.com/2ptz52v2  Address: 1023 Studewood St suite 200 Houston\, Texas United States  Hosted by Michael Daigler & Samir Rahi
URL:https://austin-ai.org/event/houston-aitx-monthly-meetup-3/
LOCATION:1023 Studewood St suite 200\, Houston\, TX\, United States
ORGANIZER;CN="Michael Daigler":MAILTO:calendar-invite@lu.ma
GEO:29.798249;-95.416933
END:VEVENT
END:VCALENDAR