BEGIN:VCALENDAR
VERSION:2.0
PRODID:-//Austin AI Alliance - ECPv6.15.20//NONSGML v1.0//EN
CALSCALE:GREGORIAN
METHOD:PUBLISH
X-WR-CALNAME:Austin AI Alliance
X-ORIGINAL-URL:https://austin-ai.org
X-WR-CALDESC:Events for Austin AI Alliance
REFRESH-INTERVAL;VALUE=DURATION:PT1H
X-Robots-Tag:noindex
X-PUBLISHED-TTL:PT1H
BEGIN:VTIMEZONE
TZID:UTC
BEGIN:STANDARD
TZOFFSETFROM:+0000
TZOFFSETTO:+0000
TZNAME:UTC
DTSTART:20240101T000000
END:STANDARD
END:VTIMEZONE
BEGIN:VEVENT
DTSTART;TZID=UTC:20251117T220000
DTEND;TZID=UTC:20251118T000000
DTSTAMP:20260423T171516
CREATED:20251106T214234Z
LAST-MODIFIED:20251113T215632Z
UID:10000542-1763416800-1763424000@austin-ai.org
SUMMARY:Hack AI
DESCRIPTION:Get up-to-date information at: https://luma.com/ke0tvcz7  Address: Capital Factory First Floor\, Voltron Room Austin\, Texas United States  Hosted by Reid McCrabb & 3 others
URL:https://austin-ai.org/event/hack-ai-3/
LOCATION:Capital Factory\, 701 Brazos Street\, Floor 8th\, Austin\, TX\, 78701\, United States
ORGANIZER;CN="Reid McCrabb":MAILTO:calendar-invite@lu.ma
GEO:30.268603;-97.741109
X-APPLE-STRUCTURED-LOCATION;VALUE=URI;X-ADDRESS=Capital Factory 701 Brazos Street Floor 8th Austin TX 78701 United States;X-APPLE-RADIUS=500;X-TITLE=701 Brazos Street\, Floor 8th:geo:-97.741109,30.268603
END:VEVENT
END:VCALENDAR