BEGIN:VCALENDAR
VERSION:2.0
PRODID:-//Austin AI Alliance - ECPv6.15.20//NONSGML v1.0//EN
CALSCALE:GREGORIAN
METHOD:PUBLISH
X-WR-CALNAME:Austin AI Alliance
X-ORIGINAL-URL:https://austin-ai.org
X-WR-CALDESC:Events for Austin AI Alliance
REFRESH-INTERVAL;VALUE=DURATION:PT1H
X-Robots-Tag:noindex
X-PUBLISHED-TTL:PT1H
BEGIN:VTIMEZONE
TZID:America/Chicago
BEGIN:DAYLIGHT
TZOFFSETFROM:-0600
TZOFFSETTO:-0500
TZNAME:CDT
DTSTART:20240310T080000
END:DAYLIGHT
BEGIN:STANDARD
TZOFFSETFROM:-0500
TZOFFSETTO:-0600
TZNAME:CST
DTSTART:20241103T070000
END:STANDARD
BEGIN:DAYLIGHT
TZOFFSETFROM:-0600
TZOFFSETTO:-0500
TZNAME:CDT
DTSTART:20250309T080000
END:DAYLIGHT
BEGIN:STANDARD
TZOFFSETFROM:-0500
TZOFFSETTO:-0600
TZNAME:CST
DTSTART:20251102T070000
END:STANDARD
BEGIN:DAYLIGHT
TZOFFSETFROM:-0600
TZOFFSETTO:-0500
TZNAME:CDT
DTSTART:20260308T080000
END:DAYLIGHT
BEGIN:STANDARD
TZOFFSETFROM:-0500
TZOFFSETTO:-0600
TZNAME:CST
DTSTART:20261101T070000
END:STANDARD
END:VTIMEZONE
BEGIN:VEVENT
DTSTART;TZID=America/Chicago:20251022T200000
DTEND;TZID=America/Chicago:20251022T211500
DTSTAMP:20260423T185909
CREATED:20250924T155559Z
LAST-MODIFIED:20251022T212555Z
UID:10000126-1761163200-1761167700@austin-ai.org
SUMMARY:Discussion of “Not the End of the World” by Hannah Richie
DESCRIPTION:Join us for an online discussion on October 22nd!\n\n\nLet’s Discuss: Data-Driven Optimism for Our Planet \nFeeling overwhelmed by environmental headlines? You’re not alone\, but what if the data tells a more hopeful story? Let’s discuss how data can give us some optimism for our planet! \nJoin the Austin Forum for an online book discussion of Hannah Ritchie’s “Not the End of the World: How We Can Be the First Generation to Build a Sustainable Planet.” This groundbreaking book uses hard data to challenge the prevailing narrative of doom. Ritchie\, a researcher at Our World in Data\, argues that while our environmental problems are serious\, they are also solvable. We’ll discuss the book’s surprising insights on everything from carbon emissions and plastic waste to food systems and biodiversity\, and explore its central message: we have made real progress\, and we have the tools to build a sustainable future. \nTo get the most out of the conversation\, we encourage you to read the book or a summary before the event. However\, all are welcome to join\, listen\, and share their perspective\, regardless of whether you’ve finished the book. \nCome ready to discuss\, question\, and explore a pragmatic and empowering path forward for our planet. 🌍💡 \n \nAttendance Instructions \nThe discussion will be held online via Google Meet. Please register to receive the meet link! \nSpace is limited\, so please register only if you’re confident you can attend—and kindly cancel your registration if your plans change so we can open your spot to another participant.
URL:https://austin-ai.org/event/discussion-of-not-the-end-of-the-world-by-hannah-richie/
LOCATION:TX
ATTACH;FMTTYPE=image/jpeg:https://austin-ai.org/wp-content/uploads/2025/09/b760ad6550d88a7c036da426d789d192.jpg
END:VEVENT
END:VCALENDAR