BEGIN:VCALENDAR
VERSION:2.0
PRODID:-//Austin AI Alliance - ECPv6.15.20//NONSGML v1.0//EN
CALSCALE:GREGORIAN
METHOD:PUBLISH
X-ORIGINAL-URL:https://austin-ai.org
X-WR-CALDESC:Events for Austin AI Alliance
REFRESH-INTERVAL;VALUE=DURATION:PT1H
X-Robots-Tag:noindex
X-PUBLISHED-TTL:PT1H
BEGIN:VTIMEZONE
TZID:-05:00
END:VTIMEZONE
BEGIN:VEVENT
DTSTART;TZID=-05:00:20251021T123000
DTEND;TZID=-05:00:20251021T153000
DTSTAMP:20260423T185921
CREATED:20250918T191927Z
LAST-MODIFIED:20250918T201651Z
UID:10000088-1761049800-1761060600@austin-ai.org
SUMMARY:Google AI bootcamp (Austin) - The Agentverse with Google Cloud
DESCRIPTION:**Important:** Register on [AICamp event website](https://www.aicamp.ai/event/eventdetails/W2025102111)[ ](https://www.aicamp.ai/event/eventdetails/W2025082611)is required for admission. (RSVP on meetup is turned off) \n**Description:**\nJoin Google Cloud Labs for an immersive\, hands on workshop unlocking the enterprise agentverse—a playbook for taking AI from vibe to full-scale operation. \nWelcome to the Agentverse\, the new enterprise ecosystem where intelligent agents collaborate to drive business outcomes. But how do you build and govern this new world? How do you transform the creative “vibe” of AI development into the robust\, secure\, and scalable systems your organization demands? \nThis workshop is the definitive enterprise playbook for mastering the agentic future on Google Cloud. We provide an end-to-end roadmap that guides you from the first vibe of an idea to a full-scale\, operational reality. You will learn how the roles of developer\, architect\, data engineer\, and SRE converge to create\, manage\, and scale a thriving Agentverse. \nGet ready to press start! This isn’t a typical lecture; it’s a hands-on\, gamified mission into the Agentverse. You’ll choose your role\, make critical decisions\, and build your way through a series of challenges. You’ll leave not with notes\, but with a playbook of skills you earned yourself. \nWhat You Will Learn: \n* Master Controlled “Vibe Coding”: Go from intuitive prompts to reliable enterprise components by mastering the Model Context Protocol (MCP)\, ensuring your agents act with precision and predictability.\n* Architect Your Agentverse: Design resilient\, multi-agent systems using proven patterns and Agent-to-Agent (A2A) communication. Build the foundational blueprint for collaboration and scale.\n* Power Your Agents with a Knowledge Core: Establish BigQuery as the central\, governed knowledge source for your Agentverse. Implement advanced Retrieval-Augmented Generation (RAG) to fuel your agents with secure\, relevant data.\n* Implement Bulletproof AgentOps: Define the DevOps practices for a new era. Learn to secure\, deploy\, and maintain observability across your entire agentic ecosystem\, ensuring mission-critical performance. \n**Agenda** \n* 12:30PM – 1:30PM: Check-in & Networking\n* 1:30PM – 2:15PM: Kick-Off & Intro Presentation\n* 2:15PM – 3:15PM: Hands-On Lab (Part 1)\n* 3:15PM – 3:30PM: Break\n* 3:30PM – 4:45PM: Hands-On Lab (Part 2)\n* 4:45PM – 5:00PM: Closing Remarks\n* 5:00PM – 6:00PM: Q&A and Networking \n**Local and Global AI Community on Discord**\n[Join us](https://discord.gg/2DySXfHTFX) on discord for local and global AI tech community: \n* Events chat: chat and connect with speakers and global and local attendees;\n* Learning AI: events\, learning materials\, study groups;\n* Startups: innovation\, projects collaborations\, founders/co-founders;\n* Jobs and Careers: job openings\, post resumes\, hiring managers.
URL:https://austin-ai.org/event/google-ai-bootcamp-austin-the-agentverse-with-google-cloud/
LOCATION:Google Austin\, Google Austin\, 500 W 2nd St Austin 78701\, Austin\, TX\, 78701\, United States
ATTACH;FMTTYPE=image/jpeg:https://austin-ai.org/wp-content/uploads/2025/09/1024x576-qzXXPC.jpg
GEO:30.266077;-97.74956
X-APPLE-STRUCTURED-LOCATION;VALUE=URI;X-ADDRESS=Google Austin Google Austin 500 W 2nd St Austin 78701 Austin TX 78701 United States;X-APPLE-RADIUS=500;X-TITLE=Google Austin\, 500 W 2nd St Austin 78701:geo:-97.74956,30.266077
END:VEVENT
BEGIN:VEVENT
DTSTART;TZID=-05:00:20251021T190000
DTEND;TZID=-05:00:20251021T210000
DTSTAMP:20260423T185921
CREATED:20250918T192329Z
LAST-MODIFIED:20250918T192329Z
UID:10000091-1761073200-1761080400@austin-ai.org
SUMMARY:An Evening of Python Coding
DESCRIPTION:• What we’ll do\nLearners and complete Python novices are welcome as well as experts. If you want to start something new\, please see this as an opportunity to jump start the project. If you need help with an existing coding project\, bring it with you and we will have a look at it. If you want to show your complete code to someone else to test it\, or if you just want to consult with python experts you are welcome. \nThe format will be different than regular since this joins the Austin and DC python communities: \n6:30 CST = 7:30 EST we will start the meeting. Join the meetup to view the link.\nThis link may change\, so please check this link again before the meeting. \n7 CST = 8 EST: Announcement + Demo \nAround 7:30 CST = 8:30 EST continue discussions or break into smaller groups. \nAlthough this online meeting is different\, for those new to this meetup\, please check out previous meetups we had to get an idea of what to expect. Here is a link to previous meetups:\nhttps://github.com/Jacob-Barhak/EveningOfPythonCoding \nYou will find there demo code and the folk who presented them. Feel free to clone and star demos that were useful to you. \n• Important to know\nOur focus for this month will be: simli-client-py\nhttps://github.com/simliai/simli-client-py
URL:https://austin-ai.org/event/an-evening-of-python-coding/
LOCATION:Online event
ATTACH;FMTTYPE=image/jpeg:https://austin-ai.org/wp-content/uploads/2025/09/1024x576-R851zy.jpg
GEO:-8.521147;179.1962
END:VEVENT
END:VCALENDAR