BEGIN:VCALENDAR
VERSION:2.0
PRODID:-//Austin AI Alliance - ECPv6.15.20//NONSGML v1.0//EN
CALSCALE:GREGORIAN
METHOD:PUBLISH
X-ORIGINAL-URL:https://austin-ai.org
X-WR-CALDESC:Events for Austin AI Alliance
REFRESH-INTERVAL;VALUE=DURATION:PT1H
X-Robots-Tag:noindex
X-PUBLISHED-TTL:PT1H
BEGIN:VTIMEZONE
TZID:America/Chicago
BEGIN:DAYLIGHT
TZOFFSETFROM:-0600
TZOFFSETTO:-0500
TZNAME:CDT
DTSTART:20240310T080000
END:DAYLIGHT
BEGIN:STANDARD
TZOFFSETFROM:-0500
TZOFFSETTO:-0600
TZNAME:CST
DTSTART:20241103T070000
END:STANDARD
BEGIN:DAYLIGHT
TZOFFSETFROM:-0600
TZOFFSETTO:-0500
TZNAME:CDT
DTSTART:20250309T080000
END:DAYLIGHT
BEGIN:STANDARD
TZOFFSETFROM:-0500
TZOFFSETTO:-0600
TZNAME:CST
DTSTART:20251102T070000
END:STANDARD
BEGIN:DAYLIGHT
TZOFFSETFROM:-0600
TZOFFSETTO:-0500
TZNAME:CDT
DTSTART:20260308T080000
END:DAYLIGHT
BEGIN:STANDARD
TZOFFSETFROM:-0500
TZOFFSETTO:-0600
TZNAME:CST
DTSTART:20261101T070000
END:STANDARD
END:VTIMEZONE
BEGIN:VTIMEZONE
TZID:UTC
BEGIN:STANDARD
TZOFFSETFROM:+0000
TZOFFSETTO:+0000
TZNAME:UTC
DTSTART:20240101T000000
END:STANDARD
END:VTIMEZONE
BEGIN:VEVENT
DTSTART;TZID=America/Chicago:20251016T160000
DTEND;TZID=America/Chicago:20251016T210000
DTSTAMP:20260423T190009
CREATED:20251007T181641Z
LAST-MODIFIED:20251007T181641Z
UID:10000141-1760630400-1760648400@austin-ai.org
SUMMARY:Rev Up Your Workflow: AI Agent Hackathon with Airia
DESCRIPTION:Join Airia for an evening of high-speed exploration and building of autonomous AI agents – where innovation meets the fast lane! \n​This hackathon is designed for AI developers\, industry experts\, and professionals eager to explore how AI agents can streamline workflows and boost productivity. Our intuitive\, no-code platform makes it easy for anyone to build and deploy custom AI solutions. We’ll provide a race-inspired theme and plenty of assistance from AI experts to build and deploy your winning agent. Attendees should have a moderate understanding of AI workflows\, API/integration\, and prompt engineering.  \n​Thursday\, October 16\, 2025 📅   \n​🚪 4 PM: Doors Open \n​👋 4:30 PM: Introductions \n​💻 4:45 PM: Airia Demo \n​👥 5:25 PM: Team Formation and Agent Theme \n​⚡ 5:30 PM: Hackathon – Build your agent! (2+ hours)  \n​🎤 7:45 PM: Agent Presentations and Judging \n​🏆 8:30 PM: Awards Ceremony \n​Space is limited to 50 attendees. Dinner and snacks will be provided.  \n​PRIZES:\n🥇1st place: $1\,000 USD\n🥈2nd place: $500 USD\n🥉3rd place: $250 USD  \nAll attendees who contribute an agent to the Airia community will receive access to a Professional Airia license for one year and $250 USD in token credits. All attendees who upload a YouTube video demonstrating their agent will receive a $250 gift card. \n​Who Should Attend: \n​Developers & Senior Engineers – Bring your technical expertise to life.  \n​Product Managers – Shape Al solutions that meet real market needs.  \n​Al Enthusiasts – Learn from the best and contribute to your passion.  \n​Ready to shift into high gear? Register now and prepare to unleash AI agents that perform at a championship level!  \n​Airia:\n​Airia is the enterprise AI security and orchestration platform that enables organizations to deploy AI quickly\, safely\, and at scale. Built for even the most complex and regulated environments\, Airia reduces vulnerabilities in agentic ecosystems and streamlines workflows across agents\, models\, and an organization’s applications and data sources. Airia removes the complexity and anxiety that often accompany AI adoption\, allowing enterprises to operationalize AI with trust\, control\, and measurable impact. Today\, hundreds of organizations around the world are transforming the way they work with Airia. \n​Learn more at airia.com.
URL:https://austin-ai.org/event/rev-up-your-workflow-ai-agent-hackathon-with-airia/
LOCATION:Capital Factory 8th Floor Captain America\, 701 Brazos Street\, Austin\, TX\, 78701\, United States
ATTACH;FMTTYPE=image/png:https://austin-ai.org/wp-content/uploads/2025/10/Austin-Banner.png
ORGANIZER;CN="Airia":MAILTO:rebeccagreenhalgh@airia.com
END:VEVENT
BEGIN:VEVENT
DTSTART;TZID=America/Chicago:20251016T190000
DTEND;TZID=America/Chicago:20251016T210000
DTSTAMP:20260423T190009
CREATED:20250924T155537Z
LAST-MODIFIED:20251016T162355Z
UID:10000125-1760641200-1760648400@austin-ai.org
SUMMARY:Quantum ATX: Connect & Explore
DESCRIPTION:Join us for an in-person meetup on Thursday\, October 16 at Remedy Bar!\n\n\nQuantum computing is one of the most exciting frontiers in technology\, and Austin’s scene is buzzing with potential. This is a networking and discussion meetup for everyone interested in the field—with many seasoned experts from leading quantum companies\, and open to people with experience in quantum computing\, other computing professionals\, and anyone interested in learning more about quantum computing. \nCome join fellow quantum professionals and enthusiasts to: \n\nShare information on the latest breakthroughs and projects.\nDiscuss possibilities\, from big challenges to new opportunities.\nMake connections with others in Austin’s growing quantum community.\nDiscuss whether Austin can become a quantum center of excellence and what it would require.\n\nThis is a great chance to learn\, network\, and talk about what we can do to help grow the quantum ecosystem right here in Austin. A full list of quantum computing professionals will be added to this page as confirmations come in. \n \nAttendance Instructions\nAll participants must register for this event via Eventbrite. This will be an in-person event held at Remedy Bar. Paid street parking is available
URL:https://austin-ai.org/event/quantum-atx-connect-explore/
LOCATION:Remedy\, 360 Nueces St\, STE 30\, Austin\, TX\, 78701\, United States
ATTACH;FMTTYPE=image/jpeg:https://austin-ai.org/wp-content/uploads/2025/09/3ad7905121719d518e13fa886731a78f.jpg
END:VEVENT
BEGIN:VEVENT
DTSTART;TZID=UTC:20251016T230000
DTEND;TZID=UTC:20251017T010000
DTSTAMP:20260423T190009
CREATED:20250925T211745Z
LAST-MODIFIED:20251016T212558Z
UID:10000130-1760655600-1760662800@austin-ai.org
SUMMARY:Hack AI
DESCRIPTION:Get up-to-date information at: https://luma.com/grq1uhyu  Address: Capital Factory First Floor\, Voltron Room Austin\, Texas United States  Hosted by Reid McCrabb & 3 others
URL:https://austin-ai.org/event/hack-ai-2/
LOCATION:Capital Factory\, 701 Brazos Street\, Floor 8th\, Austin\, TX\, 78701\, United States
ORGANIZER;CN="Reid McCrabb":MAILTO:calendar-invite@lu.ma
GEO:30.268603;-97.741109
X-APPLE-STRUCTURED-LOCATION;VALUE=URI;X-ADDRESS=Capital Factory 701 Brazos Street Floor 8th Austin TX 78701 United States;X-APPLE-RADIUS=500;X-TITLE=701 Brazos Street\, Floor 8th:geo:-97.741109,30.268603
END:VEVENT
END:VCALENDAR