BEGIN:VCALENDAR
VERSION:2.0
PRODID:-//Austin AI Alliance - ECPv6.15.20//NONSGML v1.0//EN
CALSCALE:GREGORIAN
METHOD:PUBLISH
X-ORIGINAL-URL:https://austin-ai.org
X-WR-CALDESC:Events for Austin AI Alliance
REFRESH-INTERVAL;VALUE=DURATION:PT1H
X-Robots-Tag:noindex
X-PUBLISHED-TTL:PT1H
BEGIN:VTIMEZONE
TZID:-05:00
END:VTIMEZONE
BEGIN:VEVENT
DTSTART;TZID=-05:00:20251007T190000
DTEND;TZID=-05:00:20251007T210000
DTSTAMP:20260423T185918
CREATED:20250918T192505Z
LAST-MODIFIED:20250918T192621Z
UID:10000116-1759863600-1759870800@austin-ai.org
SUMMARY:TBD
DESCRIPTION:**This will be a journal club event**\nTwo Talks:\n1.\n2. \n**Speakers**\nTBD \n**Abstract** \n**Info**\nAustin Deep Learning Journal Club is group for committed machine learning practitioners and researchers alike. The group typically meets every first Tuesday of each month to discuss research publications. The publications are usually the ones that laid foundation to ML/DL or explore novel promising ideas and are selected by a vote. Participants are expected to read the publications to be able to contribute to discussion and learn from others. This is also a great opportunity to showcase your implementations to get feedback from other experts. \n**Sponsors:**\nThank you to [Capital Factory](https://www.capitalfactory.com/) for sponsoring Austin Deep Learning. Capital Factory is the center of gravity for entrepreneurs in Texas. They meet the best entrepreneurs in Texas and introduce them to their first investors\,\nemployees\, mentors\, and customers. To sign up for a Capital Factory\nmembership\, [click here](https://www.capitalfactory.com/memberships/). \n[Antler](https://www.antler.co/): Meet your co-founders\, join our global community\, and access capital to build and scale your company faster.
URL:https://austin-ai.org/event/tbd/
LOCATION:Capital Factory\, Voltron Room (1st floor)\, 701 Brazos Street\, Austin\, TX\, United States
ATTACH;FMTTYPE=image/jpeg:https://austin-ai.org/wp-content/uploads/2025/09/1024x576-xGuNjY.jpg
GEO:30.268875;-97.740562
X-APPLE-STRUCTURED-LOCATION;VALUE=URI;X-ADDRESS=Capital Factory Voltron Room (1st floor) 701 Brazos Street Austin TX United States;X-APPLE-RADIUS=500;X-TITLE=701 Brazos Street:geo:-97.740562,30.268875
END:VEVENT
END:VCALENDAR