BEGIN:VCALENDAR
VERSION:2.0
PRODID:-//Austin AI Alliance - ECPv6.15.20//NONSGML v1.0//EN
CALSCALE:GREGORIAN
METHOD:PUBLISH
X-WR-CALNAME:Austin AI Alliance
X-ORIGINAL-URL:https://austin-ai.org
X-WR-CALDESC:Events for Austin AI Alliance
REFRESH-INTERVAL;VALUE=DURATION:PT1H
X-Robots-Tag:noindex
X-PUBLISHED-TTL:PT1H
BEGIN:VTIMEZONE
TZID:America/Chicago
BEGIN:DAYLIGHT
TZOFFSETFROM:-0600
TZOFFSETTO:-0500
TZNAME:CDT
DTSTART:20240310T080000
END:DAYLIGHT
BEGIN:STANDARD
TZOFFSETFROM:-0500
TZOFFSETTO:-0600
TZNAME:CST
DTSTART:20241103T070000
END:STANDARD
BEGIN:DAYLIGHT
TZOFFSETFROM:-0600
TZOFFSETTO:-0500
TZNAME:CDT
DTSTART:20250309T080000
END:DAYLIGHT
BEGIN:STANDARD
TZOFFSETFROM:-0500
TZOFFSETTO:-0600
TZNAME:CST
DTSTART:20251102T070000
END:STANDARD
BEGIN:DAYLIGHT
TZOFFSETFROM:-0600
TZOFFSETTO:-0500
TZNAME:CDT
DTSTART:20260308T080000
END:DAYLIGHT
BEGIN:STANDARD
TZOFFSETFROM:-0500
TZOFFSETTO:-0600
TZNAME:CST
DTSTART:20261101T070000
END:STANDARD
END:VTIMEZONE
BEGIN:VTIMEZONE
TZID:-05:00
END:VTIMEZONE
BEGIN:VTIMEZONE
TZID:UTC
BEGIN:STANDARD
TZOFFSETFROM:+0000
TZOFFSETTO:+0000
TZNAME:UTC
DTSTART:20240101T000000
END:STANDARD
END:VTIMEZONE
BEGIN:VEVENT
DTSTART;TZID=America/Chicago:20250925T083000
DTEND;TZID=America/Chicago:20250925T180000
DTSTAMP:20260423T205518
CREATED:20250707T173400Z
LAST-MODIFIED:20250707T173400Z
UID:10000037-1758789000-1758823200@austin-ai.org
SUMMARY:The Emerging Technology and Generative AI Forum
DESCRIPTION:Examining Technological Promise within Professional Services \n\nThursday September 25\, 2025 | 8:30AM – 6:00PM \n\n\nThe Emerging Technology and Generative AI Forum is a must for forward-thinking professionals in the professional services industry. This cutting-edge conference will explore the latest advancements in generative AI and their potential to revolutionize legal and tax practices. Attendees will gain invaluable insights into emerging technological trends and software. Industry experts will showcase how generative AI is enhancing efficiency\, accuracy\, and decision-making\, including sessions on crucial topics like ethical considerations\, data privacy\, and the integration of AI technologies into existing workflows. \nAttendees will position themselves at the forefront of technological innovation\, ensuring they remain competitive in an evolving landscape. Don’t miss this opportunity to network with peers\, engage with thought leaders\, and discover how emerging technology and generative AI can transform your practice and deliver enhanced value to clients.
URL:https://austin-ai.org/event/the-emerging-technology-and-generative-ai-forum/
LOCATION:TX
ATTACH;FMTTYPE=image/png:https://austin-ai.org/wp-content/uploads/2025/07/Screenshot-2025-07-07-at-12.26.42 PM.png
ORGANIZER;CN="Thompson Reuters":MAILTO:TRIsales@thomsonreuters.com
END:VEVENT
BEGIN:VEVENT
DTSTART;TZID=America/Chicago:20250925T120000
DTEND;TZID=America/Chicago:20250925T130000
DTSTAMP:20260423T205518
CREATED:20250922T155344Z
LAST-MODIFIED:20250922T155344Z
UID:10000122-1758801600-1758805200@austin-ai.org
SUMMARY:Stuck on AI? A Practical Roadmap for Your Business
DESCRIPTION:You know AI can transform your business\, but the biggest question is: where do you start? How do you move past the hype and find the specific areas where AI will deliver the highest return on investment?\nYou’ve invested in software\, but your teams are still bogged down by manual reports\, chaotic invoicing\, and leaky sales funnels. This gap—between the tools you have and the efficiency you need—is the perfect place to deploy AI. \nImagine hiring a perfect\, tireless junior employee/an intern/an assistant for every repetitive task in your business. This isn’t science fiction. (According to CEO Marc Benioff\, Salesforce is on track to deploy one billion generative AI agents across its customer base by the end of 2025) \n“…just like every business has an email address\, phone\, website and a social media account\, I think\, in the future\, every business is going to have an AI” Mark Zuckerberg. He is talking about AI Agents \nThis isn’t a theoretical lecture on ChatGPT. It’s a hands-on workshop for business owners who need a clear roadmap. We’ll give you a new playbook that uses AI to get a 5X impact\, without adding to your headcount.\nLed by Bridge.Digital’s Ievgen Gartman (CEO) and Sandeep Dhall (CGO)\, we’re going to show you how a single Custom AI “Digital Employee” can become the most productive\, highest-ROI ‘hire’ you’ll ever make. We’ll help you identify where to start so you can scale your output\, not your headcount.\nYou will walk away with: \nThe High-Impact AI Checklist: A simple framework to instantly identify the top 5 areas in your business where AI can plug profit leaks.\nThe 5X Implementation Blueprint: The exact strategy to deploy AI for maximum impact\, targeting the grunt work that slows your team down.\nA Clear Action Plan: Understand how to double your team’s effective output and achieve a massive impact on your bottom line.\n*** \nAgenda: What to Expect\nWe focus on action\, not theory. \nPinpointing Your Top AI Opportunities: We’ll break down the most common operational holes and show you exactly where a Digital Employee can fix them.\nBuilding Your Action Plan & Next Steps: Leave with a clear plan for your first AI implementation.\n*** \nWhat You Need to Bring \nYour #1 Bottleneck: Come with the single biggest operational headache or time-wasting task in your business clearly in mind.\nA Notebook & Pen: You’re going to want to write this down.\nAn Owner’s Mindset: Be ready to solve problems\, not just talk about them.
URL:https://austin-ai.org/event/stuck-on-ai-a-practical-roadmap-for-your-business/
LOCATION:Online event
ATTACH;FMTTYPE=image/png:https://austin-ai.org/wp-content/uploads/2025/09/Meetup-group-Stuck-on-AI-A-Practical-Roadmap-for-Your-Business-1.png
GEO:-8.521147;179.1962
END:VEVENT
BEGIN:VEVENT
DTSTART;TZID=-05:00:20250925T183000
DTEND;TZID=-05:00:20250925T203000
DTSTAMP:20260423T205518
CREATED:20250918T192102Z
LAST-MODIFIED:20250918T192102Z
UID:10000089-1758825000-1758832200@austin-ai.org
SUMMARY:Austin Low-Key Data Meetup - September 2025
DESCRIPTION:Looking to meet other data people in the Austin area? Whether you’re a data engineer\, a data analyst\, a data scientist\, or something in-between… you’ve found the right event. \nEvery last Thursday of the month\, we try to host events to get together the brightest minds in data. \nNo agenda\, no sponsor\, no cost. Just show up\, buy your own drinks and hang out with other people in the industry. Be prepared to share stories and laughs. \nWhile the event states it’s only for 1.5 hours\, people typically stay much later to continue chatting. \nHere’s why we chose Brewtorium:\n– Central Austin\n– There is overflow parking\n– There’s a lot of indoor seating \nLooking forward to seeing some new and familiar faces! \nThough we do love our recruiter friends\, we want to keep this a low pressure light hearted space for data people to interact and enjoy one another’s company. \nCan’t make the event? Please make sure to update your RSVP so we can get a good headcount!
URL:https://austin-ai.org/event/austin-low-key-data-meetup-september-2025/
LOCATION:The Brewtorium Brewery & Kitchen\, 6015 Dillard Cir A\, Austin\, TX\, 78752\, United States
ATTACH;FMTTYPE=image/jpeg:https://austin-ai.org/wp-content/uploads/2025/09/1024x576-vfCMN2.jpg
GEO:30.325918;-97.71683
X-APPLE-STRUCTURED-LOCATION;VALUE=URI;X-ADDRESS=The Brewtorium Brewery & Kitchen 6015 Dillard Cir A Austin TX 78752 United States;X-APPLE-RADIUS=500;X-TITLE=6015 Dillard Cir A:geo:-97.71683,30.325918
END:VEVENT
BEGIN:VEVENT
DTSTART;TZID=America/Chicago:20250925T191500
DTEND;TZID=America/Chicago:20250925T203000
DTSTAMP:20260423T205518
CREATED:20250924T155421Z
LAST-MODIFIED:20250924T155421Z
UID:10000123-1758827700-1758832200@austin-ai.org
SUMMARY:Discussion of “Code: The Hidden Language of Computer Hardware and Software"
DESCRIPTION:Join us for an online discussion on September 25th!\n\n\nAbout the Book \n“Code” is a modern classic that brilliantly demystifies computers. Author Charles Petzold takes us on a journey starting with familiar concepts like Morse code and simple electrical circuits. Step by step\, he builds upon these ideas to show how simple on/off signals—bits and bytes—combine to create the complex logic that powers our digital world. \nYou’ll see how basic components like logic gates are the building blocks for everything from calculators to the computer on your desk. The book masterfully explains how these physical components give rise to the software we use every day. \nWhy Join Our Discussion? 🤔 \nThis isn’t just a book report; it’s a collaborative exploration! We’ll discuss the ingenious concepts from the book\, share our “aha!” moments\, and tackle any tricky parts together. \nWhether you’re a seasoned developer or have never written a line of code\, this book has something for you. We’ll talk about how Petzold makes abstract ideas tangible and how fundamental logic\, like a simple AND operation (represented as A⋅B)\, scales up to create incredible complexity. \nNo worries if you haven’t finished the book! Your curiosity is all you need to bring. \nWho Should Attend? \n\nAspiring programmers who want to understand the machine’s foundation.\nExperienced tech professionals looking for a fun refresher on core principles.\nStudents and hobbyists fascinated by technology.\nAnyone who has ever wondered\, “How do computers actually work?”\n\n\nAttendance Instructions \nThe discussion will be held online via Google Meet. Please register to receive the meet link! \nSpace is limited\, so please register only if you’re confident you can attend—and kindly cancel your registration if your plans change so we can open your spot to another participant.
URL:https://austin-ai.org/event/discussion-of-code-the-hidden-language-of-computer-hardware-and-software/
LOCATION:TX
ATTACH;FMTTYPE=image/jpeg:https://austin-ai.org/wp-content/uploads/2025/09/6e1e8936a2117df0f49411a006684bfb.jpg
END:VEVENT
BEGIN:VEVENT
DTSTART;TZID=UTC:20250925T230000
DTEND;TZID=UTC:20250926T003000
DTSTAMP:20260423T205518
CREATED:20250918T211736Z
LAST-MODIFIED:20250925T211744Z
UID:10000121-1758841200-1758846600@austin-ai.org
SUMMARY:Houston AITX Monthly Meetup
DESCRIPTION:Get up-to-date information at: https://luma.com/s8066gas  Address: 1023 Studewood St suite 200 Houston\, Texas United States  Hosted by Michael Daigler
URL:https://austin-ai.org/event/houston-aitx-monthly-meetup/
LOCATION:1023 Studewood St suite 200\, Houston\, TX\, United States
ORGANIZER;CN="Michael Daigler":MAILTO:calendar-invite@lu.ma
GEO:29.798249;-95.416933
END:VEVENT
END:VCALENDAR