BEGIN:VCALENDAR
VERSION:2.0
PRODID:-//Austin AI Alliance - ECPv6.15.20//NONSGML v1.0//EN
CALSCALE:GREGORIAN
METHOD:PUBLISH
X-WR-CALNAME:Austin AI Alliance
X-ORIGINAL-URL:https://austin-ai.org
X-WR-CALDESC:Events for Austin AI Alliance
REFRESH-INTERVAL;VALUE=DURATION:PT1H
X-Robots-Tag:noindex
X-PUBLISHED-TTL:PT1H
BEGIN:VTIMEZONE
TZID:America/Chicago
BEGIN:DAYLIGHT
TZOFFSETFROM:-0600
TZOFFSETTO:-0500
TZNAME:CDT
DTSTART:20240310T080000
END:DAYLIGHT
BEGIN:STANDARD
TZOFFSETFROM:-0500
TZOFFSETTO:-0600
TZNAME:CST
DTSTART:20241103T070000
END:STANDARD
BEGIN:DAYLIGHT
TZOFFSETFROM:-0600
TZOFFSETTO:-0500
TZNAME:CDT
DTSTART:20250309T080000
END:DAYLIGHT
BEGIN:STANDARD
TZOFFSETFROM:-0500
TZOFFSETTO:-0600
TZNAME:CST
DTSTART:20251102T070000
END:STANDARD
BEGIN:DAYLIGHT
TZOFFSETFROM:-0600
TZOFFSETTO:-0500
TZNAME:CDT
DTSTART:20260308T080000
END:DAYLIGHT
BEGIN:STANDARD
TZOFFSETFROM:-0500
TZOFFSETTO:-0600
TZNAME:CST
DTSTART:20261101T070000
END:STANDARD
END:VTIMEZONE
BEGIN:VEVENT
DTSTART;TZID=America/Chicago:20250917T170000
DTEND;TZID=America/Chicago:20250917T190000
DTSTAMP:20260423T205511
CREATED:20250727T191921Z
LAST-MODIFIED:20250917T194620Z
UID:10000051-1758128400-1758135600@austin-ai.org
SUMMARY:Unlocking AI for Small Business Growth Series
DESCRIPTION:Master AI for Business Success! Hands-on 2-hour workshop teaching entrepreneurs how to leverage AI. Small groups\, big results.
URL:https://austin-ai.org/event/unlocking-ai-for-small-business-growth-series-3/
LOCATION:Capital Factory\, 701 Brazos Street\, Floor 8th\, Austin\, TX\, 78701\, United States
ATTACH;FMTTYPE=image/jpeg:https://austin-ai.org/wp-content/uploads/2025/07/4a5188ae749a3453e1f7f0dd69a24459.jpg
GEO:30.268603;-97.741109
X-APPLE-STRUCTURED-LOCATION;VALUE=URI;X-ADDRESS=Capital Factory 701 Brazos Street Floor 8th Austin TX 78701 United States;X-APPLE-RADIUS=500;X-TITLE=701 Brazos Street\, Floor 8th:geo:-97.741109,30.268603
END:VEVENT
END:VCALENDAR