BEGIN:VCALENDAR
VERSION:2.0
PRODID:-//Austin AI Alliance - ECPv6.15.20//NONSGML v1.0//EN
CALSCALE:GREGORIAN
METHOD:PUBLISH
X-ORIGINAL-URL:https://austin-ai.org
X-WR-CALDESC:Events for Austin AI Alliance
REFRESH-INTERVAL;VALUE=DURATION:PT1H
X-Robots-Tag:noindex
X-PUBLISHED-TTL:PT1H
BEGIN:VTIMEZONE
TZID:America/Chicago
BEGIN:DAYLIGHT
TZOFFSETFROM:-0600
TZOFFSETTO:-0500
TZNAME:CDT
DTSTART:20240310T080000
END:DAYLIGHT
BEGIN:STANDARD
TZOFFSETFROM:-0500
TZOFFSETTO:-0600
TZNAME:CST
DTSTART:20241103T070000
END:STANDARD
BEGIN:DAYLIGHT
TZOFFSETFROM:-0600
TZOFFSETTO:-0500
TZNAME:CDT
DTSTART:20250309T080000
END:DAYLIGHT
BEGIN:STANDARD
TZOFFSETFROM:-0500
TZOFFSETTO:-0600
TZNAME:CST
DTSTART:20251102T070000
END:STANDARD
BEGIN:DAYLIGHT
TZOFFSETFROM:-0600
TZOFFSETTO:-0500
TZNAME:CDT
DTSTART:20260308T080000
END:DAYLIGHT
BEGIN:STANDARD
TZOFFSETFROM:-0500
TZOFFSETTO:-0600
TZNAME:CST
DTSTART:20261101T070000
END:STANDARD
END:VTIMEZONE
BEGIN:VEVENT
DTSTART;TZID=America/Chicago:20250916T190000
DTEND;TZID=America/Chicago:20250916T220000
DTSTAMP:20260423T205641
CREATED:20250906T172140Z
LAST-MODIFIED:20250906T172140Z
UID:10000075-1758049200-1758060000@austin-ai.org
SUMMARY:AI & Tech Networking Austin
DESCRIPTION:Come to the best AI Networking Event in Austin and dive into the world of innovations. Pitch to investors\, entrepreneurs and game changers. \n7:00 PM – 7:30 PM – Registration \n\nGuests register\, receive badges\, and event programs. This is an opportunity for casual networking\, making first connections\, and preparing for the event.\n\n\n\n\n7:30 PM – 8:30 PM – Event Kickoff & Interactive Networking \n\nOfficial welcome from the organizers with a brief overview of the event goals and schedule. Interactive networking helps participants set their objectives and connect with key contacts.\n\n\n\n\n8:40 PM – 9:20 PM – Startup Pitch Session \n\nStartups present their projects to investors and experts. Each team has 5 minutes to pitch\, covering the project’s core idea\, business model\, and target market.\n\n\n\n\n9:20 PM – 10:00 PM – Chill & Networking \n\nParticipants enjoy casual conversations with investors\, discuss collaborations\, and exchange ideas over refreshments.
URL:https://austin-ai.org/event/ai-tech-networking-austin-2/
LOCATION:Higby’s\, 720 Brazos Street #Ste B-710\, Austin\, TX\, 78701\, United States
ATTACH;FMTTYPE=image/png:https://austin-ai.org/wp-content/uploads/2025/09/Screenshot-2025-09-06-at-12.21.02-PM.png
END:VEVENT
END:VCALENDAR