BEGIN:VCALENDAR
VERSION:2.0
PRODID:-//Austin AI Alliance - ECPv6.15.20//NONSGML v1.0//EN
CALSCALE:GREGORIAN
METHOD:PUBLISH
X-ORIGINAL-URL:https://austin-ai.org
X-WR-CALDESC:Events for Austin AI Alliance
REFRESH-INTERVAL;VALUE=DURATION:PT1H
X-Robots-Tag:noindex
X-PUBLISHED-TTL:PT1H
BEGIN:VTIMEZONE
TZID:America/Chicago
BEGIN:DAYLIGHT
TZOFFSETFROM:-0600
TZOFFSETTO:-0500
TZNAME:CDT
DTSTART:20240310T080000
END:DAYLIGHT
BEGIN:STANDARD
TZOFFSETFROM:-0500
TZOFFSETTO:-0600
TZNAME:CST
DTSTART:20241103T070000
END:STANDARD
BEGIN:DAYLIGHT
TZOFFSETFROM:-0600
TZOFFSETTO:-0500
TZNAME:CDT
DTSTART:20250309T080000
END:DAYLIGHT
BEGIN:STANDARD
TZOFFSETFROM:-0500
TZOFFSETTO:-0600
TZNAME:CST
DTSTART:20251102T070000
END:STANDARD
BEGIN:DAYLIGHT
TZOFFSETFROM:-0600
TZOFFSETTO:-0500
TZNAME:CDT
DTSTART:20260308T080000
END:DAYLIGHT
BEGIN:STANDARD
TZOFFSETFROM:-0500
TZOFFSETTO:-0600
TZNAME:CST
DTSTART:20261101T070000
END:STANDARD
END:VTIMEZONE
BEGIN:VEVENT
DTSTART;TZID=America/Chicago:20250911T190000
DTEND;TZID=America/Chicago:20250911T210000
DTSTAMP:20260423T205639
CREATED:20250830T120650Z
LAST-MODIFIED:20250830T120650Z
UID:10000074-1757617200-1757624400@austin-ai.org
SUMMARY:Austin Databricks Meetup: Governance with Unity Catalog
DESCRIPTION:Join the Austin Data & AI community for an evening of hands‑on learning\, real‑world demos and networking. This meetup will cover two key topics on the Databricks Lakehouse: secure data governance with Unity Catalog and building & evaluating AI agents. \nAldis Staraczek (Solutions Engineer and Databricks Champion at Qubika) will explain how to design secure and scalable governance across catalogs\, schemas and tables using Unity Catalog. She’ll walk through modeling access\, implementing lineage and auditing for compliance\, and applying promotion patterns across workspaces. \nNicolás Peláez (Generative AI\, Data Science & ML at Databricks) will demonstrate how to design agentic workflows on the Lakehouse\, covering tool use\, retrieval\, orchestration and guardrails. He will show how to evaluate agents using offline/online tests\, task‑success metrics and tracing‑driven iteration\, and how to productionize them with vector search and Unity Catalog integration. \nExpect live demos\, insightful discussions\, food & drinks\, and opportunities to connect with data and AI professionals.
URL:https://austin-ai.org/event/austin-databricks-meetup-governance-with-unity-catalog/
LOCATION:Qubika\, 1141 Shady Ln\, Suite 305\, Austin\, T\, 78721\, United States
END:VEVENT
END:VCALENDAR