BEGIN:VCALENDAR
VERSION:2.0
PRODID:-//Austin AI Alliance - ECPv6.15.20//NONSGML v1.0//EN
CALSCALE:GREGORIAN
METHOD:PUBLISH
X-WR-CALNAME:Austin AI Alliance
X-ORIGINAL-URL:https://austin-ai.org
X-WR-CALDESC:Events for Austin AI Alliance
REFRESH-INTERVAL;VALUE=DURATION:PT1H
X-Robots-Tag:noindex
X-PUBLISHED-TTL:PT1H
BEGIN:VTIMEZONE
TZID:America/Chicago
BEGIN:DAYLIGHT
TZOFFSETFROM:-0600
TZOFFSETTO:-0500
TZNAME:CDT
DTSTART:20240310T080000
END:DAYLIGHT
BEGIN:STANDARD
TZOFFSETFROM:-0500
TZOFFSETTO:-0600
TZNAME:CST
DTSTART:20241103T070000
END:STANDARD
BEGIN:DAYLIGHT
TZOFFSETFROM:-0600
TZOFFSETTO:-0500
TZNAME:CDT
DTSTART:20250309T080000
END:DAYLIGHT
BEGIN:STANDARD
TZOFFSETFROM:-0500
TZOFFSETTO:-0600
TZNAME:CST
DTSTART:20251102T070000
END:STANDARD
BEGIN:DAYLIGHT
TZOFFSETFROM:-0600
TZOFFSETTO:-0500
TZNAME:CDT
DTSTART:20260308T080000
END:DAYLIGHT
BEGIN:STANDARD
TZOFFSETFROM:-0500
TZOFFSETTO:-0600
TZNAME:CST
DTSTART:20261101T070000
END:STANDARD
END:VTIMEZONE
BEGIN:VEVENT
DTSTART;TZID=America/Chicago:20250709T110000
DTEND;TZID=America/Chicago:20250709T140000
DTSTAMP:20260424T005907
CREATED:20250623T175739Z
LAST-MODIFIED:20250623T175739Z
UID:10000029-1752058800-1752069600@austin-ai.org
SUMMARY:Getting Started with Ai for Small Business (In person & Online)
DESCRIPTION:Getting Started with AI for Small Business is a 3-hour class designed for small business owners\, nonprofit professionals\, and creatives who want to work smarter\, not harder. In this session\, you’ll receive an accessible overview of the latest AI applications and strategies that can be implemented at little to no cost. Learn practical ways to integrate AI into your daily operations—automating tasks\, enhancing marketing efforts\, and generating content to boost productivity. Every session comes with a Toolkit of templates\, guides\, and resources to support your journey. This class is eligible for the City of Austin Business Skills Certificate Program. The instructor is Julie Niehoff\, Co-Founder & CMO of Distance Learning Media. \n\n\n\n\nParticipants will also get a free toolkit – a collection of templates\, forms\, worksheets\, software and other helpful resources to help make good use of the information shared in class. \nThis class is availabe live\, in-person at the city’s Small Business Training Room for networking and interaction with the instructor and others in the class. You also have the option to participate virtually\, via Zoom. \n\n\n\n\nEarn A Business Skills Certificate\nThis workshop is eligible for the City of Austin Business Skills Certificate program. Participants who complete six eligible courses in the program are recognized in a public awards ceremony with other local business and community leaders. View eligible classes here — http://bit.ly/AustinSkillsCertificate \n\n\n\n\n\n\n\n\n\n\n\nPhoto: Dec 2023 Certificate Graduates with Austin Mayor\, Kirk Watson \nThe City of Austin is committed to compliance with the Americans with Disabilities Act. Reasonable modifications and equal access to communications will be provided upon request – including translation and interpretation services. For assistance\, please contact the Economic Development Department at 512-974-7819. The City receives and accepts Video Relay Service (VRS) calls from people who are Deaf or hard-of-hearing through Relay Texas 7-1-1.
URL:https://austin-ai.org/event/getting-started-with-ai-for-small-business-in-person-online/
LOCATION:TX
ATTACH;FMTTYPE=image/png:https://austin-ai.org/wp-content/uploads/2025/06/Screenshot-2025-06-23-at-12.54.53-PM.png
END:VEVENT
END:VCALENDAR