BEGIN:VCALENDAR
VERSION:2.0
PRODID:-//Austin AI Alliance - ECPv6.15.20//NONSGML v1.0//EN
CALSCALE:GREGORIAN
METHOD:PUBLISH
X-WR-CALNAME:Austin AI Alliance
X-ORIGINAL-URL:https://austin-ai.org
X-WR-CALDESC:Events for Austin AI Alliance
REFRESH-INTERVAL;VALUE=DURATION:PT1H
X-Robots-Tag:noindex
X-PUBLISHED-TTL:PT1H
BEGIN:VTIMEZONE
TZID:America/Chicago
BEGIN:DAYLIGHT
TZOFFSETFROM:-0600
TZOFFSETTO:-0500
TZNAME:CDT
DTSTART:20240310T080000
END:DAYLIGHT
BEGIN:STANDARD
TZOFFSETFROM:-0500
TZOFFSETTO:-0600
TZNAME:CST
DTSTART:20241103T070000
END:STANDARD
BEGIN:DAYLIGHT
TZOFFSETFROM:-0600
TZOFFSETTO:-0500
TZNAME:CDT
DTSTART:20250309T080000
END:DAYLIGHT
BEGIN:STANDARD
TZOFFSETFROM:-0500
TZOFFSETTO:-0600
TZNAME:CST
DTSTART:20251102T070000
END:STANDARD
BEGIN:DAYLIGHT
TZOFFSETFROM:-0600
TZOFFSETTO:-0500
TZNAME:CDT
DTSTART:20260308T080000
END:DAYLIGHT
BEGIN:STANDARD
TZOFFSETFROM:-0500
TZOFFSETTO:-0600
TZNAME:CST
DTSTART:20261101T070000
END:STANDARD
END:VTIMEZONE
BEGIN:VEVENT
DTSTART;TZID=America/Chicago:20250627T100000
DTEND;TZID=America/Chicago:20250627T120000
DTSTAMP:20260424T025010
CREATED:20250621T152421Z
LAST-MODIFIED:20250621T152546Z
UID:10000026-1751018400-1751025600@austin-ai.org
SUMMARY:Beyond AI / You're a Startup Building Your Roadmap
DESCRIPTION:Build a Successful Roadmap in the Age of AI\nThe rapid advancements and widespread adoption of Artificial Intelligence are fundamentally changing the business landscape\, creating both unprecedented opportunities and significant challenges. Traditional roadmapping approaches\, often built on more stable assumptions and predictable timelines\, are no longer sufficient to navigate this dynamic environment. \nWe will begin by understanding why the rise of AI necessitates a new approach to strategic planning and how AI itself can be leveraged as a powerful tool throughout the roadmap lifecycle\, from initial ideation and data-driven prioritization to real-time execution monitoring and continuous adaptation. \nKey areas covered will include: \nUnderstanding AI’s impact: Identifying the specific ways AI disrupts traditional planning and creates new avenues for growth. \nIntegrating AI into the roadmap process: Learning how AI can enhance market research\, ideation\, prioritization\, execution\, and monitoring. \nEssential components of an AI-aware roadmap: Discussing the critical considerations around data strategy\, technological infrastructure\, talent development\, and the crucial ethical implications of AI. \nStrategies for success: Exploring how to foster a culture of experimentation\, prioritize high-value AI use cases\, and build the organizational agility needed to thrive in an AI-driven world. \nThis lecture is designed for product managers\, strategists\, business leaders\, and anyone involved in shaping the future direction of their organization in an era defined by artificial intelligence.  \nParticipants will gain practical insights and actionable strategies for building roadmaps that are not only resilient and adaptable but also leverage the transformative power of AI to drive innovation and achieve strategic goals.
URL:https://austin-ai.org/event/beyond-ai-youre-a-startup-building-your-roadmap/
LOCATION:TX
ATTACH;FMTTYPE=image/png:https://austin-ai.org/wp-content/uploads/2025/06/Beyond-AI-Youre-a-Startup-Building-Your-Roadmap-Tickets-Fri-Jun-27-2025-at-1000-AM-Eventbrite.jpeg.png
END:VEVENT
END:VCALENDAR